{"text_format":"1","workbook":"xlsx","n_sheets":10,"sheets":["Summary","Semester Summary","Therapy Hours","Supervision Hours","TOTAL Therapy","TOTAL Supervision","Formula Info","AmeriCorps","Definitions (September 2025)","Caseload Management"],"not_rendered":{"charts":0,"images":0,"macros":1,"external_links":0,"defined_names":0,"comments":0,"pivot_tables":0},"unopened":[],"bounds":{"document_bytes":16777216,"sheet_cells":100000,"rows_first":2000,"rows_last":500,"rows_between":2000,"halvings":0,"cell_chars":16384,"cell_head_chars":4096},"cells_cut":0,"cells_raw":0,"read":"whole","date_system":"1900"}

{"sheet":"Summary","index":0,"n_rows":32,"n_cols":13,"rows_kept":32,"cut":false,"hidden":false,"merged":[[31,2,31,3],[31,4,31,5],[27,3,27,4],[11,0,12,0],[23,0,24,0],[23,1,24,1],[23,2,23,5],[19,2,19,5],[22,2,22,5],[0,0,0,7],[11,1,12,1],[11,2,11,5],[13,8,13,12],[7,0,7,1],[10,2,10,5],[8,0,8,1],[9,0,9,1],[3,0,3,1],[4,0,4,1],[5,0,5,1],[6,0,6,1],[1,0,2,1]]}
["Semester Clinical Experience Summary"]
[]
[]
["THERAPIST NAME"]
[]
["SEMESTER"]
[]
["SITE"]
[]
["EXPECTED GRADUATION DATE"]
[null,null,"Hours of Therapy"]
["Dates","MODE OF THERAPY","UNIT/SYSTEM IN THERAPY"]
[null,null,"Individual","Couple","Family","TOTAL"]
["Beginning:","Individual",{"$f":"SUM('Therapy Hours'!C16:C202)/50","v":0},{"$f":"SUM('Therapy Hours'!D16:D202)/50","v":0},{"$f":"SUM('Therapy Hours'!E16:E202)/50","v":0},{"$f":"SUM(C14:E14)","v":0},null,null,"Total Hours of Therapy"]
[{"$f":"IF(Summary!A5=\"\", \"\", IF(AND(Summary!A5=\"Total\", Summary!F18>0), 'TOTAL Therapy'!A14, IF(AND(OR(Summary!A5=\"Fall\", Summary!A5=\"Winter\", Summary!A5=\"Spring\", Summary!A5=\"Summer\"), Summary!F18>0), 'Therapy Hours'!#REF!, \"\")))","v":""},"Group",{"$f":"IF(A5=\"Total\", SUM('TOTAL Therapy'!F14:F1000)/50, IF(OR(A5=\"Fall\", A5=\"Winter\", A5=\"Spring\", A5=\"Summer\"), SUM('Therapy Hours'!F16:F1001)/50, \"\"))","v":""},{"$f":"IF(A5=\"Total\", SUM('TOTAL Therapy'!G14:G1000)/50, IF(OR(A5=\"Fall\", A5=\"Winter\", A5=\"Spring\", A5=\"Summer\"), SUM('Therapy Hours'!G16:G1001)/50, \"\"))","v":""},{"$f":"IF(A5=\"Total\", SUM('TOTAL Therapy'!H14:H1000)/50, IF(OR(A5=\"Fall\", A5=\"Winter\", A5=\"Spring\", A5=\"Summer\"), SUM('Therapy Hours'!H16:H1001)/50, \"\"))","v":""},{"$f":"SUM(C15:E15)","v":0},null,null,null,"Individual","Relational","Combined","Program Requirements"]
[null,"Psychoeducation",{"$f":"IF(A5=\"Total\", SUM('TOTAL Therapy'!I14:I1000)/50, IF(OR(A5=\"Fall\", A5=\"Winter\", A5=\"Spring\", A5=\"Summer\"), SUM('Therapy Hours'!I16:I1001)/50, \"\"))","v":""},{"$f":"IF(A5=\"Total\", SUM('TOTAL Therapy'!J14:J1000)/50, IF(OR(A5=\"Fall\", A5=\"Winter\", A5=\"Spring\", A5=\"Summer\"), SUM('Therapy Hours'!J16:J1001)/50, \"\"))","v":""},{"$f":"IF(A5=\"Total\", SUM('TOTAL Therapy'!K14:K1000)/50, IF(OR(A5=\"Fall\", A5=\"Winter\", A5=\"Spring\", A5=\"Summer\"), SUM('Therapy Hours'!K16:K1001)/50, \"\"))","v":""},0,null,null,"Total To Go",{"$f":"150-C18","v":150},{"$f":"250-(D18+E18)","v":250},{"$f":"400-(F18)","v":400},{"$f":"IF(L17=0, \"No info available\", IF(K17>J17, \"Relational hrs on track\", \"Need more relational hrs\"))","v":"No info available"}]
["Ending:","Team",{"$f":"IF(A5=\"Total\", SUM('TOTAL Therapy'!L14:L1000)/50, IF(OR(A5=\"Fall\", A5=\"Winter\", A5=\"Spring\", A5=\"Summer\"), SUM('Therapy Hours'!L16:L1001)/50, \"\"))","v":""},{"$f":"IF(A5=\"Total\", SUM('TOTAL Therapy'!M14:M1000)/50, IF(OR(A5=\"Fall\", A5=\"Winter\", A5=\"Spring\", A5=\"Summer\"), SUM('Therapy Hours'!M16:M1001)/50, \"\"))","v":""},{"$f":"IF(A5=\"Total\", SUM('TOTAL Therapy'!N14:N1000)/50, IF(OR(A5=\"Fall\", A5=\"Winter\", A5=\"Spring\", A5=\"Summer\"), SUM('Therapy Hours'!N16:N1001)/50, \"\"))","v":""},0,null,null,"Total % Finished",{"$f":"(C18/250)","v":0},{"$f":"(D18+E18)/250","v":0},{"$f":"F18/500","v":0},{"$f":"IF(A9=\"\", \"Select an expected graduation date\", IF(Summary!A9='Formula Info'!#REF!, 'Formula Info'!#REF!, IF(Summary!A9='Formula Info'!#REF!, 'Formula Info'!#REF!, IF(Summary!A9='Formula Info'!#REF!, 'Formula Info'!#REF!, IF(Summary!A9='Formula Info'!C3, 'Formula Info'!H3, IF(Summary!A9='Formula Info'!C4, 'Formula Info'!H4, IF(Summary!A9='Formula Info'!C5, 'Formula Info'!H5, \"\")))))))","v":"Select an expected graduation date"}]
[{"$f":"IF(Summary!A5=\"\", \"\", IF(AND(Summary!A5=\"Total\", Summary!F18>0), LOOKUP(2,1/('TOTAL Therapy'!A14:A1048576<>\"\"),'TOTAL Therapy'!A14:A1048576), IF(AND(OR(Summary!A5=\"Fall\", Summary!A5=\"Winter\", Summary!A5=\"Spring\", Summary!A5=\"Summer\"), Summary!F18>0), LOOKUP(2,1/('Therapy Hours'!A16:A1048576<>\"\"),'Therapy Hours'!A16:A1048576), \"\")))","v":""},"TOTAL",{"$f":"SUM(C14:C17)","v":0},{"$f":"SUM(D14:D17)","v":0},{"$f":"SUM(E14:E17)","v":0},{"$f":"SUM(C18:E18)","v":0}]
[null,"% of Total",{"$f":"IF(F18=0, \"\", C18/F18)","v":""},{"$f":"IF(F18=0, \"\", D18/F18)","v":""},{"$f":"IF(F18=0, \"\", E18/F18)","v":""}]
[null,"Rel. % of Total",{"$f":"SUM(D19:E19)","v":0}]
[]
[]
[null,null,"Hours of Supervision"]
["Dates","MODE OF SUPERVISION","UNIT/SYSTEM IN THERAPY"]
[null,null,"Live","Video","Case Report","TOTAL"]
["Beginning:","Individual",{"$f":"SUM('Supervision Hours'!C15:C300)/60","v":0},{"$f":"SUM('Supervision Hours'!D15:D300)/60","v":0},{"$f":"SUM('Supervision Hours'!E15:E300)/60","v":0},{"$f":"SUM(C26:E26)","v":0}]
[{"$f":"IF(Summary!A5=\"\", \"\", IF(AND(Summary!A5=\"Total\", Summary!F29>0), 'TOTAL Supervision'!A13, IF(AND(OR(Summary!A5=\"Fall\", Summary!A5=\"Winter\", Summary!A5=\"Spring\", Summary!A5=\"Summer\"), Summary!F29>0), 'Supervision Hours'!A15, \"\")))","v":""},"Group",{"$f":"SUM('Supervision Hours'!F15:F300)/60","v":0},{"$f":"SUM('Supervision Hours'!G15:G300)/60","v":0},{"$f":"SUM('Supervision Hours'!H15:H300)/60","v":0},{"$f":"SUM(C27:E27)","v":0}]
[null,"Team",{"$f":"SUM('Supervision Hours'!I15:I300)/60","v":0},"N/A"]
["Ending:","TOTAL",{"$f":"SUM(C26:C28)","v":0},{"$f":"SUM(D26:D28)","v":0},{"$f":"SUM(E26:E28)","v":0},{"$f":"SUM(C29:E29)","v":0}]
[{"$f":"IF(Summary!A5=\"\", \"\", IF(AND(Summary!A5=\"Total\", Summary!F29>0), LOOKUP(2,1/('TOTAL Supervision'!A13:A1048576<>\"\"),'TOTAL Supervision'!A13:A1048576), IF(AND(OR(Summary!A5=\"Fall\", Summary!A5=\"Winter\", Summary!A5=\"Spring\", Summary!A5=\"Summer\"), Summary!F29>0), LOOKUP(2,1/('Supervision Hours'!A15:A1048576<>\"\"),'Supervision Hours'!A15:A1048576), \"\")))","v":""},"% of Total",{"$f":"IF(F29=0, \"\", C29/F29)","v":""},{"$f":"IF(F29=0, \"\", D29/F29)","v":""},{"$f":"IF(F29=0, \"\", E29/F29)","v":""}]
[null,null,"Raw %",{"$f":"IF(AND(C30=\"\", D30=\"\"), \"\", SUM(C30+D30))","v":""},"Sup:Ther",{"$f":"IF(F29=0, \"\", F29/F18)","v":""}]
[null,null,{"$f":"IF(D31=\"\", \"\", IF(D31<0.5, \"Need more raw\", \"On track\"))","v":""},null,{"$f":"IF(F31=\"\", \"\", IF(F31<0.2, \"Need more sup. hrs\", \"On track\"))","v":""}]

{"sheet":"Semester Summary","index":1,"n_rows":191,"n_cols":12,"rows_kept":191,"cut":false,"hidden":false,"merged":[[40,0,40,1],[40,2,40,4],[40,7,40,8],[40,9,40,11],[41,0,41,1],[41,2,41,4],[41,7,41,8],[41,9,41,11],[23,0,23,1],[34,8,34,9],[35,8,35,9],[39,0,39,1],[39,2,39,4],[39,7,39,8],[39,9,39,11],[53,0,53,1],[53,2,53,4],[53,7,53,8],[53,9,53,11],[54,0,54,1],[54,2,54,4],[54,7,54,8],[54,9,54,11],[42,0,43,0],[42,1,42,4],[42,7,43,7],[42,8,42,11],[49,4,50,4],[49,8,49,9],[50,2,50,3],[63,4,64,4],[63,8,63,9],[64,2,64,3],[67,0,67,1],[67,2,67,4],[67,7,67,8],[67,9,67,11],[55,0,55,1],[55,2,55,4],[55,7,55,8],[55,9,55,11],[56,0,57,0],[56,1,56,4],[56,7,57,7],[56,8,56,11],[70,0,71,0],[70,1,70,4],[70,7,71,7],[70,8,70,11],[77,4,78,4],[77,8,77,9],[78,2,78,3],[68,0,68,1],[68,2,68,4],[68,7,68,8],[68,9,68,11],[69,0,69,1],[69,2,69,4],[69,7,69,8],[69,9,69,11],[83,0,83,1],[83,2,83,4],[83,7,83,8],[83,9,83,11],[84,0,85,0],[84,1,84,4],[84,7,85,7],[84,8,84,11],[81,0,81,1],[81,2,81,4],[81,7,81,8],[81,9,81,11],[82,0,82,1],[82,2,82,4],[82,7,82,8],[82,9,82,11],[96,0,96,1],[96,2,96,4],[96,7,96,8],[96,9,96,11],[97,0,97,1],[97,2,97,4],[97,7,97,8],[97,9,97,11],[91,4,92,4],[91,8,91,9],[92,2,92,3],[95,0,95,1],[95,2,95,4],[95,7,95,8],[95,9,95,11],[109,0,109,1],[109,2,109,4],[109,7,109,8],[109,9,109,11],[110,0,110,1],[110,2,110,4],[110,7,110,8],[110,9,110,11],[98,0,99,0],[98,1,98,4],[98,7,99,7],[98,8,98,11],[105,4,106,4],[105,8,105,9],[106,2,106,3],[119,4,120,4],[119,8,119,9],[120,2,120,3],[123,0,123,1],[123,2,123,4],[123,7,123,8],[123,9,123,11],[111,0,111,1],[111,2,111,4],[111,7,111,8],[111,9,111,11],[112,0,113,0],[112,1,112,4],[112,7,113,7],[112,8,112,11],[126,0,127,0],[126,1,126,4],[126,7,127,7],[126,8,126,11],[133,4,134,4],[133,8,133,9],[134,2,134,3],[124,0,124,1],[124,2,124,4],[124,7,124,8],[124,9,124,11],[125,0,125,1],[125,2,125,4],[125,7,125,8],[125,9,125,11],[139,0,139,1],[139,2,139,4],[139,7,139,8],[139,9,139,11],[140,0,141,0],[140,1,140,4],[140,7,141,7],[140,8,140,11],[137,0,137,1],[137,2,137,4],[137,7,137,8],[137,9,137,11],[138,0,138,1],[138,2,138,4],[138,7,138,8],[138,9,138,11],[152,0,152,1],[152,2,152,4],[152,7,152,8],[152,9,152,11],[153,0,153,1],[153,2,153,4],[153,7,153,8],[153,9,153,11],[147,4,148,4],[147,8,147,9],[148,2,148,3],[151,0,151,1],[151,2,151,4],[151,7,151,8],[151,9,151,11],[165,0,165,1],[165,2,165,4],[165,7,165,8],[165,9,165,11],[166,0,166,1],[166,2,166,4],[166,7,166,8],[166,9,166,11],[154,0,155,0],[154,1,154,4],[154,7,155,7],[154,8,154,11],[161,4,162,4],[161,8,161,9],[162,2,162,3],[175,4,176,4],[175,8,175,9],[176,2,176,3],[179,0,179,1],[179,2,179,4],[179,7,179,8],[179,9,179,11],[167,0,167,1],[167,2,167,4],[167,7,167,8],[167,9,167,11],[168,0,169,0],[168,1,168,4],[168,7,169,7],[168,8,168,11],[182,0,183,0],[182,1,182,4],[182,7,183,7],[182,8,182,11],[189,4,190,4],[189,8,189,9],[190,2,190,3],[180,0,180,1],[180,2,180,4],[180,7,180,8],[180,9,180,11],[181,0,181,1],[181,2,181,4],[181,7,181,8],[181,9,181,11],[20,1,20,9],[17,1,17,9],[18,1,18,9],[19,1,19,9],[14,1,14,9],[15,1,16,9],[10,1,10,14],[3,1,3,14],[13,1,13,9],[4,1,4,14],[5,1,5,14],[6,1,6,14],[7,1,7,14],[8,1,8,14],[9,1,9,14]]}
["SEMESTER CLINICAL EXPERIENCE SUMMARY"]
[]
["DEFINITIONS:"]
["Therapy:","Therapy Hour - 50 minutes. Students are responsible for keeping track of therapy minutes and reporting hours at the end of each semester/term"]
[null,"Individual - One client in therapy room"]
[null,"Couple - Two clients in a therapy room where their relationship is the focus of treatment"]
[null,"Family - Two or more family members in the therapy room where their relationship is the focus of treatment (e.g. a mom holding her baby doesn't count)"]
[null,"Group Individual - Group therapy with the above definitions- individuals in attendance"]
[null,"Group Couple - Group therapy with the above definitions. Multiple couples in the group"]
[null,"Group Family - Group therapy with the above definitions. Multiple families in the group"]
[]
[]
["Supervision:","Supervision Hour - 60 minutes. Students are responsible for keeping track of supervision minutes and reporting hours at the end of each semester/term"]
[null,"Individual Live - Supervision of your cases by a supervisor directly observing your work with you and up to 1 other supervisee present."]
[null,"Individual Video - Your case(s) being reviewed by a supervisor using video tape play back with yourself and up to 1 other supervisee present."]
[null,"Individual Case Report - Discussion of cases with 1-2 supervisees present, without any presentation of video, audio or live case material."]
[]
[null,"Group Live - You participate in the supervision of others cases being directly observed by a supervisor with 3-6 in the group"]
[null,"Group Video - Your observe the cases of others as they are being reviewed by a supervisor with 3 to 6 in the group."]
[null,"Group Case Report- Discussion of cases with 3+ supervisees present, without any presentation of video, audio or live case material."]
[]
[]
[]
["INSTRUCTIONS:",null,"Only fill in cells that are blue. The gray cells have formulas which will autocalculate the values. Do not manually add nor delete any values in the gray cells. "]
[]
["Hours of Therapy",null,null,null,null,null,null,"Hours of Supervision"]
[]
["Cumulative therapy hours in program",null,null,null,null,null,null,"Cumulative supervision hours in program"]
[null,null,null,null," "]
["Individual¹",{"$f":"SUM(B45,B59,B73,B87,B101,B115,B129,B143,B157,B171,B185)","v":0},null,0,null,null,null,"Individual Live",{"$f":"SUM(I45,I59,I73,I87,I101,I115,I129,I143,I157,I171,I185)","v":0},"Group Live",{"$f":"SUM(I46,I60,I74,I88,I102,I116,I130,I144,I158,I172,I186)","v":0}]
["Couple",{"$f":"SUM(C45,C59,C73,C87,C101,C115,C129,C143,C157,C171,C185)","v":0},null,0,null,null,null,"Individual Video",{"$f":"SUM(J45,J59,J73,J87,J101,J115,J129,J143,J157,J171,J185)","v":0},"Group Video",{"$f":"SUM(J46,J60,J74,J88,J102,J116,J130,J144,J158,J172,J186)","v":0}]
["Family",{"$f":"SUM(D45,D59,D73,D87,D101,D115,D129,D143,D157,D171,D185)","v":0},null,0,null,null,null,"Individual CR/PN",{"$f":"SUM(K45,K59,K73,K87,K101,K115,K129,K143,K157,K171,K185)","v":0},"Group CR/PN",{"$f":"SUM(K46,K60,K74,K88,K102,K116,K130,K144,K158,K172,K186)","v":0}]
["Group Individual¹",{"$f":"SUM(B46,B60,B74,B88,B102,B116,B130,B144,B158,B172,B186)","v":0},null,0,null,null,null,null,null,"Team Live",0]
["Group Couple",{"$f":"SUM(C46,C60,C74,C88,C102,C116,C130,C144,C158,C172,C186)","v":0},null,0]
["Group Family",{"$f":"SUM(D46,D60,D74,D88,D102,D116,D130,D144,D158,D172,D186)","v":0},null,0,null,null,null,"TOTAL",{"$f":"(SUM((I30:I32):(K30:K33)))","v":0}]
[null,null,null,null,null,null,null,"Raw Data %*",{"$f":"(SUM((I30:I31):(K30:K31)))/(SUM((I30:I32):(K30:K33)))","v":{"$error":"#DIV/0!"}}]
["TOTAL",{"$f":"SUM((B30:B35):(D30:D35))","v":0},"% Relationship Therapy³",{"$f":"((SUM((B31:B32):(B34:B35):(D31:D32):(D34:D35)))/B37)","v":{"$error":"#DIV/0!"}},null,null,null,"Ratio of Supervision to Therapy**","1:",{"$f":"(B37/(SUM((I30:I32):(K30:K33))))","v":{"$error":"#DIV/0!"}}]
[]
[]
["Semester:",null,"1st Year Fall",null,null,null,null,"Semester:",null,"1st Year Fall"]
["Site:",null,"BYU CC",null,null,null,null,"Site:",null,"BYU CC"]
["Beginning/Ending Dates:",null,null,null,null,null,null,"Beginning/Ending Dates:"]
["Mode of Therapy","Unit/System in Therapy",null,null,null,null,null,"Mode of Supervision","Supervision"]
[null,"Individual","Couple","Family","TOTAL",null,null,null,"Live","Video","Case Report","TOTAL"]
["Individual",null,null,null,{"$f":"SUM(B45:D45)","v":0},null,null,"Individual",null,null,null,{"$f":"SUM(I45:K45)","v":0}]
["Group",null,null,null,0,null,null,"Group",null,null,null,0]
["Psychoeducation²",null,null,null,0,null,null,"Team",null,null,null,0]
["Team²",null,null,null,0,null,null,"TOTAL",{"$f":"SUM(I45:I47)","v":0},{"$f":"SUM(J45:J46)","v":0},0,{"$f":"SUM(L45:L47)","v":0}]
["TOTAL",{"$f":"SUM(B45:B48)","v":0},0,0,0,null,null,"% of TOTAL",{"$f":"I48/L48","v":{"$error":"#DIV/0!"}},{"$f":"J48/L48","v":{"$error":"#DIV/0!"}},{"$f":"K48/L48","v":{"$error":"#DIV/0!"}}]
["% of TOTAL",{"$f":"(B49/E49)","v":{"$error":"#DIV/0!"}},{"$f":"(C49/E49)","v":{"$error":"#DIV/0!"}},{"$f":"(D49/E49)","v":{"$error":"#DIV/0!"}},null,null,null,"Raw Data % of Total",{"$f":"SUM(I49:J49)","v":{"$error":"#DIV/0!"}}]
["Relationship % of Total",null,{"$f":"SUM(C50:D50)","v":{"$error":"#DIV/0!"}}]
[]
[]
["Semester:",null,"1st Year Winter",null,null,null,null,"Semester:",null,"1st Year Winter"]
["Site:",null,"BYU CC",null,null,null,null,"Site:",null,"BYU CC"]
["Beginning/Ending Dates:",null,null,null,null,null,null,"Beginning/Ending Dates:"]
["Mode of Therapy","Unit/System in Therapy",null,null,null,null,null,"Mode of Supervision","Supervision"]
[null,"Individual","Couple","Family","TOTAL",null,null,null,"Live","Video","Case Report","TOTAL"]
["Individual",null,null,null,{"$f":"SUM(B59:D59)","v":0},null,null,"Individual",null,null,null,{"$f":"SUM(I59:K59)","v":0}]
["Group",null,null,null,0,null,null,"Group",null,null,null,0]
["Psychoeducation²",null,null,null,0,null,null,"Team",null,null,null,0]
["Team²",null,null,null,0,null,null,"TOTAL",{"$f":"SUM(I59:I61)","v":0},{"$f":"SUM(J59:J60)","v":0},0,{"$f":"SUM(L59:L61)","v":0}]
["TOTAL",{"$f":"SUM(B59:B62)","v":0},0,0,0,null,null,"% of TOTAL",{"$f":"I62/L62","v":{"$error":"#DIV/0!"}},{"$f":"J62/L62","v":{"$error":"#DIV/0!"}},{"$f":"K62/L62","v":{"$error":"#DIV/0!"}}]
["% of TOTAL",{"$f":"(B63/E63)","v":{"$error":"#DIV/0!"}},{"$f":"(C63/E63)","v":{"$error":"#DIV/0!"}},{"$f":"(D63/E63)","v":{"$error":"#DIV/0!"}},null,null,null,"Raw Data % of Total",{"$f":"SUM(I63:J63)","v":{"$error":"#DIV/0!"}}]
["Relationship % of Total",null,{"$f":"SUM(C64:D64)","v":{"$error":"#DIV/0!"}}]
[]
[]
["Semester:",null,"1st Year Spring",null,null,null,null,"Semester:",null,"1st Year Spring"]
["Site:",null,"BYU CC",null,null,null,null,"Site:",null,"BYU CC"]
["Beginning/Ending Dates:",null,null,null,null,null,null,"Beginning/Ending Dates:"]
["Mode of Therapy","Unit/System in Therapy",null,null,null,null,null,"Mode of Supervision","Supervision"]
[null,"Individual","Couple","Family","TOTAL",null,null,null,"Live","Video","Case Report","TOTAL"]
["Individual",null,null,null,{"$f":"SUM(B73:D73)","v":0},null,null,"Individual",null,null,null,{"$f":"SUM(I73:K73)","v":0}]
["Group",null,null,null,0,null,null,"Group",null,null,null,0]
["Psychoeducation²",null,null,null,0,null,null,"Team",null,null,null,0]
["Team²",null,null,null,0,null,null,"TOTAL",{"$f":"SUM(I73:I75)","v":0},{"$f":"SUM(J73:J74)","v":0},{"$f":"SUM(K73:K74)","v":0},{"$f":"SUM(L73:L75)","v":0}]
["TOTAL",{"$f":"SUM(B73:B76)","v":0},0,0,0,null,null,"% of TOTAL",{"$f":"I76/L76","v":{"$error":"#DIV/0!"}},{"$f":"J76/L76","v":{"$error":"#DIV/0!"}},{"$f":"K76/L76","v":{"$error":"#DIV/0!"}}]
["% of TOTAL",{"$f":"(B77/E77)","v":{"$error":"#DIV/0!"}},{"$f":"(C77/E77)","v":{"$error":"#DIV/0!"}},{"$f":"(D77/E77)","v":{"$error":"#DIV/0!"}},null,null,null,"Raw Data % of Total",{"$f":"SUM(I77:J77)","v":{"$error":"#DIV/0!"}}]
["Relationship % of Total",null,{"$f":"SUM(C78:D78)","v":{"$error":"#DIV/0!"}}]
[]
[]
["Semester:",null,"1st Year Summer",null,null,null,null,"Semester:",null,"1st Year Summer"]
["Site:",null,"BYU CC",null,null,null,null,"Site:",null,"BYU CC"]
["Beginning/Ending Dates:",null,null,null,null,null,null,"Beginning/Ending Dates:"]
["Mode of Therapy","Unit/System in Therapy",null,null,null,null,null,"Mode of Supervision","Supervision"]
[null,"Individual","Couple","Family","TOTAL",null,null,null,"Live","Video","Case Report","TOTAL"]
["Individual",null,null,null,{"$f":"SUM(B87:D87)","v":0},null,null,"Individual",null,null,null,{"$f":"SUM(I87:K87)","v":0}]
["Group",null,null,null,0,null,null,"Group",null,null,null,0]
["Psychoeducation²",null,null,null,0,null,null,"Team",null,null,null,0]
["Team²",null,null,null,0,null,null,"TOTAL",{"$f":"SUM(I87:I89)","v":0},{"$f":"SUM(J87:J88)","v":0},0,{"$f":"SUM(L87:L89)","v":0}]
["TOTAL",{"$f":"SUM(B87:B90)","v":0},0,0,0,null,null,"% of TOTAL",{"$f":"I90/L90","v":{"$error":"#DIV/0!"}},{"$f":"J90/L90","v":{"$error":"#DIV/0!"}},{"$f":"K90/L90","v":{"$error":"#DIV/0!"}}]
["% of TOTAL",{"$f":"(B91/E91)","v":{"$error":"#DIV/0!"}},{"$f":"(C91/E91)","v":{"$error":"#DIV/0!"}},{"$f":"(D91/E91)","v":{"$error":"#DIV/0!"}},null,null,null,"Raw Data % of Total",{"$f":"SUM(I91:J91)","v":{"$error":"#DIV/0!"}}]
["Relationship % of Total",null,{"$f":"SUM(C92:D92)","v":{"$error":"#DIV/0!"}}]
[]
[]
["Semester:",null,"2nd Year Fall",null,null,null,null,"Semester:",null,"2nd Year Fall"]
["Site:",null,"BYU CC",null,null,null,null,"Site:",null,"BYU CC"]
["Beginning/Ending Dates:",null,null,null,null,null,null,"Beginning/Ending Dates:"]
["Mode of Therapy","Unit/System in Therapy",null,null,null,null,null,"Mode of Supervision","Supervision"]
[null,"Individual","Couple","Family","TOTAL",null,null,null,"Live","Video","Case Report","TOTAL"]
["Individual",null,null,null,{"$f":"SUM(B101:D101)","v":0},null,null,"Individual",null,null,null,{"$f":"SUM(I101:K101)","v":0}]
["Group",null,null,null,0,null,null,"Group",null,null,null,0]
["Psychoeducation²",null,null,null,0,null,null,"Team",null,null,null,0]
["Team²",null,null,null,0,null,null,"TOTAL",{"$f":"SUM(I101:I103)","v":0},{"$f":"SUM(J101:J102)","v":0},0,{"$f":"SUM(L101:L103)","v":0}]
["TOTAL",{"$f":"SUM(B101:B104)","v":0},0,0,0,null,null,"% of TOTAL",{"$f":"I104/L104","v":{"$error":"#DIV/0!"}},{"$f":"J104/L104","v":{"$error":"#DIV/0!"}},{"$f":"K104/L104","v":{"$error":"#DIV/0!"}}]
["% of TOTAL",{"$f":"(B105/E105)","v":{"$error":"#DIV/0!"}},{"$f":"(C105/E105)","v":{"$error":"#DIV/0!"}},{"$f":"(D105/E105)","v":{"$error":"#DIV/0!"}},null,null,null,"Raw Data % of Total",{"$f":"SUM(I105:J105)","v":{"$error":"#DIV/0!"}}]
["Relationship % of Total",null,{"$f":"SUM(C106:D106)","v":{"$error":"#DIV/0!"}}]
[]
[]
["Semester:",null,"2nd Year Winter",null,null,null,null,"Semester:",null,"2nd Year Winter"]
["Site:",null,"BYU CC",null,null,null,null,"Site:",null,"BYU CC"]
["Beginning/Ending Dates:",null,null,null,null,null,null,"Beginning/Ending Dates:"]
["Mode of Therapy","Unit/System in Therapy",null,null,null,null,null,"Mode of Supervision","Supervision"]
[null,"Individual","Couple","Family","TOTAL",null,null,null,"Live","Video","Case Report","TOTAL"]
["Individual",null,null,null,{"$f":"SUM(B115:D115)","v":0},null,null,"Individual",null,null,null,{"$f":"SUM(I115:K115)","v":0}]
["Group",null,null,null,0,null,null,"Group",null,null,null,0]
["Psychoeducation²",null,null,null,0,null,null,"Team",null,null,null,0]
["Team²",null,null,null,0,null,null,"TOTAL",{"$f":"SUM(I115:I117)","v":0},{"$f":"SUM(J115:J116)","v":0},0,{"$f":"SUM(L115:L117)","v":0}]
["TOTAL",{"$f":"SUM(B115:B118)","v":0},0,0,0,null,null,"% of TOTAL",{"$f":"I118/L118","v":{"$error":"#DIV/0!"}},{"$f":"J118/L118","v":{"$error":"#DIV/0!"}},{"$f":"K118/L118","v":{"$error":"#DIV/0!"}}]
["% of TOTAL",{"$f":"(B119/E119)","v":{"$error":"#DIV/0!"}},{"$f":"(C119/E119)","v":{"$error":"#DIV/0!"}},{"$f":"(D119/E119)","v":{"$error":"#DIV/0!"}},null,null,null,"Raw Data % of Total",{"$f":"SUM(I119:J119)","v":{"$error":"#DIV/0!"}}]
["Relationship % of Total",null,{"$f":"SUM(C120:D120)","v":{"$error":"#DIV/0!"}}]
[]
[]
["Semester:",null,"2nd Year Winter Offsite",null,null,null,null,"Semester:",null,"2nd Year Winter Offsite"]
["Site:",null,null,null,null,null,null,"Site:"]
["Beginning/Ending Dates:",null,null,null,null,null,null,"Beginning/Ending Dates:"]
["Mode of Therapy","Unit/System in Therapy",null,null,null,null,null,"Mode of Supervision","Supervision"]
[null,"Individual","Couple","Family","TOTAL",null,null,null,"Live","Video","Case Report","TOTAL"]
["Individual",null,null,null,{"$f":"SUM(B129:D129)","v":0},null,null,"Individual",null,null,null,{"$f":"SUM(I129:K129)","v":0}]
["Group",null,null,null,0,null,null,"Group",null,null,null,0]
["Psychoeducation²",null,null,null,0,null,null,"Team",null,null,null,0]
["Team²",null,null,null,0,null,null,"TOTAL",{"$f":"SUM(I129:I131)","v":0},{"$f":"SUM(J129:J130)","v":0},0,{"$f":"SUM(L129:L131)","v":0}]
["TOTAL",{"$f":"SUM(B129:B132)","v":0},0,0,0,null,null,"% of TOTAL",{"$f":"I132/L132","v":{"$error":"#DIV/0!"}},{"$f":"J132/L132","v":{"$error":"#DIV/0!"}},{"$f":"K132/L132","v":{"$error":"#DIV/0!"}}]
["% of TOTAL",{"$f":"(B133/E133)","v":{"$error":"#DIV/0!"}},{"$f":"(C133/E133)","v":{"$error":"#DIV/0!"}},{"$f":"(D133/E133)","v":{"$error":"#DIV/0!"}},null,null,null,"Raw Data % of Total",{"$f":"SUM(I133:J133)","v":{"$error":"#DIV/0!"}}]
["Relationship % of Total",null,{"$f":"SUM(C134:D134)","v":{"$error":"#DIV/0!"}}]
[]
[]
["Semester:",null,"2nd Year Spring",null,null,null,null,"Semester:",null,"2nd Year Spring"]
["Site:",null,"BYU CC",null,null,null,null,"Site:",null,"BYU CC"]
["Beginning/Ending Dates:",null,null,null,null,null,null,"Beginning/Ending Dates:"]
["Mode of Therapy","Unit/System in Therapy",null,null,null,null,null,"Mode of Supervision","Supervision"]
[null,"Individual","Couple","Family","TOTAL",null,null,null,"Live","Video","Case Report","TOTAL"]
["Individual",null,null,null,{"$f":"SUM(B143:D143)","v":0},null,null,"Individual",null,null,null,{"$f":"SUM(I143:K143)","v":0}]
["Group",null,null,null,0,null,null,"Group",null,null,null,0]
["Psychoeducation²",null,null,null,0,null,null,"Team",null,null,null,0]
["Team²",null,null,null,0,null,null,"TOTAL",{"$f":"SUM(I143:I145)","v":0},{"$f":"SUM(J143:J144)","v":0},0,{"$f":"SUM(L143:L145)","v":0}]
["TOTAL",{"$f":"SUM(B143:B146)","v":0},0,0,0,null,null,"% of TOTAL",{"$f":"I146/L146","v":{"$error":"#DIV/0!"}},{"$f":"J146/L146","v":{"$error":"#DIV/0!"}},{"$f":"K146/L146","v":{"$error":"#DIV/0!"}}]
["% of TOTAL",{"$f":"(B147/E147)","v":{"$error":"#DIV/0!"}},{"$f":"(C147/E147)","v":{"$error":"#DIV/0!"}},{"$f":"(D147/E147)","v":{"$error":"#DIV/0!"}},null,null,null,"Raw Data % of Total",{"$f":"SUM(I147:J147)","v":{"$error":"#DIV/0!"}}]
["Relationship % of Total",null,{"$f":"SUM(C148:D148)","v":{"$error":"#DIV/0!"}}]
[]
[]
["Semester:",null,"2nd Year Spring Offsite",null,null,null,null,"Semester:",null,"2nd Year Spring Offsite"]
["Site:",null,null,null,null,null,null,"Site:"]
["Beginning/Ending Dates:",null,null,null,null,null,null,"Beginning/Ending Dates:"]
["Mode of Therapy","Unit/System in Therapy",null,null,null,null,null,"Mode of Supervision","Supervision"]
[null,"Individual","Couple","Family","TOTAL",null,null,null,"Live","Video","Case Report","TOTAL"]
["Individual",null,null,null,{"$f":"SUM(B157:D157)","v":0},null,null,"Individual",null,null,null,{"$f":"SUM(I157:K157)","v":0}]
["Group",null,null,null,0,null,null,"Group",null,null,null,0]
["Psychoeducation²",null,null,null,0,null,null,"Team",null,null,null,0]
["Team²",null,null,null,0,null,null,"TOTAL",{"$f":"SUM(I157:I159)","v":0},{"$f":"SUM(J157:J158)","v":0},0,{"$f":"SUM(L157:L159)","v":0}]
["TOTAL",{"$f":"SUM(B157:B160)","v":0},0,0,0,null,null,"% of TOTAL",{"$f":"I160/L160","v":{"$error":"#DIV/0!"}},{"$f":"J160/L160","v":{"$error":"#DIV/0!"}},{"$f":"K160/L160","v":{"$error":"#DIV/0!"}}]
["% of TOTAL",{"$f":"(B161/E161)","v":{"$error":"#DIV/0!"}},{"$f":"(C161/E161)","v":{"$error":"#DIV/0!"}},{"$f":"(D161/E161)","v":{"$error":"#DIV/0!"}},null,null,null,"Raw Data % of Total",{"$f":"SUM(I161:J161)","v":{"$error":"#DIV/0!"}}]
["Relationship % of Total",null,{"$f":"SUM(C162:D162)","v":{"$error":"#DIV/0!"}}]
[]
[]
["Semester:",null,"2nd Year Summer",null,null,null,null,"Semester:",null,"2nd Year Summer"]
["Site:",null,"BYU CC",null,null,null,null,"Site:",null,"BYU CC"]
["Beginning/Ending Dates:",null,null,null,null,null,null,"Beginning/Ending Dates:"]
["Mode of Therapy","Unit/System in Therapy",null,null,null,null,null,"Mode of Supervision","Supervision"]
[null,"Individual","Couple","Family","TOTAL",null,null,null,"Live","Video","Case Report","TOTAL"]
["Individual",null,null,null,{"$f":"SUM(B171:D171)","v":0},null,null,"Individual",null,null,null,{"$f":"SUM(I171:K171)","v":0}]
["Group",null,null,null,0,null,null,"Group",null,null,null,0]
["Psychoeducation²",null,null,null,0,null,null,"Team",null,null,null,0]
["Team²",null,null,null,0,null,null,"TOTAL",{"$f":"SUM(I171:I173)","v":0},{"$f":"SUM(J171:J172)","v":0},0,{"$f":"SUM(L171:L173)","v":0}]
["TOTAL",{"$f":"SUM(B171:B174)","v":0},0,0,0,null,null,"% of TOTAL",{"$f":"I174/L174","v":{"$error":"#DIV/0!"}},{"$f":"J174/L174","v":{"$error":"#DIV/0!"}},{"$f":"K174/L174","v":{"$error":"#DIV/0!"}}]
["% of TOTAL",{"$f":"(B175/E175)","v":{"$error":"#DIV/0!"}},{"$f":"(C175/E175)","v":{"$error":"#DIV/0!"}},{"$f":"(D175/E175)","v":{"$error":"#DIV/0!"}},null,null,null,"Raw Data % of Total",{"$f":"SUM(I175:J175)","v":{"$error":"#DIV/0!"}}]
["Relationship % of Total",null,{"$f":"SUM(C176:D176)","v":{"$error":"#DIV/0!"}}]
[]
[]
["Semester:",null,"2nd Year Summer Offsite",null,null,null,null,"Semester:",null,"2nd Year Summer Offsite"]
["Site:",null,null,null,null,null,null,"Site:"]
["Beginning/Ending Dates:",null,null,null,null,null,null,"Beginning/Ending Dates:"]
["Mode of Therapy","Unit/System in Therapy",null,null,null,null,null,"Mode of Supervision","Supervision"]
[null,"Individual","Couple","Family","TOTAL",null,null,null,"Live","Video","Case Report","TOTAL"]
["Individual",null,null,null,{"$f":"SUM(B185:D185)","v":0},null,null,"Individual",null,null,null,{"$f":"SUM(I185:K185)","v":0}]
["Group",null,null,null,0,null,null,"Group",null,null,null,0]
["Psychoeducation²",null,null,null,0,null,null,"Team",null,null,null,0]
["Team²",null,null,null,0,null,null,"TOTAL",{"$f":"SUM(I185:I187)","v":0},{"$f":"SUM(J185:J186)","v":0},0,{"$f":"SUM(L185:L187)","v":0}]
["TOTAL",{"$f":"SUM(B185:B188)","v":0},0,0,0,null,null,"% of TOTAL",{"$f":"I188/L188","v":{"$error":"#DIV/0!"}},{"$f":"J188/L188","v":{"$error":"#DIV/0!"}},{"$f":"K188/L188","v":{"$error":"#DIV/0!"}}]
["% of TOTAL",{"$f":"(B189/E189)","v":{"$error":"#DIV/0!"}},{"$f":"(C189/E189)","v":{"$error":"#DIV/0!"}},{"$f":"(D189/E189)","v":{"$error":"#DIV/0!"}},null,null,null,"Raw Data % of Total",{"$f":"SUM(I189:J189)","v":{"$error":"#DIV/0!"}}]
["Relationship % of Total",null,{"$f":"SUM(C190:D190)","v":{"$error":"#DIV/0!"}}]

{"sheet":"Therapy Hours","index":2,"n_rows":15,"n_cols":8,"rows_kept":15,"cut":false,"hidden":false,"merged":[[13,0,13,13],[0,0,0,13],[1,0,1,13],[2,0,2,13],[3,0,3,13],[4,0,4,13],[5,0,5,13],[6,0,6,13],[7,0,7,13],[10,0,10,13],[12,0,12,13],[11,0,11,13],[8,0,8,13]]}
["Reporting for Therapy Hours"]
["Guidelines:"]
["Individual - One client in therapy room"]
["Couple - Two clients in a therapy room where their relationship is the focus of treatment"]
["Family - Two or more family members in the therapy room where their relationship is the focus of treatment (e.g. a mom holding her baby doesn't count)"]
["Group Individual - Group therapy with the above definitions- individuals in attendance"]
["Group Couple - Group therapy with the above definitions. Multiple couples in the group"]
["Group Family - Group therapy with the above definitions. Multiple families in the group"]
["Therapy Hour - 50 minutes. Students are responsible for keeping track of therapy minutes and reporting hours at the end of each semester/term"]
[]
[]
[]
[]
["*INPUT IN MINUTES"]
["Date","Case #","Indiv/ Indiv","Indiv/ Couple","Indiv/ Family","Group/ Indiv.","Group/ Couple","Group/ Family"]

{"sheet":"Supervision Hours","index":3,"n_rows":14,"n_cols":8,"rows_kept":14,"cut":false,"hidden":false,"merged":[[12,0,12,8],[0,0,0,8],[1,0,1,8],[2,0,2,8],[3,0,3,8],[6,0,6,8],[7,0,7,8],[10,0,10,8],[9,0,9,8],[4,0,5,8],[8,0,8,8]]}
["Reporting for Supervision Hours"]
["Guidelines:"]
["Individual Live - Supervision of your cases by a supervisor directly observing your work with you and up to 1 other supervisee present."]
["Individual Video - Your case(s) being reviewed by a supervisor using video tape play back with yourself and up to 1 other supervisee present."]
["Individual Case Report - Discussion of cases with 1-2 supervisees present, without any presentation of video, audio or live case material."]
[]
["Group Live - You participate in the supervision of others cases being directly observed by a supervisor with 3-6 in the group"]
["Group Video - Your observe the cases of others as they are being reviewed by a supervisor with 3 to 6 in the group."]
["Group Case Report- Discussion of cases with 3+ supervisees present, without any presentation of video, audio or live case material."]
[]
[]
["Supervision Hour - 60 minutes. Students are responsible for keeping track of supervision minutes and reporting hours at the end of each semester/term"]
["*INPUT IN MINUTES"]
["Date","Approved Supervisor Name","Indiv/ Live","Indiv/ Video","Indiv/Case Report","Group/ Live","Group/ Video","Group/Case Report"]

{"sheet":"TOTAL Therapy","index":4,"n_rows":100,"n_cols":16,"rows_kept":100,"cut":false,"hidden":false,"merged":[[12,8,12,13],[1,14,1,16],[1,0,1,13],[10,0,10,13],[11,0,11,13],[0,0,0,13],[9,0,9,13],[8,0,8,13],[7,0,7,13],[6,0,6,13],[5,0,5,13],[4,0,4,13],[3,0,3,13],[2,0,2,13]]}
["Reporting for Therapy Hours"]
["Guidelines:",null,null,null,null,null,null,null,null,null,null,null,null,null,"TOTAL THERAPY HOURS"]
["Individual - One client.",null,null,null,null,null,null,null,null,null,null,null,null,null,null,{"$f":"SUM(C14:N500)","v":0}]
["Couple - Two clients in a therapy room where their relationship is the focus of treatment."]
["Family - Two or more family members in the therapy room."]
["Group Individual - Group therapy with the above definitions."]
["Group Couple - Group therapy with the above definitions."]
["Group Family - Group therapy with the above definitions."]
[]
["Hour - 50 minutes. Keep track of therapy minutes and at the end of the semester divide by 50."]
[]
["Hours for Mode of Therapy by System in Therapy"]
["Date","Client #","Indiv/ Indiv","Indiv/ Couple","Indiv/ Family","Group/ Indiv.","Group/ Couple","Group/ Family","Do Not Enter Anything in This Box! (It should stay 0 in each cell)"]
[{"$f":"'Therapy Hours'!A16","v":"00:00:00"},{"$f":"'Therapy Hours'!B16","v":0},{"$f":"'Therapy Hours'!C16/50","v":0},{"$f":"'Therapy Hours'!D16/50","v":0},{"$f":"'Therapy Hours'!E16/50","v":0},{"$f":"'Therapy Hours'!F16/50","v":0},{"$f":"'Therapy Hours'!G16/50","v":0},{"$f":"'Therapy Hours'!H16/50","v":0},{"$f":"'Therapy Hours'!I16/50","v":0},{"$f":"'Therapy Hours'!J16/50","v":0},{"$f":"'Therapy Hours'!K16/50","v":0},{"$f":"'Therapy Hours'!L16/50","v":0},{"$f":"'Therapy Hours'!M16/50","v":0},{"$f":"'Therapy Hours'!N16/50","v":0}]
[{"$f":"'Therapy Hours'!A17","v":"00:00:00"},{"$f":"'Therapy Hours'!B17","v":0},{"$f":"'Therapy Hours'!C17/50","v":0},{"$f":"'Therapy Hours'!D17/50","v":0},{"$f":"'Therapy Hours'!E17/50","v":0},{"$f":"'Therapy Hours'!F17/50","v":0},{"$f":"'Therapy Hours'!G17/50","v":0},{"$f":"'Therapy Hours'!H17/50","v":0},{"$f":"'Therapy Hours'!I17/50","v":0},{"$f":"'Therapy Hours'!J17/50","v":0},{"$f":"'Therapy Hours'!K17/50","v":0},{"$f":"'Therapy Hours'!L17/50","v":0},{"$f":"'Therapy Hours'!M17/50","v":0},{"$f":"'Therapy Hours'!N17/50","v":0}]
[{"$f":"'Therapy Hours'!A18","v":"00:00:00"},{"$f":"'Therapy Hours'!B18","v":0},{"$f":"'Therapy Hours'!C18/50","v":0},{"$f":"'Therapy Hours'!D18/50","v":0},{"$f":"'Therapy Hours'!E18/50","v":0},{"$f":"'Therapy Hours'!F18/50","v":0},{"$f":"'Therapy Hours'!G18/50","v":0},{"$f":"'Therapy Hours'!H18/50","v":0},{"$f":"'Therapy Hours'!I18/50","v":0},{"$f":"'Therapy Hours'!J18/50","v":0},{"$f":"'Therapy Hours'!K18/50","v":0},{"$f":"'Therapy Hours'!L18/50","v":0},{"$f":"'Therapy Hours'!M18/50","v":0},{"$f":"'Therapy Hours'!N18/50","v":0}]
[{"$f":"'Therapy Hours'!A19","v":"00:00:00"},{"$f":"'Therapy Hours'!B19","v":0},{"$f":"'Therapy Hours'!C19/50","v":0},{"$f":"'Therapy Hours'!D19/50","v":0},{"$f":"'Therapy Hours'!E19/50","v":0},{"$f":"'Therapy Hours'!F19/50","v":0},{"$f":"'Therapy Hours'!G19/50","v":0},{"$f":"'Therapy Hours'!H19/50","v":0},{"$f":"'Therapy Hours'!I19/50","v":0},{"$f":"'Therapy Hours'!J19/50","v":0},{"$f":"'Therapy Hours'!K19/50","v":0},{"$f":"'Therapy Hours'!L19/50","v":0},{"$f":"'Therapy Hours'!M19/50","v":0},{"$f":"'Therapy Hours'!N19/50","v":0}]
[{"$f":"'Therapy Hours'!A20","v":"00:00:00"},{"$f":"'Therapy Hours'!B20","v":0},{"$f":"'Therapy Hours'!C20/50","v":0},{"$f":"'Therapy Hours'!D20/50","v":0},{"$f":"'Therapy Hours'!E20/50","v":0},{"$f":"'Therapy Hours'!F20/50","v":0},{"$f":"'Therapy Hours'!G20/50","v":0},{"$f":"'Therapy Hours'!H20/50","v":0},{"$f":"'Therapy Hours'!I20/50","v":0},{"$f":"'Therapy Hours'!J20/50","v":0},{"$f":"'Therapy Hours'!K20/50","v":0},{"$f":"'Therapy Hours'!L20/50","v":0},{"$f":"'Therapy Hours'!M20/50","v":0},{"$f":"'Therapy Hours'!N20/50","v":0}]
[{"$f":"'Therapy Hours'!A21","v":"00:00:00"},{"$f":"'Therapy Hours'!B21","v":0},{"$f":"'Therapy Hours'!C21/50","v":0},{"$f":"'Therapy Hours'!D21/50","v":0},{"$f":"'Therapy Hours'!E21/50","v":0},{"$f":"'Therapy Hours'!F21/50","v":0},{"$f":"'Therapy Hours'!G21/50","v":0},{"$f":"'Therapy Hours'!H21/50","v":0},{"$f":"'Therapy Hours'!I21/50","v":0},{"$f":"'Therapy Hours'!J21/50","v":0},{"$f":"'Therapy Hours'!K21/50","v":0},{"$f":"'Therapy Hours'!L21/50","v":0},{"$f":"'Therapy Hours'!M21/50","v":0},{"$f":"'Therapy Hours'!N21/50","v":0}]
[{"$f":"'Therapy Hours'!A22","v":"00:00:00"},{"$f":"'Therapy Hours'!B22","v":0},{"$f":"'Therapy Hours'!C22/50","v":0},{"$f":"'Therapy Hours'!D22/50","v":0},{"$f":"'Therapy Hours'!E22/50","v":0},{"$f":"'Therapy Hours'!F22/50","v":0},{"$f":"'Therapy Hours'!G22/50","v":0},{"$f":"'Therapy Hours'!H22/50","v":0},{"$f":"'Therapy Hours'!I22/50","v":0},{"$f":"'Therapy Hours'!J22/50","v":0},{"$f":"'Therapy Hours'!K22/50","v":0},{"$f":"'Therapy Hours'!L22/50","v":0},{"$f":"'Therapy Hours'!M22/50","v":0},{"$f":"'Therapy Hours'!N22/50","v":0}]
[{"$f":"'Therapy Hours'!A23","v":"00:00:00"},{"$f":"'Therapy Hours'!B23","v":0},{"$f":"'Therapy Hours'!C23/50","v":0},{"$f":"'Therapy Hours'!D23/50","v":0},{"$f":"'Therapy Hours'!E23/50","v":0},{"$f":"'Therapy Hours'!F23/50","v":0},{"$f":"'Therapy Hours'!G23/50","v":0},{"$f":"'Therapy Hours'!H23/50","v":0},{"$f":"'Therapy Hours'!I23/50","v":0},{"$f":"'Therapy Hours'!J23/50","v":0},{"$f":"'Therapy Hours'!K23/50","v":0},{"$f":"'Therapy Hours'!L23/50","v":0},{"$f":"'Therapy Hours'!M23/50","v":0},{"$f":"'Therapy Hours'!N23/50","v":0}]
[{"$f":"'Therapy Hours'!A24","v":"00:00:00"},{"$f":"'Therapy Hours'!B24","v":0},{"$f":"'Therapy Hours'!C24/50","v":0},{"$f":"'Therapy Hours'!D24/50","v":0},{"$f":"'Therapy Hours'!E24/50","v":0},{"$f":"'Therapy Hours'!F24/50","v":0},{"$f":"'Therapy Hours'!G24/50","v":0},{"$f":"'Therapy Hours'!H24/50","v":0},{"$f":"'Therapy Hours'!I24/50","v":0},{"$f":"'Therapy Hours'!J24/50","v":0},{"$f":"'Therapy Hours'!K24/50","v":0},{"$f":"'Therapy Hours'!L24/50","v":0},{"$f":"'Therapy Hours'!M24/50","v":0},{"$f":"'Therapy Hours'!N24/50","v":0}]
[{"$f":"'Therapy Hours'!A25","v":"00:00:00"},{"$f":"'Therapy Hours'!B25","v":0},{"$f":"'Therapy Hours'!C25/50","v":0},{"$f":"'Therapy Hours'!D25/50","v":0},{"$f":"'Therapy Hours'!E25/50","v":0},{"$f":"'Therapy Hours'!F25/50","v":0},{"$f":"'Therapy Hours'!G25/50","v":0},{"$f":"'Therapy Hours'!H25/50","v":0},{"$f":"'Therapy Hours'!I25/50","v":0},{"$f":"'Therapy Hours'!J25/50","v":0},{"$f":"'Therapy Hours'!K25/50","v":0},{"$f":"'Therapy Hours'!L25/50","v":0},{"$f":"'Therapy Hours'!M25/50","v":0},{"$f":"'Therapy Hours'!N25/50","v":0}]
[{"$f":"'Therapy Hours'!A26","v":"00:00:00"},{"$f":"'Therapy Hours'!B26","v":0},{"$f":"'Therapy Hours'!C26/50","v":0},{"$f":"'Therapy Hours'!D26/50","v":0},{"$f":"'Therapy Hours'!E26/50","v":0},{"$f":"'Therapy Hours'!F26/50","v":0},{"$f":"'Therapy Hours'!G26/50","v":0},{"$f":"'Therapy Hours'!H26/50","v":0},{"$f":"'Therapy Hours'!I26/50","v":0},{"$f":"'Therapy Hours'!J26/50","v":0},{"$f":"'Therapy Hours'!K26/50","v":0},{"$f":"'Therapy Hours'!L26/50","v":0},{"$f":"'Therapy Hours'!M26/50","v":0},{"$f":"'Therapy Hours'!N26/50","v":0}]
[{"$f":"'Therapy Hours'!A27","v":"00:00:00"},{"$f":"'Therapy Hours'!B27","v":0},{"$f":"'Therapy Hours'!C27/50","v":0},{"$f":"'Therapy Hours'!D27/50","v":0},{"$f":"'Therapy Hours'!E27/50","v":0},{"$f":"'Therapy Hours'!F27/50","v":0},{"$f":"'Therapy Hours'!G27/50","v":0},{"$f":"'Therapy Hours'!H27/50","v":0},{"$f":"'Therapy Hours'!I27/50","v":0},{"$f":"'Therapy Hours'!J27/50","v":0},{"$f":"'Therapy Hours'!K27/50","v":0},{"$f":"'Therapy Hours'!L27/50","v":0},{"$f":"'Therapy Hours'!M27/50","v":0},{"$f":"'Therapy Hours'!N27/50","v":0}]
[{"$f":"'Therapy Hours'!A28","v":"00:00:00"},{"$f":"'Therapy Hours'!B28","v":0},{"$f":"'Therapy Hours'!C28/50","v":0},{"$f":"'Therapy Hours'!D28/50","v":0},{"$f":"'Therapy Hours'!E28/50","v":0},{"$f":"'Therapy Hours'!F28/50","v":0},{"$f":"'Therapy Hours'!G28/50","v":0},{"$f":"'Therapy Hours'!H28/50","v":0},{"$f":"'Therapy Hours'!I28/50","v":0},{"$f":"'Therapy Hours'!J28/50","v":0},{"$f":"'Therapy Hours'!K28/50","v":0},{"$f":"'Therapy Hours'!L28/50","v":0},{"$f":"'Therapy Hours'!M28/50","v":0},{"$f":"'Therapy Hours'!N28/50","v":0}]
[{"$f":"'Therapy Hours'!A29","v":"00:00:00"},{"$f":"'Therapy Hours'!B29","v":0},{"$f":"'Therapy Hours'!C29/50","v":0},{"$f":"'Therapy Hours'!D29/50","v":0},{"$f":"'Therapy Hours'!E29/50","v":0},{"$f":"'Therapy Hours'!F29/50","v":0},{"$f":"'Therapy Hours'!G29/50","v":0},{"$f":"'Therapy Hours'!H29/50","v":0},{"$f":"'Therapy Hours'!I29/50","v":0},{"$f":"'Therapy Hours'!J29/50","v":0},{"$f":"'Therapy Hours'!K29/50","v":0},{"$f":"'Therapy Hours'!L29/50","v":0},{"$f":"'Therapy Hours'!M29/50","v":0},{"$f":"'Therapy Hours'!N29/50","v":0}]
[{"$f":"'Therapy Hours'!A30","v":"00:00:00"},{"$f":"'Therapy Hours'!B30","v":0},{"$f":"'Therapy Hours'!C30/50","v":0},{"$f":"'Therapy Hours'!D30/50","v":0},{"$f":"'Therapy Hours'!E30/50","v":0},{"$f":"'Therapy Hours'!F30/50","v":0},{"$f":"'Therapy Hours'!G30/50","v":0},{"$f":"'Therapy Hours'!H30/50","v":0},{"$f":"'Therapy Hours'!I30/50","v":0},{"$f":"'Therapy Hours'!J30/50","v":0},{"$f":"'Therapy Hours'!K30/50","v":0},{"$f":"'Therapy Hours'!L30/50","v":0},{"$f":"'Therapy Hours'!M30/50","v":0},{"$f":"'Therapy Hours'!N30/50","v":0}]
[{"$f":"'Therapy Hours'!A31","v":"00:00:00"},{"$f":"'Therapy Hours'!B31","v":0},{"$f":"'Therapy Hours'!C31/50","v":0},{"$f":"'Therapy Hours'!D31/50","v":0},{"$f":"'Therapy Hours'!E31/50","v":0},{"$f":"'Therapy Hours'!F31/50","v":0},{"$f":"'Therapy Hours'!G31/50","v":0},{"$f":"'Therapy Hours'!H31/50","v":0},{"$f":"'Therapy Hours'!I31/50","v":0},{"$f":"'Therapy Hours'!J31/50","v":0},{"$f":"'Therapy Hours'!K31/50","v":0},{"$f":"'Therapy Hours'!L31/50","v":0},{"$f":"'Therapy Hours'!M31/50","v":0},{"$f":"'Therapy Hours'!N31/50","v":0}]
[{"$f":"'Therapy Hours'!A32","v":"00:00:00"},{"$f":"'Therapy Hours'!B32","v":0},{"$f":"'Therapy Hours'!C32/50","v":0},{"$f":"'Therapy Hours'!D32/50","v":0},{"$f":"'Therapy Hours'!E32/50","v":0},{"$f":"'Therapy Hours'!F32/50","v":0},{"$f":"'Therapy Hours'!G32/50","v":0},{"$f":"'Therapy Hours'!H32/50","v":0},{"$f":"'Therapy Hours'!I32/50","v":0},{"$f":"'Therapy Hours'!J32/50","v":0},{"$f":"'Therapy Hours'!K32/50","v":0},{"$f":"'Therapy Hours'!L32/50","v":0},{"$f":"'Therapy Hours'!M32/50","v":0},{"$f":"'Therapy Hours'!N32/50","v":0}]
[{"$f":"'Therapy Hours'!A33","v":"00:00:00"},{"$f":"'Therapy Hours'!B33","v":0},{"$f":"'Therapy Hours'!C33/50","v":0},{"$f":"'Therapy Hours'!D33/50","v":0},{"$f":"'Therapy Hours'!E33/50","v":0},{"$f":"'Therapy Hours'!F33/50","v":0},{"$f":"'Therapy Hours'!G33/50","v":0},{"$f":"'Therapy Hours'!H33/50","v":0},{"$f":"'Therapy Hours'!I33/50","v":0},{"$f":"'Therapy Hours'!J33/50","v":0},{"$f":"'Therapy Hours'!K33/50","v":0},{"$f":"'Therapy Hours'!L33/50","v":0},{"$f":"'Therapy Hours'!M33/50","v":0},{"$f":"'Therapy Hours'!N33/50","v":0}]
[{"$f":"'Therapy Hours'!A34","v":"00:00:00"},{"$f":"'Therapy Hours'!B34","v":0},{"$f":"'Therapy Hours'!C34/50","v":0},{"$f":"'Therapy Hours'!D34/50","v":0},{"$f":"'Therapy Hours'!E34/50","v":0},{"$f":"'Therapy Hours'!F34/50","v":0},{"$f":"'Therapy Hours'!G34/50","v":0},{"$f":"'Therapy Hours'!H34/50","v":0},{"$f":"'Therapy Hours'!I34/50","v":0},{"$f":"'Therapy Hours'!J34/50","v":0},{"$f":"'Therapy Hours'!K34/50","v":0},{"$f":"'Therapy Hours'!L34/50","v":0},{"$f":"'Therapy Hours'!M34/50","v":0},{"$f":"'Therapy Hours'!N34/50","v":0}]
[{"$f":"'Therapy Hours'!A35","v":"00:00:00"},{"$f":"'Therapy Hours'!B35","v":0},{"$f":"'Therapy Hours'!C35/50","v":0},{"$f":"'Therapy Hours'!D35/50","v":0},{"$f":"'Therapy Hours'!E35/50","v":0},{"$f":"'Therapy Hours'!F35/50","v":0},{"$f":"'Therapy Hours'!G35/50","v":0},{"$f":"'Therapy Hours'!H35/50","v":0},{"$f":"'Therapy Hours'!I35/50","v":0},{"$f":"'Therapy Hours'!J35/50","v":0},{"$f":"'Therapy Hours'!K35/50","v":0},{"$f":"'Therapy Hours'!L35/50","v":0},{"$f":"'Therapy Hours'!M35/50","v":0},{"$f":"'Therapy Hours'!N35/50","v":0}]
[{"$f":"'Therapy Hours'!A36","v":"00:00:00"},{"$f":"'Therapy Hours'!B36","v":0},{"$f":"'Therapy Hours'!C36/50","v":0},{"$f":"'Therapy Hours'!D36/50","v":0},{"$f":"'Therapy Hours'!E36/50","v":0},{"$f":"'Therapy Hours'!F36/50","v":0},{"$f":"'Therapy Hours'!G36/50","v":0},{"$f":"'Therapy Hours'!H36/50","v":0},{"$f":"'Therapy Hours'!I36/50","v":0},{"$f":"'Therapy Hours'!J36/50","v":0},{"$f":"'Therapy Hours'!K36/50","v":0},{"$f":"'Therapy Hours'!L36/50","v":0},{"$f":"'Therapy Hours'!M36/50","v":0},{"$f":"'Therapy Hours'!N36/50","v":0}]
[{"$f":"'Therapy Hours'!A37","v":"00:00:00"},{"$f":"'Therapy Hours'!B37","v":0},{"$f":"'Therapy Hours'!C37/50","v":0},{"$f":"'Therapy Hours'!D37/50","v":0},{"$f":"'Therapy Hours'!E37/50","v":0},{"$f":"'Therapy Hours'!F37/50","v":0},{"$f":"'Therapy Hours'!G37/50","v":0},{"$f":"'Therapy Hours'!H37/50","v":0},{"$f":"'Therapy Hours'!I37/50","v":0},{"$f":"'Therapy Hours'!J37/50","v":0},{"$f":"'Therapy Hours'!K37/50","v":0},{"$f":"'Therapy Hours'!L37/50","v":0},{"$f":"'Therapy Hours'!M37/50","v":0},{"$f":"'Therapy Hours'!N37/50","v":0}]
[{"$f":"'Therapy Hours'!A38","v":"00:00:00"},{"$f":"'Therapy Hours'!B38","v":0},{"$f":"'Therapy Hours'!C38/50","v":0},{"$f":"'Therapy Hours'!D38/50","v":0},{"$f":"'Therapy Hours'!E38/50","v":0},{"$f":"'Therapy Hours'!F38/50","v":0},{"$f":"'Therapy Hours'!G38/50","v":0},{"$f":"'Therapy Hours'!H38/50","v":0},{"$f":"'Therapy Hours'!I38/50","v":0},{"$f":"'Therapy Hours'!J38/50","v":0},{"$f":"'Therapy Hours'!K38/50","v":0},{"$f":"'Therapy Hours'!L38/50","v":0},{"$f":"'Therapy Hours'!M38/50","v":0},{"$f":"'Therapy Hours'!N38/50","v":0}]
[{"$f":"'Therapy Hours'!A39","v":"00:00:00"},{"$f":"'Therapy Hours'!B39","v":0},{"$f":"'Therapy Hours'!C39/50","v":0},{"$f":"'Therapy Hours'!D39/50","v":0},{"$f":"'Therapy Hours'!E39/50","v":0},{"$f":"'Therapy Hours'!F39/50","v":0},{"$f":"'Therapy Hours'!G39/50","v":0},{"$f":"'Therapy Hours'!H39/50","v":0},{"$f":"'Therapy Hours'!I39/50","v":0},{"$f":"'Therapy Hours'!J39/50","v":0},{"$f":"'Therapy Hours'!K39/50","v":0},{"$f":"'Therapy Hours'!L39/50","v":0},{"$f":"'Therapy Hours'!M39/50","v":0},{"$f":"'Therapy Hours'!N39/50","v":0}]
[{"$f":"'Therapy Hours'!A40","v":"00:00:00"},{"$f":"'Therapy Hours'!B40","v":0},{"$f":"'Therapy Hours'!C40/50","v":0},{"$f":"'Therapy Hours'!D40/50","v":0},{"$f":"'Therapy Hours'!E40/50","v":0},{"$f":"'Therapy Hours'!F40/50","v":0},{"$f":"'Therapy Hours'!G40/50","v":0},{"$f":"'Therapy Hours'!H40/50","v":0},{"$f":"'Therapy Hours'!I40/50","v":0},{"$f":"'Therapy Hours'!J40/50","v":0},{"$f":"'Therapy Hours'!K40/50","v":0},{"$f":"'Therapy Hours'!L40/50","v":0},{"$f":"'Therapy Hours'!M40/50","v":0},{"$f":"'Therapy Hours'!N40/50","v":0}]
[{"$f":"'Therapy Hours'!A41","v":"00:00:00"},{"$f":"'Therapy Hours'!B41","v":0},{"$f":"'Therapy Hours'!C41/50","v":0},{"$f":"'Therapy Hours'!D41/50","v":0},{"$f":"'Therapy Hours'!E41/50","v":0},{"$f":"'Therapy Hours'!F41/50","v":0},{"$f":"'Therapy Hours'!G41/50","v":0},{"$f":"'Therapy Hours'!H41/50","v":0},{"$f":"'Therapy Hours'!I41/50","v":0},{"$f":"'Therapy Hours'!J41/50","v":0},{"$f":"'Therapy Hours'!K41/50","v":0},{"$f":"'Therapy Hours'!L41/50","v":0},{"$f":"'Therapy Hours'!M41/50","v":0},{"$f":"'Therapy Hours'!N41/50","v":0}]
[{"$f":"'Therapy Hours'!A42","v":"00:00:00"},{"$f":"'Therapy Hours'!B42","v":0},{"$f":"'Therapy Hours'!C42/50","v":0},{"$f":"'Therapy Hours'!D42/50","v":0},{"$f":"'Therapy Hours'!E42/50","v":0},{"$f":"'Therapy Hours'!F42/50","v":0},{"$f":"'Therapy Hours'!G42/50","v":0},{"$f":"'Therapy Hours'!H42/50","v":0},{"$f":"'Therapy Hours'!I42/50","v":0},{"$f":"'Therapy Hours'!J42/50","v":0},{"$f":"'Therapy Hours'!K42/50","v":0},{"$f":"'Therapy Hours'!L42/50","v":0},{"$f":"'Therapy Hours'!M42/50","v":0},{"$f":"'Therapy Hours'!N42/50","v":0}]
[{"$f":"'Therapy Hours'!A43","v":"00:00:00"},{"$f":"'Therapy Hours'!B43","v":0},{"$f":"'Therapy Hours'!C43/50","v":0},{"$f":"'Therapy Hours'!D43/50","v":0},{"$f":"'Therapy Hours'!E43/50","v":0},{"$f":"'Therapy Hours'!F43/50","v":0},{"$f":"'Therapy Hours'!G43/50","v":0},{"$f":"'Therapy Hours'!H43/50","v":0},{"$f":"'Therapy Hours'!I43/50","v":0},{"$f":"'Therapy Hours'!J43/50","v":0},{"$f":"'Therapy Hours'!K43/50","v":0},{"$f":"'Therapy Hours'!L43/50","v":0},{"$f":"'Therapy Hours'!M43/50","v":0},{"$f":"'Therapy Hours'!N43/50","v":0}]
[{"$f":"'Therapy Hours'!A44","v":"00:00:00"},{"$f":"'Therapy Hours'!B44","v":0},{"$f":"'Therapy Hours'!C44/50","v":0},{"$f":"'Therapy Hours'!D44/50","v":0},{"$f":"'Therapy Hours'!E44/50","v":0},{"$f":"'Therapy Hours'!F44/50","v":0},{"$f":"'Therapy Hours'!G44/50","v":0},{"$f":"'Therapy Hours'!H44/50","v":0},{"$f":"'Therapy Hours'!I44/50","v":0},{"$f":"'Therapy Hours'!J44/50","v":0},{"$f":"'Therapy Hours'!K44/50","v":0},{"$f":"'Therapy Hours'!L44/50","v":0},{"$f":"'Therapy Hours'!M44/50","v":0},{"$f":"'Therapy Hours'!N44/50","v":0}]
[{"$f":"'Therapy Hours'!A45","v":"00:00:00"},{"$f":"'Therapy Hours'!B45","v":0},{"$f":"'Therapy Hours'!C45/50","v":0},{"$f":"'Therapy Hours'!D45/50","v":0},{"$f":"'Therapy Hours'!E45/50","v":0},{"$f":"'Therapy Hours'!F45/50","v":0},{"$f":"'Therapy Hours'!G45/50","v":0},{"$f":"'Therapy Hours'!H45/50","v":0},{"$f":"'Therapy Hours'!I45/50","v":0},{"$f":"'Therapy Hours'!J45/50","v":0},{"$f":"'Therapy Hours'!K45/50","v":0},{"$f":"'Therapy Hours'!L45/50","v":0},{"$f":"'Therapy Hours'!M45/50","v":0},{"$f":"'Therapy Hours'!N45/50","v":0}]
[{"$f":"'Therapy Hours'!A46","v":"00:00:00"},{"$f":"'Therapy Hours'!B46","v":0},{"$f":"'Therapy Hours'!C46/50","v":0},{"$f":"'Therapy Hours'!D46/50","v":0},{"$f":"'Therapy Hours'!E46/50","v":0},{"$f":"'Therapy Hours'!F46/50","v":0},{"$f":"'Therapy Hours'!G46/50","v":0},{"$f":"'Therapy Hours'!H46/50","v":0},{"$f":"'Therapy Hours'!I46/50","v":0},{"$f":"'Therapy Hours'!J46/50","v":0},{"$f":"'Therapy Hours'!K46/50","v":0},{"$f":"'Therapy Hours'!L46/50","v":0},{"$f":"'Therapy Hours'!M46/50","v":0},{"$f":"'Therapy Hours'!N46/50","v":0}]
[{"$f":"'Therapy Hours'!A47","v":"00:00:00"},{"$f":"'Therapy Hours'!B47","v":0},{"$f":"'Therapy Hours'!C47/50","v":0},{"$f":"'Therapy Hours'!D47/50","v":0},{"$f":"'Therapy Hours'!E47/50","v":0},{"$f":"'Therapy Hours'!F47/50","v":0},{"$f":"'Therapy Hours'!G47/50","v":0},{"$f":"'Therapy Hours'!H47/50","v":0},{"$f":"'Therapy Hours'!I47/50","v":0},{"$f":"'Therapy Hours'!J47/50","v":0},{"$f":"'Therapy Hours'!K47/50","v":0},{"$f":"'Therapy Hours'!L47/50","v":0},{"$f":"'Therapy Hours'!M47/50","v":0},{"$f":"'Therapy Hours'!N47/50","v":0}]
[{"$f":"'Therapy Hours'!A48","v":"00:00:00"},{"$f":"'Therapy Hours'!B48","v":0},{"$f":"'Therapy Hours'!C48/50","v":0},{"$f":"'Therapy Hours'!D48/50","v":0},{"$f":"'Therapy Hours'!E48/50","v":0},{"$f":"'Therapy Hours'!F48/50","v":0},{"$f":"'Therapy Hours'!G48/50","v":0},{"$f":"'Therapy Hours'!H48/50","v":0},{"$f":"'Therapy Hours'!I48/50","v":0},{"$f":"'Therapy Hours'!J48/50","v":0},{"$f":"'Therapy Hours'!K48/50","v":0},{"$f":"'Therapy Hours'!L48/50","v":0},{"$f":"'Therapy Hours'!M48/50","v":0},{"$f":"'Therapy Hours'!N48/50","v":0}]
[{"$f":"'Therapy Hours'!A49","v":"00:00:00"},{"$f":"'Therapy Hours'!B49","v":0},{"$f":"'Therapy Hours'!C49/50","v":0},{"$f":"'Therapy Hours'!D49/50","v":0},{"$f":"'Therapy Hours'!E49/50","v":0},{"$f":"'Therapy Hours'!F49/50","v":0},{"$f":"'Therapy Hours'!G49/50","v":0},{"$f":"'Therapy Hours'!H49/50","v":0},{"$f":"'Therapy Hours'!I49/50","v":0},{"$f":"'Therapy Hours'!J49/50","v":0},{"$f":"'Therapy Hours'!K49/50","v":0},{"$f":"'Therapy Hours'!L49/50","v":0},{"$f":"'Therapy Hours'!M49/50","v":0},{"$f":"'Therapy Hours'!N49/50","v":0}]
[{"$f":"'Therapy Hours'!A50","v":"00:00:00"},{"$f":"'Therapy Hours'!B50","v":0},{"$f":"'Therapy Hours'!C50/50","v":0},{"$f":"'Therapy Hours'!D50/50","v":0},{"$f":"'Therapy Hours'!E50/50","v":0},{"$f":"'Therapy Hours'!F50/50","v":0},{"$f":"'Therapy Hours'!G50/50","v":0},{"$f":"'Therapy Hours'!H50/50","v":0},{"$f":"'Therapy Hours'!I50/50","v":0},{"$f":"'Therapy Hours'!J50/50","v":0},{"$f":"'Therapy Hours'!K50/50","v":0},{"$f":"'Therapy Hours'!L50/50","v":0},{"$f":"'Therapy Hours'!M50/50","v":0},{"$f":"'Therapy Hours'!N50/50","v":0}]
[{"$f":"'Therapy Hours'!A51","v":"00:00:00"},{"$f":"'Therapy Hours'!B51","v":0},{"$f":"'Therapy Hours'!C51/50","v":0},{"$f":"'Therapy Hours'!D51/50","v":0},{"$f":"'Therapy Hours'!E51/50","v":0},{"$f":"'Therapy Hours'!F51/50","v":0},{"$f":"'Therapy Hours'!G51/50","v":0},{"$f":"'Therapy Hours'!H51/50","v":0},{"$f":"'Therapy Hours'!I51/50","v":0},{"$f":"'Therapy Hours'!J51/50","v":0},{"$f":"'Therapy Hours'!K51/50","v":0},{"$f":"'Therapy Hours'!L51/50","v":0},{"$f":"'Therapy Hours'!M51/50","v":0},{"$f":"'Therapy Hours'!N51/50","v":0}]
[{"$f":"'Therapy Hours'!A52","v":"00:00:00"},{"$f":"'Therapy Hours'!B52","v":0},{"$f":"'Therapy Hours'!C52/50","v":0},{"$f":"'Therapy Hours'!D52/50","v":0},{"$f":"'Therapy Hours'!E52/50","v":0},{"$f":"'Therapy Hours'!F52/50","v":0},{"$f":"'Therapy Hours'!G52/50","v":0},{"$f":"'Therapy Hours'!H52/50","v":0},{"$f":"'Therapy Hours'!I52/50","v":0},{"$f":"'Therapy Hours'!J52/50","v":0},{"$f":"'Therapy Hours'!K52/50","v":0},{"$f":"'Therapy Hours'!L52/50","v":0},{"$f":"'Therapy Hours'!M52/50","v":0},{"$f":"'Therapy Hours'!N52/50","v":0}]
[{"$f":"'Therapy Hours'!A53","v":"00:00:00"},{"$f":"'Therapy Hours'!B53","v":0},{"$f":"'Therapy Hours'!C53/50","v":0},{"$f":"'Therapy Hours'!D53/50","v":0},{"$f":"'Therapy Hours'!E53/50","v":0},{"$f":"'Therapy Hours'!F53/50","v":0},{"$f":"'Therapy Hours'!G53/50","v":0},{"$f":"'Therapy Hours'!H53/50","v":0},{"$f":"'Therapy Hours'!I53/50","v":0},{"$f":"'Therapy Hours'!J53/50","v":0},{"$f":"'Therapy Hours'!K53/50","v":0},{"$f":"'Therapy Hours'!L53/50","v":0},{"$f":"'Therapy Hours'!M53/50","v":0},{"$f":"'Therapy Hours'!N53/50","v":0}]
[{"$f":"'Therapy Hours'!A54","v":"00:00:00"},{"$f":"'Therapy Hours'!B54","v":0},{"$f":"'Therapy Hours'!C54/50","v":0},{"$f":"'Therapy Hours'!D54/50","v":0},{"$f":"'Therapy Hours'!E54/50","v":0},{"$f":"'Therapy Hours'!F54/50","v":0},{"$f":"'Therapy Hours'!G54/50","v":0},{"$f":"'Therapy Hours'!H54/50","v":0},{"$f":"'Therapy Hours'!I54/50","v":0},{"$f":"'Therapy Hours'!J54/50","v":0},{"$f":"'Therapy Hours'!K54/50","v":0},{"$f":"'Therapy Hours'!L54/50","v":0},{"$f":"'Therapy Hours'!M54/50","v":0},{"$f":"'Therapy Hours'!N54/50","v":0}]
[{"$f":"'Therapy Hours'!A55","v":"00:00:00"},{"$f":"'Therapy Hours'!B55","v":0},{"$f":"'Therapy Hours'!C55/50","v":0},{"$f":"'Therapy Hours'!D55/50","v":0},{"$f":"'Therapy Hours'!E55/50","v":0},{"$f":"'Therapy Hours'!F55/50","v":0},{"$f":"'Therapy Hours'!G55/50","v":0},{"$f":"'Therapy Hours'!H55/50","v":0},{"$f":"'Therapy Hours'!I55/50","v":0},{"$f":"'Therapy Hours'!J55/50","v":0},{"$f":"'Therapy Hours'!K55/50","v":0},{"$f":"'Therapy Hours'!L55/50","v":0},{"$f":"'Therapy Hours'!M55/50","v":0},{"$f":"'Therapy Hours'!N55/50","v":0}]
[{"$f":"'Therapy Hours'!A56","v":"00:00:00"},{"$f":"'Therapy Hours'!B56","v":0},{"$f":"'Therapy Hours'!C56/50","v":0},{"$f":"'Therapy Hours'!D56/50","v":0},{"$f":"'Therapy Hours'!E56/50","v":0},{"$f":"'Therapy Hours'!F56/50","v":0},{"$f":"'Therapy Hours'!G56/50","v":0},{"$f":"'Therapy Hours'!H56/50","v":0},{"$f":"'Therapy Hours'!I56/50","v":0},{"$f":"'Therapy Hours'!J56/50","v":0},{"$f":"'Therapy Hours'!K56/50","v":0},{"$f":"'Therapy Hours'!L56/50","v":0},{"$f":"'Therapy Hours'!M56/50","v":0},{"$f":"'Therapy Hours'!N56/50","v":0}]
[{"$f":"'Therapy Hours'!A57","v":"00:00:00"},{"$f":"'Therapy Hours'!B57","v":0},{"$f":"'Therapy Hours'!C57/50","v":0},{"$f":"'Therapy Hours'!D57/50","v":0},{"$f":"'Therapy Hours'!E57/50","v":0},{"$f":"'Therapy Hours'!F57/50","v":0},{"$f":"'Therapy Hours'!G57/50","v":0},{"$f":"'Therapy Hours'!H57/50","v":0},{"$f":"'Therapy Hours'!I57/50","v":0},{"$f":"'Therapy Hours'!J57/50","v":0},{"$f":"'Therapy Hours'!K57/50","v":0},{"$f":"'Therapy Hours'!L57/50","v":0},{"$f":"'Therapy Hours'!M57/50","v":0},{"$f":"'Therapy Hours'!N57/50","v":0}]
[{"$f":"'Therapy Hours'!A58","v":"00:00:00"},{"$f":"'Therapy Hours'!B58","v":0},{"$f":"'Therapy Hours'!C58/50","v":0},{"$f":"'Therapy Hours'!D58/50","v":0},{"$f":"'Therapy Hours'!E58/50","v":0},{"$f":"'Therapy Hours'!F58/50","v":0},{"$f":"'Therapy Hours'!G58/50","v":0},{"$f":"'Therapy Hours'!H58/50","v":0},{"$f":"'Therapy Hours'!I58/50","v":0},{"$f":"'Therapy Hours'!J58/50","v":0},{"$f":"'Therapy Hours'!K58/50","v":0},{"$f":"'Therapy Hours'!L58/50","v":0},{"$f":"'Therapy Hours'!M58/50","v":0},{"$f":"'Therapy Hours'!N58/50","v":0}]
[{"$f":"'Therapy Hours'!A59","v":"00:00:00"},{"$f":"'Therapy Hours'!B59","v":0},{"$f":"'Therapy Hours'!C59/50","v":0},{"$f":"'Therapy Hours'!D59/50","v":0},{"$f":"'Therapy Hours'!E59/50","v":0},{"$f":"'Therapy Hours'!F59/50","v":0},{"$f":"'Therapy Hours'!G59/50","v":0},{"$f":"'Therapy Hours'!H59/50","v":0},{"$f":"'Therapy Hours'!I59/50","v":0},{"$f":"'Therapy Hours'!J59/50","v":0},{"$f":"'Therapy Hours'!K59/50","v":0},{"$f":"'Therapy Hours'!L59/50","v":0},{"$f":"'Therapy Hours'!M59/50","v":0},{"$f":"'Therapy Hours'!N59/50","v":0}]
[{"$f":"'Therapy Hours'!A60","v":"00:00:00"},{"$f":"'Therapy Hours'!B60","v":0},{"$f":"'Therapy Hours'!C60/50","v":0},{"$f":"'Therapy Hours'!D60/50","v":0},{"$f":"'Therapy Hours'!E60/50","v":0},{"$f":"'Therapy Hours'!F60/50","v":0},{"$f":"'Therapy Hours'!G60/50","v":0},{"$f":"'Therapy Hours'!H60/50","v":0},{"$f":"'Therapy Hours'!I60/50","v":0},{"$f":"'Therapy Hours'!J60/50","v":0},{"$f":"'Therapy Hours'!K60/50","v":0},{"$f":"'Therapy Hours'!L60/50","v":0},{"$f":"'Therapy Hours'!M60/50","v":0},{"$f":"'Therapy Hours'!N60/50","v":0}]
[{"$f":"'Therapy Hours'!A61","v":"00:00:00"},{"$f":"'Therapy Hours'!B61","v":0},{"$f":"'Therapy Hours'!C61/50","v":0},{"$f":"'Therapy Hours'!D61/50","v":0},{"$f":"'Therapy Hours'!E61/50","v":0},{"$f":"'Therapy Hours'!F61/50","v":0},{"$f":"'Therapy Hours'!G61/50","v":0},{"$f":"'Therapy Hours'!H61/50","v":0},{"$f":"'Therapy Hours'!I61/50","v":0},{"$f":"'Therapy Hours'!J61/50","v":0},{"$f":"'Therapy Hours'!K61/50","v":0},{"$f":"'Therapy Hours'!L61/50","v":0},{"$f":"'Therapy Hours'!M61/50","v":0},{"$f":"'Therapy Hours'!N61/50","v":0}]
[{"$f":"'Therapy Hours'!A62","v":"00:00:00"},{"$f":"'Therapy Hours'!B62","v":0},{"$f":"'Therapy Hours'!C62/50","v":0},{"$f":"'Therapy Hours'!D62/50","v":0},{"$f":"'Therapy Hours'!E62/50","v":0},{"$f":"'Therapy Hours'!F62/50","v":0},{"$f":"'Therapy Hours'!G62/50","v":0},{"$f":"'Therapy Hours'!H62/50","v":0},{"$f":"'Therapy Hours'!I62/50","v":0},{"$f":"'Therapy Hours'!J62/50","v":0},{"$f":"'Therapy Hours'!K62/50","v":0},{"$f":"'Therapy Hours'!L62/50","v":0},{"$f":"'Therapy Hours'!M62/50","v":0},{"$f":"'Therapy Hours'!N62/50","v":0}]
[{"$f":"'Therapy Hours'!A63","v":"00:00:00"},{"$f":"'Therapy Hours'!B63","v":0},{"$f":"'Therapy Hours'!C63/50","v":0},{"$f":"'Therapy Hours'!D63/50","v":0},{"$f":"'Therapy Hours'!E63/50","v":0},{"$f":"'Therapy Hours'!F63/50","v":0},{"$f":"'Therapy Hours'!G63/50","v":0},{"$f":"'Therapy Hours'!H63/50","v":0},{"$f":"'Therapy Hours'!I63/50","v":0},{"$f":"'Therapy Hours'!J63/50","v":0},{"$f":"'Therapy Hours'!K63/50","v":0},{"$f":"'Therapy Hours'!L63/50","v":0},{"$f":"'Therapy Hours'!M63/50","v":0},{"$f":"'Therapy Hours'!N63/50","v":0}]
[{"$f":"'Therapy Hours'!A64","v":"00:00:00"},{"$f":"'Therapy Hours'!B64","v":0},{"$f":"'Therapy Hours'!C64/50","v":0},{"$f":"'Therapy Hours'!D64/50","v":0},{"$f":"'Therapy Hours'!E64/50","v":0},{"$f":"'Therapy Hours'!F64/50","v":0},{"$f":"'Therapy Hours'!G64/50","v":0},{"$f":"'Therapy Hours'!H64/50","v":0},{"$f":"'Therapy Hours'!I64/50","v":0},{"$f":"'Therapy Hours'!J64/50","v":0},{"$f":"'Therapy Hours'!K64/50","v":0},{"$f":"'Therapy Hours'!L64/50","v":0},{"$f":"'Therapy Hours'!M64/50","v":0},{"$f":"'Therapy Hours'!N64/50","v":0}]
[{"$f":"'Therapy Hours'!A65","v":"00:00:00"},{"$f":"'Therapy Hours'!B65","v":0},{"$f":"'Therapy Hours'!C65/50","v":0},{"$f":"'Therapy Hours'!D65/50","v":0},{"$f":"'Therapy Hours'!E65/50","v":0},{"$f":"'Therapy Hours'!F65/50","v":0},{"$f":"'Therapy Hours'!G65/50","v":0},{"$f":"'Therapy Hours'!H65/50","v":0},{"$f":"'Therapy Hours'!I65/50","v":0},{"$f":"'Therapy Hours'!J65/50","v":0},{"$f":"'Therapy Hours'!K65/50","v":0},{"$f":"'Therapy Hours'!L65/50","v":0},{"$f":"'Therapy Hours'!M65/50","v":0},{"$f":"'Therapy Hours'!N65/50","v":0}]
[{"$f":"'Therapy Hours'!A66","v":"00:00:00"},{"$f":"'Therapy Hours'!B66","v":0},{"$f":"'Therapy Hours'!C66/50","v":0},{"$f":"'Therapy Hours'!D66/50","v":0},{"$f":"'Therapy Hours'!E66/50","v":0},{"$f":"'Therapy Hours'!F66/50","v":0},{"$f":"'Therapy Hours'!G66/50","v":0},{"$f":"'Therapy Hours'!H66/50","v":0},{"$f":"'Therapy Hours'!I66/50","v":0},{"$f":"'Therapy Hours'!J66/50","v":0},{"$f":"'Therapy Hours'!K66/50","v":0},{"$f":"'Therapy Hours'!L66/50","v":0},{"$f":"'Therapy Hours'!M66/50","v":0},{"$f":"'Therapy Hours'!N66/50","v":0}]
[{"$f":"'Therapy Hours'!A67","v":"00:00:00"},{"$f":"'Therapy Hours'!B67","v":0},{"$f":"'Therapy Hours'!C67/50","v":0},{"$f":"'Therapy Hours'!D67/50","v":0},{"$f":"'Therapy Hours'!E67/50","v":0},{"$f":"'Therapy Hours'!F67/50","v":0},{"$f":"'Therapy Hours'!G67/50","v":0},{"$f":"'Therapy Hours'!H67/50","v":0},{"$f":"'Therapy Hours'!I67/50","v":0},{"$f":"'Therapy Hours'!J67/50","v":0},{"$f":"'Therapy Hours'!K67/50","v":0},{"$f":"'Therapy Hours'!L67/50","v":0},{"$f":"'Therapy Hours'!M67/50","v":0},{"$f":"'Therapy Hours'!N67/50","v":0}]
[{"$f":"'Therapy Hours'!A68","v":"00:00:00"},{"$f":"'Therapy Hours'!B68","v":0},{"$f":"'Therapy Hours'!C68/50","v":0},{"$f":"'Therapy Hours'!D68/50","v":0},{"$f":"'Therapy Hours'!E68/50","v":0},{"$f":"'Therapy Hours'!F68/50","v":0},{"$f":"'Therapy Hours'!G68/50","v":0},{"$f":"'Therapy Hours'!H68/50","v":0},{"$f":"'Therapy Hours'!I68/50","v":0},{"$f":"'Therapy Hours'!J68/50","v":0},{"$f":"'Therapy Hours'!K68/50","v":0},{"$f":"'Therapy Hours'!L68/50","v":0},{"$f":"'Therapy Hours'!M68/50","v":0},{"$f":"'Therapy Hours'!N68/50","v":0}]
[{"$f":"'Therapy Hours'!A69","v":"00:00:00"},{"$f":"'Therapy Hours'!B69","v":0},{"$f":"'Therapy Hours'!C69/50","v":0},{"$f":"'Therapy Hours'!D69/50","v":0},{"$f":"'Therapy Hours'!E69/50","v":0},{"$f":"'Therapy Hours'!F69/50","v":0},{"$f":"'Therapy Hours'!G69/50","v":0},{"$f":"'Therapy Hours'!H69/50","v":0},{"$f":"'Therapy Hours'!I69/50","v":0},{"$f":"'Therapy Hours'!J69/50","v":0},{"$f":"'Therapy Hours'!K69/50","v":0},{"$f":"'Therapy Hours'!L69/50","v":0},{"$f":"'Therapy Hours'!M69/50","v":0},{"$f":"'Therapy Hours'!N69/50","v":0}]
[{"$f":"'Therapy Hours'!A70","v":"00:00:00"},{"$f":"'Therapy Hours'!B70","v":0},{"$f":"'Therapy Hours'!C70/50","v":0},{"$f":"'Therapy Hours'!D70/50","v":0},{"$f":"'Therapy Hours'!E70/50","v":0},{"$f":"'Therapy Hours'!F70/50","v":0},{"$f":"'Therapy Hours'!G70/50","v":0},{"$f":"'Therapy Hours'!H70/50","v":0},{"$f":"'Therapy Hours'!I70/50","v":0},{"$f":"'Therapy Hours'!J70/50","v":0},{"$f":"'Therapy Hours'!K70/50","v":0},{"$f":"'Therapy Hours'!L70/50","v":0},{"$f":"'Therapy Hours'!M70/50","v":0},{"$f":"'Therapy Hours'!N70/50","v":0}]
[{"$f":"'Therapy Hours'!A71","v":"00:00:00"},{"$f":"'Therapy Hours'!B71","v":0},{"$f":"'Therapy Hours'!C71/50","v":0},{"$f":"'Therapy Hours'!D71/50","v":0},{"$f":"'Therapy Hours'!E71/50","v":0},{"$f":"'Therapy Hours'!F71/50","v":0},{"$f":"'Therapy Hours'!G71/50","v":0},{"$f":"'Therapy Hours'!H71/50","v":0},{"$f":"'Therapy Hours'!I71/50","v":0},{"$f":"'Therapy Hours'!J71/50","v":0},{"$f":"'Therapy Hours'!K71/50","v":0},{"$f":"'Therapy Hours'!L71/50","v":0},{"$f":"'Therapy Hours'!M71/50","v":0},{"$f":"'Therapy Hours'!N71/50","v":0}]
[{"$f":"'Therapy Hours'!A72","v":"00:00:00"},{"$f":"'Therapy Hours'!B72","v":0},{"$f":"'Therapy Hours'!C72/50","v":0},{"$f":"'Therapy Hours'!D72/50","v":0},{"$f":"'Therapy Hours'!E72/50","v":0},{"$f":"'Therapy Hours'!F72/50","v":0},{"$f":"'Therapy Hours'!G72/50","v":0},{"$f":"'Therapy Hours'!H72/50","v":0},{"$f":"'Therapy Hours'!I72/50","v":0},{"$f":"'Therapy Hours'!J72/50","v":0},{"$f":"'Therapy Hours'!K72/50","v":0},{"$f":"'Therapy Hours'!L72/50","v":0},{"$f":"'Therapy Hours'!M72/50","v":0},{"$f":"'Therapy Hours'!N72/50","v":0}]
[{"$f":"'Therapy Hours'!A73","v":"00:00:00"},{"$f":"'Therapy Hours'!B73","v":0},{"$f":"'Therapy Hours'!C73/50","v":0},{"$f":"'Therapy Hours'!D73/50","v":0},{"$f":"'Therapy Hours'!E73/50","v":0},{"$f":"'Therapy Hours'!F73/50","v":0},{"$f":"'Therapy Hours'!G73/50","v":0},{"$f":"'Therapy Hours'!H73/50","v":0},{"$f":"'Therapy Hours'!I73/50","v":0},{"$f":"'Therapy Hours'!J73/50","v":0},{"$f":"'Therapy Hours'!K73/50","v":0},{"$f":"'Therapy Hours'!L73/50","v":0},{"$f":"'Therapy Hours'!M73/50","v":0},{"$f":"'Therapy Hours'!N73/50","v":0}]
[{"$f":"'Therapy Hours'!A74","v":"00:00:00"},{"$f":"'Therapy Hours'!B74","v":0},{"$f":"'Therapy Hours'!C74/50","v":0},{"$f":"'Therapy Hours'!D74/50","v":0},{"$f":"'Therapy Hours'!E74/50","v":0},{"$f":"'Therapy Hours'!F74/50","v":0},{"$f":"'Therapy Hours'!G74/50","v":0},{"$f":"'Therapy Hours'!H74/50","v":0},{"$f":"'Therapy Hours'!I74/50","v":0},{"$f":"'Therapy Hours'!J74/50","v":0},{"$f":"'Therapy Hours'!K74/50","v":0},{"$f":"'Therapy Hours'!L74/50","v":0},{"$f":"'Therapy Hours'!M74/50","v":0},{"$f":"'Therapy Hours'!N74/50","v":0}]
[{"$f":"'Therapy Hours'!A75","v":"00:00:00"},{"$f":"'Therapy Hours'!B75","v":0},{"$f":"'Therapy Hours'!C75/50","v":0},{"$f":"'Therapy Hours'!D75/50","v":0},{"$f":"'Therapy Hours'!E75/50","v":0},{"$f":"'Therapy Hours'!F75/50","v":0},{"$f":"'Therapy Hours'!G75/50","v":0},{"$f":"'Therapy Hours'!H75/50","v":0},{"$f":"'Therapy Hours'!I75/50","v":0},{"$f":"'Therapy Hours'!J75/50","v":0},{"$f":"'Therapy Hours'!K75/50","v":0},{"$f":"'Therapy Hours'!L75/50","v":0},{"$f":"'Therapy Hours'!M75/50","v":0},{"$f":"'Therapy Hours'!N75/50","v":0}]
[{"$f":"'Therapy Hours'!A76","v":"00:00:00"},{"$f":"'Therapy Hours'!B76","v":0},{"$f":"'Therapy Hours'!C76/50","v":0},{"$f":"'Therapy Hours'!D76/50","v":0},{"$f":"'Therapy Hours'!E76/50","v":0},{"$f":"'Therapy Hours'!F76/50","v":0},{"$f":"'Therapy Hours'!G76/50","v":0},{"$f":"'Therapy Hours'!H76/50","v":0},{"$f":"'Therapy Hours'!I76/50","v":0},{"$f":"'Therapy Hours'!J76/50","v":0},{"$f":"'Therapy Hours'!K76/50","v":0},{"$f":"'Therapy Hours'!L76/50","v":0},{"$f":"'Therapy Hours'!M76/50","v":0},{"$f":"'Therapy Hours'!N76/50","v":0}]
[{"$f":"'Therapy Hours'!A77","v":"00:00:00"},{"$f":"'Therapy Hours'!B77","v":0},{"$f":"'Therapy Hours'!C77/50","v":0},{"$f":"'Therapy Hours'!D77/50","v":0},{"$f":"'Therapy Hours'!E77/50","v":0},{"$f":"'Therapy Hours'!F77/50","v":0},{"$f":"'Therapy Hours'!G77/50","v":0},{"$f":"'Therapy Hours'!H77/50","v":0},{"$f":"'Therapy Hours'!I77/50","v":0},{"$f":"'Therapy Hours'!J77/50","v":0},{"$f":"'Therapy Hours'!K77/50","v":0},{"$f":"'Therapy Hours'!L77/50","v":0},{"$f":"'Therapy Hours'!M77/50","v":0},{"$f":"'Therapy Hours'!N77/50","v":0}]
[{"$f":"'Therapy Hours'!A78","v":"00:00:00"},{"$f":"'Therapy Hours'!B78","v":0},{"$f":"'Therapy Hours'!C78/50","v":0},{"$f":"'Therapy Hours'!D78/50","v":0},{"$f":"'Therapy Hours'!E78/50","v":0},{"$f":"'Therapy Hours'!F78/50","v":0},{"$f":"'Therapy Hours'!G78/50","v":0},{"$f":"'Therapy Hours'!H78/50","v":0},{"$f":"'Therapy Hours'!I78/50","v":0},{"$f":"'Therapy Hours'!J78/50","v":0},{"$f":"'Therapy Hours'!K78/50","v":0},{"$f":"'Therapy Hours'!L78/50","v":0},{"$f":"'Therapy Hours'!M78/50","v":0},{"$f":"'Therapy Hours'!N78/50","v":0}]
[{"$f":"'Therapy Hours'!A79","v":"00:00:00"},{"$f":"'Therapy Hours'!B79","v":0},{"$f":"'Therapy Hours'!C79/50","v":0},{"$f":"'Therapy Hours'!D79/50","v":0},{"$f":"'Therapy Hours'!E79/50","v":0},{"$f":"'Therapy Hours'!F79/50","v":0},{"$f":"'Therapy Hours'!G79/50","v":0},{"$f":"'Therapy Hours'!H79/50","v":0},{"$f":"'Therapy Hours'!I79/50","v":0},{"$f":"'Therapy Hours'!J79/50","v":0},{"$f":"'Therapy Hours'!K79/50","v":0},{"$f":"'Therapy Hours'!L79/50","v":0},{"$f":"'Therapy Hours'!M79/50","v":0},{"$f":"'Therapy Hours'!N79/50","v":0}]
[{"$f":"'Therapy Hours'!A80","v":"00:00:00"},{"$f":"'Therapy Hours'!B80","v":0},{"$f":"'Therapy Hours'!C80/50","v":0},{"$f":"'Therapy Hours'!D80/50","v":0},{"$f":"'Therapy Hours'!E80/50","v":0},{"$f":"'Therapy Hours'!F80/50","v":0},{"$f":"'Therapy Hours'!G80/50","v":0},{"$f":"'Therapy Hours'!H80/50","v":0},{"$f":"'Therapy Hours'!I80/50","v":0},{"$f":"'Therapy Hours'!J80/50","v":0},{"$f":"'Therapy Hours'!K80/50","v":0},{"$f":"'Therapy Hours'!L80/50","v":0},{"$f":"'Therapy Hours'!M80/50","v":0},{"$f":"'Therapy Hours'!N80/50","v":0}]
[{"$f":"'Therapy Hours'!A81","v":"00:00:00"},{"$f":"'Therapy Hours'!B81","v":0},{"$f":"'Therapy Hours'!C81/50","v":0},{"$f":"'Therapy Hours'!D81/50","v":0},{"$f":"'Therapy Hours'!E81/50","v":0},{"$f":"'Therapy Hours'!F81/50","v":0},{"$f":"'Therapy Hours'!G81/50","v":0},{"$f":"'Therapy Hours'!H81/50","v":0},{"$f":"'Therapy Hours'!I81/50","v":0},{"$f":"'Therapy Hours'!J81/50","v":0},{"$f":"'Therapy Hours'!K81/50","v":0},{"$f":"'Therapy Hours'!L81/50","v":0},{"$f":"'Therapy Hours'!M81/50","v":0},{"$f":"'Therapy Hours'!N81/50","v":0}]
[{"$f":"'Therapy Hours'!A82","v":"00:00:00"},{"$f":"'Therapy Hours'!B82","v":0},{"$f":"'Therapy Hours'!C82/50","v":0},{"$f":"'Therapy Hours'!D82/50","v":0},{"$f":"'Therapy Hours'!E82/50","v":0},{"$f":"'Therapy Hours'!F82/50","v":0},{"$f":"'Therapy Hours'!G82/50","v":0},{"$f":"'Therapy Hours'!H82/50","v":0},{"$f":"'Therapy Hours'!I82/50","v":0},{"$f":"'Therapy Hours'!J82/50","v":0},{"$f":"'Therapy Hours'!K82/50","v":0},{"$f":"'Therapy Hours'!L82/50","v":0},{"$f":"'Therapy Hours'!M82/50","v":0},{"$f":"'Therapy Hours'!N82/50","v":0}]
[{"$f":"'Therapy Hours'!A83","v":"00:00:00"},{"$f":"'Therapy Hours'!B83","v":0},{"$f":"'Therapy Hours'!C83/50","v":0},{"$f":"'Therapy Hours'!D83/50","v":0},{"$f":"'Therapy Hours'!E83/50","v":0},{"$f":"'Therapy Hours'!F83/50","v":0},{"$f":"'Therapy Hours'!G83/50","v":0},{"$f":"'Therapy Hours'!H83/50","v":0},{"$f":"'Therapy Hours'!I83/50","v":0},{"$f":"'Therapy Hours'!J83/50","v":0},{"$f":"'Therapy Hours'!K83/50","v":0},{"$f":"'Therapy Hours'!L83/50","v":0},{"$f":"'Therapy Hours'!M83/50","v":0},{"$f":"'Therapy Hours'!N83/50","v":0}]
[{"$f":"'Therapy Hours'!A84","v":"00:00:00"},{"$f":"'Therapy Hours'!B84","v":0},{"$f":"'Therapy Hours'!C84/50","v":0},{"$f":"'Therapy Hours'!D84/50","v":0},{"$f":"'Therapy Hours'!E84/50","v":0},{"$f":"'Therapy Hours'!F84/50","v":0},{"$f":"'Therapy Hours'!G84/50","v":0},{"$f":"'Therapy Hours'!H84/50","v":0},{"$f":"'Therapy Hours'!I84/50","v":0},{"$f":"'Therapy Hours'!J84/50","v":0},{"$f":"'Therapy Hours'!K84/50","v":0},{"$f":"'Therapy Hours'!L84/50","v":0},{"$f":"'Therapy Hours'!M84/50","v":0},{"$f":"'Therapy Hours'!N84/50","v":0}]
[{"$f":"'Therapy Hours'!A85","v":"00:00:00"},{"$f":"'Therapy Hours'!B85","v":0},{"$f":"'Therapy Hours'!C85/50","v":0},{"$f":"'Therapy Hours'!D85/50","v":0},{"$f":"'Therapy Hours'!E85/50","v":0},{"$f":"'Therapy Hours'!F85/50","v":0},{"$f":"'Therapy Hours'!G85/50","v":0},{"$f":"'Therapy Hours'!H85/50","v":0},{"$f":"'Therapy Hours'!I85/50","v":0},{"$f":"'Therapy Hours'!J85/50","v":0},{"$f":"'Therapy Hours'!K85/50","v":0},{"$f":"'Therapy Hours'!L85/50","v":0},{"$f":"'Therapy Hours'!M85/50","v":0},{"$f":"'Therapy Hours'!N85/50","v":0}]
[{"$f":"'Therapy Hours'!A86","v":"00:00:00"},{"$f":"'Therapy Hours'!B86","v":0},{"$f":"'Therapy Hours'!C86/50","v":0},{"$f":"'Therapy Hours'!D86/50","v":0},{"$f":"'Therapy Hours'!E86/50","v":0},{"$f":"'Therapy Hours'!F86/50","v":0},{"$f":"'Therapy Hours'!G86/50","v":0},{"$f":"'Therapy Hours'!H86/50","v":0},{"$f":"'Therapy Hours'!I86/50","v":0},{"$f":"'Therapy Hours'!J86/50","v":0},{"$f":"'Therapy Hours'!K86/50","v":0},{"$f":"'Therapy Hours'!L86/50","v":0},{"$f":"'Therapy Hours'!M86/50","v":0},{"$f":"'Therapy Hours'!N86/50","v":0}]
[{"$f":"'Therapy Hours'!A87","v":"00:00:00"},{"$f":"'Therapy Hours'!B87","v":0},{"$f":"'Therapy Hours'!C87/50","v":0},{"$f":"'Therapy Hours'!D87/50","v":0},{"$f":"'Therapy Hours'!E87/50","v":0},{"$f":"'Therapy Hours'!F87/50","v":0},{"$f":"'Therapy Hours'!G87/50","v":0},{"$f":"'Therapy Hours'!H87/50","v":0},{"$f":"'Therapy Hours'!I87/50","v":0},{"$f":"'Therapy Hours'!J87/50","v":0},{"$f":"'Therapy Hours'!K87/50","v":0},{"$f":"'Therapy Hours'!L87/50","v":0},{"$f":"'Therapy Hours'!M87/50","v":0},{"$f":"'Therapy Hours'!N87/50","v":0}]
[{"$f":"'Therapy Hours'!A88","v":"00:00:00"},{"$f":"'Therapy Hours'!B88","v":0},{"$f":"'Therapy Hours'!C88/50","v":0},{"$f":"'Therapy Hours'!D88/50","v":0},{"$f":"'Therapy Hours'!E88/50","v":0},{"$f":"'Therapy Hours'!F88/50","v":0},{"$f":"'Therapy Hours'!G88/50","v":0},{"$f":"'Therapy Hours'!H88/50","v":0},{"$f":"'Therapy Hours'!I88/50","v":0},{"$f":"'Therapy Hours'!J88/50","v":0},{"$f":"'Therapy Hours'!K88/50","v":0},{"$f":"'Therapy Hours'!L88/50","v":0},{"$f":"'Therapy Hours'!M88/50","v":0},{"$f":"'Therapy Hours'!N88/50","v":0}]
[{"$f":"'Therapy Hours'!A89","v":"00:00:00"},{"$f":"'Therapy Hours'!B89","v":0},{"$f":"'Therapy Hours'!C89/50","v":0},{"$f":"'Therapy Hours'!D89/50","v":0},{"$f":"'Therapy Hours'!E89/50","v":0},{"$f":"'Therapy Hours'!F89/50","v":0},{"$f":"'Therapy Hours'!G89/50","v":0},{"$f":"'Therapy Hours'!H89/50","v":0},{"$f":"'Therapy Hours'!I89/50","v":0},{"$f":"'Therapy Hours'!J89/50","v":0},{"$f":"'Therapy Hours'!K89/50","v":0},{"$f":"'Therapy Hours'!L89/50","v":0},{"$f":"'Therapy Hours'!M89/50","v":0},{"$f":"'Therapy Hours'!N89/50","v":0}]
[{"$f":"'Therapy Hours'!A90","v":"00:00:00"},{"$f":"'Therapy Hours'!B90","v":0},{"$f":"'Therapy Hours'!C90/50","v":0},{"$f":"'Therapy Hours'!D90/50","v":0},{"$f":"'Therapy Hours'!E90/50","v":0},{"$f":"'Therapy Hours'!F90/50","v":0},{"$f":"'Therapy Hours'!G90/50","v":0},{"$f":"'Therapy Hours'!H90/50","v":0},{"$f":"'Therapy Hours'!I90/50","v":0},{"$f":"'Therapy Hours'!J90/50","v":0},{"$f":"'Therapy Hours'!K90/50","v":0},{"$f":"'Therapy Hours'!L90/50","v":0},{"$f":"'Therapy Hours'!M90/50","v":0},{"$f":"'Therapy Hours'!N90/50","v":0}]
[{"$f":"'Therapy Hours'!A91","v":"00:00:00"},{"$f":"'Therapy Hours'!B91","v":0},{"$f":"'Therapy Hours'!C91/50","v":0},{"$f":"'Therapy Hours'!D91/50","v":0},{"$f":"'Therapy Hours'!E91/50","v":0},{"$f":"'Therapy Hours'!F91/50","v":0},{"$f":"'Therapy Hours'!G91/50","v":0},{"$f":"'Therapy Hours'!H91/50","v":0},{"$f":"'Therapy Hours'!I91/50","v":0},{"$f":"'Therapy Hours'!J91/50","v":0},{"$f":"'Therapy Hours'!K91/50","v":0},{"$f":"'Therapy Hours'!L91/50","v":0},{"$f":"'Therapy Hours'!M91/50","v":0},{"$f":"'Therapy Hours'!N91/50","v":0}]
[{"$f":"'Therapy Hours'!A92","v":"00:00:00"},{"$f":"'Therapy Hours'!B92","v":0},{"$f":"'Therapy Hours'!C92/50","v":0},{"$f":"'Therapy Hours'!D92/50","v":0},{"$f":"'Therapy Hours'!E92/50","v":0},{"$f":"'Therapy Hours'!F92/50","v":0},{"$f":"'Therapy Hours'!G92/50","v":0},{"$f":"'Therapy Hours'!H92/50","v":0},{"$f":"'Therapy Hours'!I92/50","v":0},{"$f":"'Therapy Hours'!J92/50","v":0},{"$f":"'Therapy Hours'!K92/50","v":0},{"$f":"'Therapy Hours'!L92/50","v":0},{"$f":"'Therapy Hours'!M92/50","v":0},{"$f":"'Therapy Hours'!N92/50","v":0}]
[{"$f":"'Therapy Hours'!A93","v":"00:00:00"},{"$f":"'Therapy Hours'!B93","v":0},{"$f":"'Therapy Hours'!C93/50","v":0},{"$f":"'Therapy Hours'!D93/50","v":0},{"$f":"'Therapy Hours'!E93/50","v":0},{"$f":"'Therapy Hours'!F93/50","v":0},{"$f":"'Therapy Hours'!G93/50","v":0},{"$f":"'Therapy Hours'!H93/50","v":0},{"$f":"'Therapy Hours'!I93/50","v":0},{"$f":"'Therapy Hours'!J93/50","v":0},{"$f":"'Therapy Hours'!K93/50","v":0},{"$f":"'Therapy Hours'!L93/50","v":0},{"$f":"'Therapy Hours'!M93/50","v":0},{"$f":"'Therapy Hours'!N93/50","v":0}]
[{"$f":"'Therapy Hours'!A94","v":"00:00:00"},{"$f":"'Therapy Hours'!B94","v":0},{"$f":"'Therapy Hours'!C94/50","v":0},{"$f":"'Therapy Hours'!D94/50","v":0},{"$f":"'Therapy Hours'!E94/50","v":0},{"$f":"'Therapy Hours'!F94/50","v":0},{"$f":"'Therapy Hours'!G94/50","v":0},{"$f":"'Therapy Hours'!H94/50","v":0},{"$f":"'Therapy Hours'!I94/50","v":0},{"$f":"'Therapy Hours'!J94/50","v":0},{"$f":"'Therapy Hours'!K94/50","v":0},{"$f":"'Therapy Hours'!L94/50","v":0},{"$f":"'Therapy Hours'!M94/50","v":0},{"$f":"'Therapy Hours'!N94/50","v":0}]
[{"$f":"'Therapy Hours'!A95","v":"00:00:00"},{"$f":"'Therapy Hours'!B95","v":0},{"$f":"'Therapy Hours'!C95/50","v":0},{"$f":"'Therapy Hours'!D95/50","v":0},{"$f":"'Therapy Hours'!E95/50","v":0},{"$f":"'Therapy Hours'!F95/50","v":0},{"$f":"'Therapy Hours'!G95/50","v":0},{"$f":"'Therapy Hours'!H95/50","v":0},{"$f":"'Therapy Hours'!I95/50","v":0},{"$f":"'Therapy Hours'!J95/50","v":0},{"$f":"'Therapy Hours'!K95/50","v":0},{"$f":"'Therapy Hours'!L95/50","v":0},{"$f":"'Therapy Hours'!M95/50","v":0},{"$f":"'Therapy Hours'!N95/50","v":0}]
[{"$f":"'Therapy Hours'!A96","v":"00:00:00"},{"$f":"'Therapy Hours'!B96","v":0},{"$f":"'Therapy Hours'!C96/50","v":0},{"$f":"'Therapy Hours'!D96/50","v":0},{"$f":"'Therapy Hours'!E96/50","v":0},{"$f":"'Therapy Hours'!F96/50","v":0},{"$f":"'Therapy Hours'!G96/50","v":0},{"$f":"'Therapy Hours'!H96/50","v":0},{"$f":"'Therapy Hours'!I96/50","v":0},{"$f":"'Therapy Hours'!J96/50","v":0},{"$f":"'Therapy Hours'!K96/50","v":0},{"$f":"'Therapy Hours'!L96/50","v":0},{"$f":"'Therapy Hours'!M96/50","v":0},{"$f":"'Therapy Hours'!N96/50","v":0}]
[{"$f":"'Therapy Hours'!A97","v":"00:00:00"},{"$f":"'Therapy Hours'!B97","v":0},{"$f":"'Therapy Hours'!C97/50","v":0},{"$f":"'Therapy Hours'!D97/50","v":0},{"$f":"'Therapy Hours'!E97/50","v":0},{"$f":"'Therapy Hours'!F97/50","v":0},{"$f":"'Therapy Hours'!G97/50","v":0},{"$f":"'Therapy Hours'!H97/50","v":0},{"$f":"'Therapy Hours'!I97/50","v":0},{"$f":"'Therapy Hours'!J97/50","v":0},{"$f":"'Therapy Hours'!K97/50","v":0},{"$f":"'Therapy Hours'!L97/50","v":0},{"$f":"'Therapy Hours'!M97/50","v":0},{"$f":"'Therapy Hours'!N97/50","v":0}]
[{"$f":"'Therapy Hours'!A98","v":"00:00:00"},{"$f":"'Therapy Hours'!B98","v":0},{"$f":"'Therapy Hours'!C98/50","v":0},{"$f":"'Therapy Hours'!D98/50","v":0},{"$f":"'Therapy Hours'!E98/50","v":0},{"$f":"'Therapy Hours'!F98/50","v":0},{"$f":"'Therapy Hours'!G98/50","v":0},{"$f":"'Therapy Hours'!H98/50","v":0},{"$f":"'Therapy Hours'!I98/50","v":0},{"$f":"'Therapy Hours'!J98/50","v":0},{"$f":"'Therapy Hours'!K98/50","v":0},{"$f":"'Therapy Hours'!L98/50","v":0},{"$f":"'Therapy Hours'!M98/50","v":0},{"$f":"'Therapy Hours'!N98/50","v":0}]
[{"$f":"'Therapy Hours'!A99","v":"00:00:00"},{"$f":"'Therapy Hours'!B99","v":0},{"$f":"'Therapy Hours'!C99/50","v":0},{"$f":"'Therapy Hours'!D99/50","v":0},{"$f":"'Therapy Hours'!E99/50","v":0},{"$f":"'Therapy Hours'!F99/50","v":0},{"$f":"'Therapy Hours'!G99/50","v":0},{"$f":"'Therapy Hours'!H99/50","v":0},{"$f":"'Therapy Hours'!I99/50","v":0},{"$f":"'Therapy Hours'!J99/50","v":0},{"$f":"'Therapy Hours'!K99/50","v":0},{"$f":"'Therapy Hours'!L99/50","v":0},{"$f":"'Therapy Hours'!M99/50","v":0},{"$f":"'Therapy Hours'!N99/50","v":0}]
[{"$f":"'Therapy Hours'!A100","v":"00:00:00"},{"$f":"'Therapy Hours'!B100","v":0},{"$f":"'Therapy Hours'!C100/50","v":0},{"$f":"'Therapy Hours'!D100/50","v":0},{"$f":"'Therapy Hours'!E100/50","v":0},{"$f":"'Therapy Hours'!F100/50","v":0},{"$f":"'Therapy Hours'!G100/50","v":0},{"$f":"'Therapy Hours'!H100/50","v":0},{"$f":"'Therapy Hours'!I100/50","v":0},{"$f":"'Therapy Hours'!J100/50","v":0},{"$f":"'Therapy Hours'!K100/50","v":0},{"$f":"'Therapy Hours'!L100/50","v":0},{"$f":"'Therapy Hours'!M100/50","v":0},{"$f":"'Therapy Hours'!N100/50","v":0}]
[{"$f":"'Therapy Hours'!A101","v":"00:00:00"},{"$f":"'Therapy Hours'!B101","v":0},{"$f":"'Therapy Hours'!C101/50","v":0},{"$f":"'Therapy Hours'!D101/50","v":0},{"$f":"'Therapy Hours'!E101/50","v":0},{"$f":"'Therapy Hours'!F101/50","v":0},{"$f":"'Therapy Hours'!G101/50","v":0},{"$f":"'Therapy Hours'!H101/50","v":0},{"$f":"'Therapy Hours'!I101/50","v":0},{"$f":"'Therapy Hours'!J101/50","v":0},{"$f":"'Therapy Hours'!K101/50","v":0},{"$f":"'Therapy Hours'!L101/50","v":0},{"$f":"'Therapy Hours'!M101/50","v":0},{"$f":"'Therapy Hours'!N101/50","v":0}]
[{"$f":"'Therapy Hours'!A102","v":"00:00:00"},{"$f":"'Therapy Hours'!B102","v":0},{"$f":"'Therapy Hours'!C102/50","v":0},{"$f":"'Therapy Hours'!D102/50","v":0},{"$f":"'Therapy Hours'!E102/50","v":0},{"$f":"'Therapy Hours'!F102/50","v":0},{"$f":"'Therapy Hours'!G102/50","v":0},{"$f":"'Therapy Hours'!H102/50","v":0},{"$f":"'Therapy Hours'!I102/50","v":0},{"$f":"'Therapy Hours'!J102/50","v":0},{"$f":"'Therapy Hours'!K102/50","v":0},{"$f":"'Therapy Hours'!L102/50","v":0},{"$f":"'Therapy Hours'!M102/50","v":0},{"$f":"'Therapy Hours'!N102/50","v":0}]

{"sheet":"TOTAL Supervision","index":5,"n_rows":107,"n_cols":11,"rows_kept":107,"cut":false,"hidden":false,"merged":[[1,9,1,11],[2,0,2,8],[1,0,1,8],[9,0,9,8],[10,0,10,8],[0,0,0,8],[8,0,8,8],[6,0,7,8],[5,0,5,8],[4,0,4,8],[3,0,3,8]]}
["Reporting for Supervision Hours"]
["Guidelines:",null,null,null,null,null,null,null,null,"TOTAL SUPERVISION HOURS"]
["Individual Live - Supervision of your cases by a supervisor directly observing your work.",null,null,null,null,null,null,null,null,null,{"$f":"SUM(C13:I300)","v":0}]
["Individual Video - Your case(s) being reviewed by a supervisor using video tape play back with 1 or 2 supervisees present."]
["Group Live - You participate in the supervision of others cases being directly observed by a supervisor."]
["Group Video - Your observe the cases of others as they are being reviewed by a supervisor with 3 to 6 in the group."]
["Individual Case Report/Process Notes and Group Case Report/Process Notes - Discussion of cases with one or two supervisees present, without presentation of video, audio or live case material."]
[]
["Team - You observe and develop treatment interventions as part of a therapeutic team."]
[]
["Hours for Mode of Therapy by System in Therapy"]
["Date","Supervisor","Indiv/ Live","Indiv/ Video","Indiv/Case Report","Group/ Live","Group/ Video","Group/Case Report","DO NOT ENTER IN BOX","<- Every cell in box should stay 0"]
[{"$f":"'Supervision Hours'!A15","v":"00:00:00"},{"$f":"'Supervision Hours'!B15","v":0},{"$f":"'Supervision Hours'!C15/60","v":0},{"$f":"'Supervision Hours'!D15/60","v":0},{"$f":"'Supervision Hours'!E15/60","v":0},{"$f":"'Supervision Hours'!F15/60","v":0},{"$f":"'Supervision Hours'!G15/60","v":0},{"$f":"'Supervision Hours'!H15/60","v":0},{"$f":"'Supervision Hours'!I15/60","v":0}]
[{"$f":"'Supervision Hours'!A16","v":"00:00:00"},{"$f":"'Supervision Hours'!B16","v":0},{"$f":"'Supervision Hours'!C16","v":0},{"$f":"'Supervision Hours'!D16","v":0},{"$f":"'Supervision Hours'!E16","v":0},{"$f":"'Supervision Hours'!F16","v":0},{"$f":"'Supervision Hours'!G16","v":0},{"$f":"'Supervision Hours'!H16","v":0},{"$f":"'Supervision Hours'!I16","v":0}]
[{"$f":"'Supervision Hours'!A17","v":"00:00:00"},{"$f":"'Supervision Hours'!B17","v":0},{"$f":"'Supervision Hours'!C17","v":0},{"$f":"'Supervision Hours'!D17","v":0},{"$f":"'Supervision Hours'!E17","v":0},{"$f":"'Supervision Hours'!F17","v":0},{"$f":"'Supervision Hours'!G17","v":0},{"$f":"'Supervision Hours'!H17","v":0},{"$f":"'Supervision Hours'!I17","v":0}]
[{"$f":"'Supervision Hours'!A18","v":"00:00:00"},{"$f":"'Supervision Hours'!B18","v":0},{"$f":"'Supervision Hours'!C18","v":0},{"$f":"'Supervision Hours'!D18","v":0},{"$f":"'Supervision Hours'!E18","v":0},{"$f":"'Supervision Hours'!F18","v":0},{"$f":"'Supervision Hours'!G18","v":0},{"$f":"'Supervision Hours'!H18","v":0},{"$f":"'Supervision Hours'!I18","v":0}]
[{"$f":"'Supervision Hours'!A19","v":"00:00:00"},{"$f":"'Supervision Hours'!B19","v":0},{"$f":"'Supervision Hours'!C19","v":0},{"$f":"'Supervision Hours'!D19","v":0},{"$f":"'Supervision Hours'!E19","v":0},{"$f":"'Supervision Hours'!F19","v":0},{"$f":"'Supervision Hours'!G19","v":0},{"$f":"'Supervision Hours'!H19","v":0},{"$f":"'Supervision Hours'!I19","v":0}]
[{"$f":"'Supervision Hours'!A20","v":"00:00:00"},{"$f":"'Supervision Hours'!B20","v":0},{"$f":"'Supervision Hours'!C20","v":0},{"$f":"'Supervision Hours'!D20","v":0},{"$f":"'Supervision Hours'!E20","v":0},{"$f":"'Supervision Hours'!F20","v":0},{"$f":"'Supervision Hours'!G20","v":0},{"$f":"'Supervision Hours'!H20","v":0},{"$f":"'Supervision Hours'!I20","v":0}]
[{"$f":"'Supervision Hours'!A21","v":"00:00:00"},{"$f":"'Supervision Hours'!B21","v":0},{"$f":"'Supervision Hours'!C21","v":0},{"$f":"'Supervision Hours'!D21","v":0},{"$f":"'Supervision Hours'!E21","v":0},{"$f":"'Supervision Hours'!F21","v":0},{"$f":"'Supervision Hours'!G21","v":0},{"$f":"'Supervision Hours'!H21","v":0},{"$f":"'Supervision Hours'!I21","v":0}]
[{"$f":"'Supervision Hours'!A22","v":"00:00:00"},{"$f":"'Supervision Hours'!B22","v":0},{"$f":"'Supervision Hours'!C22","v":0},{"$f":"'Supervision Hours'!D22","v":0},{"$f":"'Supervision Hours'!E22","v":0},{"$f":"'Supervision Hours'!F22","v":0},{"$f":"'Supervision Hours'!G22","v":0},{"$f":"'Supervision Hours'!H22","v":0},{"$f":"'Supervision Hours'!I22","v":0}]
[{"$f":"'Supervision Hours'!A23","v":"00:00:00"},{"$f":"'Supervision Hours'!B23","v":0},{"$f":"'Supervision Hours'!C23","v":0},{"$f":"'Supervision Hours'!D23","v":0},{"$f":"'Supervision Hours'!E23","v":0},{"$f":"'Supervision Hours'!F23","v":0},{"$f":"'Supervision Hours'!G23","v":0},{"$f":"'Supervision Hours'!H23","v":0},{"$f":"'Supervision Hours'!I23","v":0}]
[{"$f":"'Supervision Hours'!A24","v":"00:00:00"},{"$f":"'Supervision Hours'!B24","v":0},{"$f":"'Supervision Hours'!C24","v":0},{"$f":"'Supervision Hours'!D24","v":0},{"$f":"'Supervision Hours'!E24","v":0},{"$f":"'Supervision Hours'!F24","v":0},{"$f":"'Supervision Hours'!G24","v":0},{"$f":"'Supervision Hours'!H24","v":0},{"$f":"'Supervision Hours'!I24","v":0}]
[{"$f":"'Supervision Hours'!A25","v":"00:00:00"},{"$f":"'Supervision Hours'!B25","v":0},{"$f":"'Supervision Hours'!C25","v":0},{"$f":"'Supervision Hours'!D25","v":0},{"$f":"'Supervision Hours'!E25","v":0},{"$f":"'Supervision Hours'!F25","v":0},{"$f":"'Supervision Hours'!G25","v":0},{"$f":"'Supervision Hours'!H25","v":0},{"$f":"'Supervision Hours'!I25","v":0}]
[{"$f":"'Supervision Hours'!A26","v":"00:00:00"},{"$f":"'Supervision Hours'!B26","v":0},{"$f":"'Supervision Hours'!C26","v":0},{"$f":"'Supervision Hours'!D26","v":0},{"$f":"'Supervision Hours'!E26","v":0},{"$f":"'Supervision Hours'!F26","v":0},{"$f":"'Supervision Hours'!G26","v":0},{"$f":"'Supervision Hours'!H26","v":0},{"$f":"'Supervision Hours'!I26","v":0}]
[{"$f":"'Supervision Hours'!A27","v":"00:00:00"},{"$f":"'Supervision Hours'!B27","v":0},{"$f":"'Supervision Hours'!C27","v":0},{"$f":"'Supervision Hours'!D27","v":0},{"$f":"'Supervision Hours'!E27","v":0},{"$f":"'Supervision Hours'!F27","v":0},{"$f":"'Supervision Hours'!G27","v":0},{"$f":"'Supervision Hours'!H27","v":0},{"$f":"'Supervision Hours'!I27","v":0}]
[{"$f":"'Supervision Hours'!A28","v":"00:00:00"},{"$f":"'Supervision Hours'!B28","v":0},{"$f":"'Supervision Hours'!C28","v":0},{"$f":"'Supervision Hours'!D28","v":0},{"$f":"'Supervision Hours'!E28","v":0},{"$f":"'Supervision Hours'!F28","v":0},{"$f":"'Supervision Hours'!G28","v":0},{"$f":"'Supervision Hours'!H28","v":0},{"$f":"'Supervision Hours'!I28","v":0}]
[{"$f":"'Supervision Hours'!A29","v":"00:00:00"},{"$f":"'Supervision Hours'!B29","v":0},{"$f":"'Supervision Hours'!C29","v":0},{"$f":"'Supervision Hours'!D29","v":0},{"$f":"'Supervision Hours'!E29","v":0},{"$f":"'Supervision Hours'!F29","v":0},{"$f":"'Supervision Hours'!G29","v":0},{"$f":"'Supervision Hours'!H29","v":0},{"$f":"'Supervision Hours'!I29","v":0}]
[{"$f":"'Supervision Hours'!A30","v":"00:00:00"},{"$f":"'Supervision Hours'!B30","v":0},{"$f":"'Supervision Hours'!C30","v":0},{"$f":"'Supervision Hours'!D30","v":0},{"$f":"'Supervision Hours'!E30","v":0},{"$f":"'Supervision Hours'!F30","v":0},{"$f":"'Supervision Hours'!G30","v":0},{"$f":"'Supervision Hours'!H30","v":0},{"$f":"'Supervision Hours'!I30","v":0}]
[{"$f":"'Supervision Hours'!A31","v":"00:00:00"},{"$f":"'Supervision Hours'!B31","v":0},{"$f":"'Supervision Hours'!C31","v":0},{"$f":"'Supervision Hours'!D31","v":0},{"$f":"'Supervision Hours'!E31","v":0},{"$f":"'Supervision Hours'!F31","v":0},{"$f":"'Supervision Hours'!G31","v":0},{"$f":"'Supervision Hours'!H31","v":0},{"$f":"'Supervision Hours'!I31","v":0}]
[{"$f":"'Supervision Hours'!A32","v":"00:00:00"},{"$f":"'Supervision Hours'!B32","v":0},{"$f":"'Supervision Hours'!C32","v":0},{"$f":"'Supervision Hours'!D32","v":0},{"$f":"'Supervision Hours'!E32","v":0},{"$f":"'Supervision Hours'!F32","v":0},{"$f":"'Supervision Hours'!G32","v":0},{"$f":"'Supervision Hours'!H32","v":0},{"$f":"'Supervision Hours'!I32","v":0}]
[{"$f":"'Supervision Hours'!A33","v":"00:00:00"},{"$f":"'Supervision Hours'!B33","v":0},{"$f":"'Supervision Hours'!C33","v":0},{"$f":"'Supervision Hours'!D33","v":0},{"$f":"'Supervision Hours'!E33","v":0},{"$f":"'Supervision Hours'!F33","v":0},{"$f":"'Supervision Hours'!G33","v":0},{"$f":"'Supervision Hours'!H33","v":0},{"$f":"'Supervision Hours'!I33","v":0}]
[{"$f":"'Supervision Hours'!A34","v":"00:00:00"},{"$f":"'Supervision Hours'!B34","v":0},{"$f":"'Supervision Hours'!C34","v":0},{"$f":"'Supervision Hours'!D34","v":0},{"$f":"'Supervision Hours'!E34","v":0},{"$f":"'Supervision Hours'!F34","v":0},{"$f":"'Supervision Hours'!G34","v":0},{"$f":"'Supervision Hours'!H34","v":0},{"$f":"'Supervision Hours'!I34","v":0}]
[{"$f":"'Supervision Hours'!A35","v":"00:00:00"},{"$f":"'Supervision Hours'!B35","v":0},{"$f":"'Supervision Hours'!C35","v":0},{"$f":"'Supervision Hours'!D35","v":0},{"$f":"'Supervision Hours'!E35","v":0},{"$f":"'Supervision Hours'!F35","v":0},{"$f":"'Supervision Hours'!G35","v":0},{"$f":"'Supervision Hours'!H35","v":0},{"$f":"'Supervision Hours'!I35","v":0}]
[{"$f":"'Supervision Hours'!A36","v":"00:00:00"},{"$f":"'Supervision Hours'!B36","v":0},{"$f":"'Supervision Hours'!C36","v":0},{"$f":"'Supervision Hours'!D36","v":0},{"$f":"'Supervision Hours'!E36","v":0},{"$f":"'Supervision Hours'!F36","v":0},{"$f":"'Supervision Hours'!G36","v":0},{"$f":"'Supervision Hours'!H36","v":0},{"$f":"'Supervision Hours'!I36","v":0}]
[{"$f":"'Supervision Hours'!A37","v":"00:00:00"},{"$f":"'Supervision Hours'!B37","v":0},{"$f":"'Supervision Hours'!C37","v":0},{"$f":"'Supervision Hours'!D37","v":0},{"$f":"'Supervision Hours'!E37","v":0},{"$f":"'Supervision Hours'!F37","v":0},{"$f":"'Supervision Hours'!G37","v":0},{"$f":"'Supervision Hours'!H37","v":0},{"$f":"'Supervision Hours'!I37","v":0}]
[{"$f":"'Supervision Hours'!A38","v":"00:00:00"},{"$f":"'Supervision Hours'!B38","v":0},{"$f":"'Supervision Hours'!C38","v":0},{"$f":"'Supervision Hours'!D38","v":0},{"$f":"'Supervision Hours'!E38","v":0},{"$f":"'Supervision Hours'!F38","v":0},{"$f":"'Supervision Hours'!G38","v":0},{"$f":"'Supervision Hours'!H38","v":0},{"$f":"'Supervision Hours'!I38","v":0}]
[{"$f":"'Supervision Hours'!A39","v":"00:00:00"},{"$f":"'Supervision Hours'!B39","v":0},{"$f":"'Supervision Hours'!C39","v":0},{"$f":"'Supervision Hours'!D39","v":0},{"$f":"'Supervision Hours'!E39","v":0},{"$f":"'Supervision Hours'!F39","v":0},{"$f":"'Supervision Hours'!G39","v":0},{"$f":"'Supervision Hours'!H39","v":0},{"$f":"'Supervision Hours'!I39","v":0}]
[{"$f":"'Supervision Hours'!A40","v":"00:00:00"},{"$f":"'Supervision Hours'!B40","v":0},{"$f":"'Supervision Hours'!C40","v":0},{"$f":"'Supervision Hours'!D40","v":0},{"$f":"'Supervision Hours'!E40","v":0},{"$f":"'Supervision Hours'!F40","v":0},{"$f":"'Supervision Hours'!G40","v":0},{"$f":"'Supervision Hours'!H40","v":0},{"$f":"'Supervision Hours'!I40","v":0}]
[{"$f":"'Supervision Hours'!A41","v":"00:00:00"},{"$f":"'Supervision Hours'!B41","v":0},{"$f":"'Supervision Hours'!C41","v":0},{"$f":"'Supervision Hours'!D41","v":0},{"$f":"'Supervision Hours'!E41","v":0},{"$f":"'Supervision Hours'!F41","v":0},{"$f":"'Supervision Hours'!G41","v":0},{"$f":"'Supervision Hours'!H41","v":0},{"$f":"'Supervision Hours'!I41","v":0}]
[{"$f":"'Supervision Hours'!A42","v":"00:00:00"},{"$f":"'Supervision Hours'!B42","v":0},{"$f":"'Supervision Hours'!C42","v":0},{"$f":"'Supervision Hours'!D42","v":0},{"$f":"'Supervision Hours'!E42","v":0},{"$f":"'Supervision Hours'!F42","v":0},{"$f":"'Supervision Hours'!G42","v":0},{"$f":"'Supervision Hours'!H42","v":0},{"$f":"'Supervision Hours'!I42","v":0}]
[{"$f":"'Supervision Hours'!A43","v":"00:00:00"},{"$f":"'Supervision Hours'!B43","v":0},{"$f":"'Supervision Hours'!C43","v":0},{"$f":"'Supervision Hours'!D43","v":0},{"$f":"'Supervision Hours'!E43","v":0},{"$f":"'Supervision Hours'!F43","v":0},{"$f":"'Supervision Hours'!G43","v":0},{"$f":"'Supervision Hours'!H43","v":0},{"$f":"'Supervision Hours'!I43","v":0}]
[{"$f":"'Supervision Hours'!A44","v":"00:00:00"},{"$f":"'Supervision Hours'!B44","v":0},{"$f":"'Supervision Hours'!C44","v":0},{"$f":"'Supervision Hours'!D44","v":0},{"$f":"'Supervision Hours'!E44","v":0},{"$f":"'Supervision Hours'!F44","v":0},{"$f":"'Supervision Hours'!G44","v":0},{"$f":"'Supervision Hours'!H44","v":0},{"$f":"'Supervision Hours'!I44","v":0}]
[{"$f":"'Supervision Hours'!A45","v":"00:00:00"},{"$f":"'Supervision Hours'!B45","v":0},{"$f":"'Supervision Hours'!C45","v":0},{"$f":"'Supervision Hours'!D45","v":0},{"$f":"'Supervision Hours'!E45","v":0},{"$f":"'Supervision Hours'!F45","v":0},{"$f":"'Supervision Hours'!G45","v":0},{"$f":"'Supervision Hours'!H45","v":0},{"$f":"'Supervision Hours'!I45","v":0}]
[{"$f":"'Supervision Hours'!A46","v":"00:00:00"},{"$f":"'Supervision Hours'!B46","v":0},{"$f":"'Supervision Hours'!C46","v":0},{"$f":"'Supervision Hours'!D46","v":0},{"$f":"'Supervision Hours'!E46","v":0},{"$f":"'Supervision Hours'!F46","v":0},{"$f":"'Supervision Hours'!G46","v":0},{"$f":"'Supervision Hours'!H46","v":0},{"$f":"'Supervision Hours'!I46","v":0}]
[{"$f":"'Supervision Hours'!A47","v":"00:00:00"},{"$f":"'Supervision Hours'!B47","v":0},{"$f":"'Supervision Hours'!C47","v":0},{"$f":"'Supervision Hours'!D47","v":0},{"$f":"'Supervision Hours'!E47","v":0},{"$f":"'Supervision Hours'!F47","v":0},{"$f":"'Supervision Hours'!G47","v":0},{"$f":"'Supervision Hours'!H47","v":0},{"$f":"'Supervision Hours'!I47","v":0}]
[{"$f":"'Supervision Hours'!A48","v":"00:00:00"},{"$f":"'Supervision Hours'!B48","v":0},{"$f":"'Supervision Hours'!C48","v":0},{"$f":"'Supervision Hours'!D48","v":0},{"$f":"'Supervision Hours'!E48","v":0},{"$f":"'Supervision Hours'!F48","v":0},{"$f":"'Supervision Hours'!G48","v":0},{"$f":"'Supervision Hours'!H48","v":0},{"$f":"'Supervision Hours'!I48","v":0}]
[{"$f":"'Supervision Hours'!A49","v":"00:00:00"},{"$f":"'Supervision Hours'!B49","v":0},{"$f":"'Supervision Hours'!C49","v":0},{"$f":"'Supervision Hours'!D49","v":0},{"$f":"'Supervision Hours'!E49","v":0},{"$f":"'Supervision Hours'!F49","v":0},{"$f":"'Supervision Hours'!G49","v":0},{"$f":"'Supervision Hours'!H49","v":0},{"$f":"'Supervision Hours'!I49","v":0}]
[{"$f":"'Supervision Hours'!A50","v":"00:00:00"},{"$f":"'Supervision Hours'!B50","v":0},{"$f":"'Supervision Hours'!C50","v":0},{"$f":"'Supervision Hours'!D50","v":0},{"$f":"'Supervision Hours'!E50","v":0},{"$f":"'Supervision Hours'!F50","v":0},{"$f":"'Supervision Hours'!G50","v":0},{"$f":"'Supervision Hours'!H50","v":0},{"$f":"'Supervision Hours'!I50","v":0}]
[{"$f":"'Supervision Hours'!A51","v":"00:00:00"},{"$f":"'Supervision Hours'!B51","v":0},{"$f":"'Supervision Hours'!C51","v":0},{"$f":"'Supervision Hours'!D51","v":0},{"$f":"'Supervision Hours'!E51","v":0},{"$f":"'Supervision Hours'!F51","v":0},{"$f":"'Supervision Hours'!G51","v":0},{"$f":"'Supervision Hours'!H51","v":0},{"$f":"'Supervision Hours'!I51","v":0}]
[{"$f":"'Supervision Hours'!A52","v":"00:00:00"},{"$f":"'Supervision Hours'!B52","v":0},{"$f":"'Supervision Hours'!C52","v":0},{"$f":"'Supervision Hours'!D52","v":0},{"$f":"'Supervision Hours'!E52","v":0},{"$f":"'Supervision Hours'!F52","v":0},{"$f":"'Supervision Hours'!G52","v":0},{"$f":"'Supervision Hours'!H52","v":0},{"$f":"'Supervision Hours'!I52","v":0}]
[{"$f":"'Supervision Hours'!A53","v":"00:00:00"},{"$f":"'Supervision Hours'!B53","v":0},{"$f":"'Supervision Hours'!C53","v":0},{"$f":"'Supervision Hours'!D53","v":0},{"$f":"'Supervision Hours'!E53","v":0},{"$f":"'Supervision Hours'!F53","v":0},{"$f":"'Supervision Hours'!G53","v":0},{"$f":"'Supervision Hours'!H53","v":0},{"$f":"'Supervision Hours'!I53","v":0}]
[{"$f":"'Supervision Hours'!A54","v":"00:00:00"},{"$f":"'Supervision Hours'!B54","v":0},{"$f":"'Supervision Hours'!C54","v":0},{"$f":"'Supervision Hours'!D54","v":0},{"$f":"'Supervision Hours'!E54","v":0},{"$f":"'Supervision Hours'!F54","v":0},{"$f":"'Supervision Hours'!G54","v":0},{"$f":"'Supervision Hours'!H54","v":0},{"$f":"'Supervision Hours'!I54","v":0}]
[{"$f":"'Supervision Hours'!A55","v":"00:00:00"},{"$f":"'Supervision Hours'!B55","v":0},{"$f":"'Supervision Hours'!C55","v":0},{"$f":"'Supervision Hours'!D55","v":0},{"$f":"'Supervision Hours'!E55","v":0},{"$f":"'Supervision Hours'!F55","v":0},{"$f":"'Supervision Hours'!G55","v":0},{"$f":"'Supervision Hours'!H55","v":0},{"$f":"'Supervision Hours'!I55","v":0}]
[{"$f":"'Supervision Hours'!A56","v":"00:00:00"},{"$f":"'Supervision Hours'!B56","v":0},{"$f":"'Supervision Hours'!C56","v":0},{"$f":"'Supervision Hours'!D56","v":0},{"$f":"'Supervision Hours'!E56","v":0},{"$f":"'Supervision Hours'!F56","v":0},{"$f":"'Supervision Hours'!G56","v":0},{"$f":"'Supervision Hours'!H56","v":0},{"$f":"'Supervision Hours'!I56","v":0}]
[{"$f":"'Supervision Hours'!A57","v":"00:00:00"},{"$f":"'Supervision Hours'!B57","v":0},{"$f":"'Supervision Hours'!C57","v":0},{"$f":"'Supervision Hours'!D57","v":0},{"$f":"'Supervision Hours'!E57","v":0},{"$f":"'Supervision Hours'!F57","v":0},{"$f":"'Supervision Hours'!G57","v":0},{"$f":"'Supervision Hours'!H57","v":0},{"$f":"'Supervision Hours'!I57","v":0}]
[{"$f":"'Supervision Hours'!A58","v":"00:00:00"},{"$f":"'Supervision Hours'!B58","v":0},{"$f":"'Supervision Hours'!C58","v":0},{"$f":"'Supervision Hours'!D58","v":0},{"$f":"'Supervision Hours'!E58","v":0},{"$f":"'Supervision Hours'!F58","v":0},{"$f":"'Supervision Hours'!G58","v":0},{"$f":"'Supervision Hours'!H58","v":0},{"$f":"'Supervision Hours'!I58","v":0}]
[{"$f":"'Supervision Hours'!A59","v":"00:00:00"},{"$f":"'Supervision Hours'!B59","v":0},{"$f":"'Supervision Hours'!C59","v":0},{"$f":"'Supervision Hours'!D59","v":0},{"$f":"'Supervision Hours'!E59","v":0},{"$f":"'Supervision Hours'!F59","v":0},{"$f":"'Supervision Hours'!G59","v":0},{"$f":"'Supervision Hours'!H59","v":0},{"$f":"'Supervision Hours'!I59","v":0}]
[{"$f":"'Supervision Hours'!A60","v":"00:00:00"},{"$f":"'Supervision Hours'!B60","v":0},{"$f":"'Supervision Hours'!C60","v":0},{"$f":"'Supervision Hours'!D60","v":0},{"$f":"'Supervision Hours'!E60","v":0},{"$f":"'Supervision Hours'!F60","v":0},{"$f":"'Supervision Hours'!G60","v":0},{"$f":"'Supervision Hours'!H60","v":0},{"$f":"'Supervision Hours'!I60","v":0}]
[{"$f":"'Supervision Hours'!A61","v":"00:00:00"},{"$f":"'Supervision Hours'!B61","v":0},{"$f":"'Supervision Hours'!C61","v":0},{"$f":"'Supervision Hours'!D61","v":0},{"$f":"'Supervision Hours'!E61","v":0},{"$f":"'Supervision Hours'!F61","v":0},{"$f":"'Supervision Hours'!G61","v":0},{"$f":"'Supervision Hours'!H61","v":0},{"$f":"'Supervision Hours'!I61","v":0}]
[{"$f":"'Supervision Hours'!A62","v":"00:00:00"},{"$f":"'Supervision Hours'!B62","v":0},{"$f":"'Supervision Hours'!C62","v":0},{"$f":"'Supervision Hours'!D62","v":0},{"$f":"'Supervision Hours'!E62","v":0},{"$f":"'Supervision Hours'!F62","v":0},{"$f":"'Supervision Hours'!G62","v":0},{"$f":"'Supervision Hours'!H62","v":0},{"$f":"'Supervision Hours'!I62","v":0}]
[{"$f":"'Supervision Hours'!A63","v":"00:00:00"},{"$f":"'Supervision Hours'!B63","v":0},{"$f":"'Supervision Hours'!C63","v":0},{"$f":"'Supervision Hours'!D63","v":0},{"$f":"'Supervision Hours'!E63","v":0},{"$f":"'Supervision Hours'!F63","v":0},{"$f":"'Supervision Hours'!G63","v":0},{"$f":"'Supervision Hours'!H63","v":0},{"$f":"'Supervision Hours'!I63","v":0}]
[{"$f":"'Supervision Hours'!A64","v":"00:00:00"},{"$f":"'Supervision Hours'!B64","v":0},{"$f":"'Supervision Hours'!C64","v":0},{"$f":"'Supervision Hours'!D64","v":0},{"$f":"'Supervision Hours'!E64","v":0},{"$f":"'Supervision Hours'!F64","v":0},{"$f":"'Supervision Hours'!G64","v":0},{"$f":"'Supervision Hours'!H64","v":0},{"$f":"'Supervision Hours'!I64","v":0}]
[{"$f":"'Supervision Hours'!A65","v":"00:00:00"},{"$f":"'Supervision Hours'!B65","v":0},{"$f":"'Supervision Hours'!C65","v":0},{"$f":"'Supervision Hours'!D65","v":0},{"$f":"'Supervision Hours'!E65","v":0},{"$f":"'Supervision Hours'!F65","v":0},{"$f":"'Supervision Hours'!G65","v":0},{"$f":"'Supervision Hours'!H65","v":0},{"$f":"'Supervision Hours'!I65","v":0}]
[{"$f":"'Supervision Hours'!A66","v":"00:00:00"},{"$f":"'Supervision Hours'!B66","v":0},{"$f":"'Supervision Hours'!C66","v":0},{"$f":"'Supervision Hours'!D66","v":0},{"$f":"'Supervision Hours'!E66","v":0},{"$f":"'Supervision Hours'!F66","v":0},{"$f":"'Supervision Hours'!G66","v":0},{"$f":"'Supervision Hours'!H66","v":0},{"$f":"'Supervision Hours'!I66","v":0}]
[{"$f":"'Supervision Hours'!A67","v":"00:00:00"},{"$f":"'Supervision Hours'!B67","v":0},{"$f":"'Supervision Hours'!C67","v":0},{"$f":"'Supervision Hours'!D67","v":0},{"$f":"'Supervision Hours'!E67","v":0},{"$f":"'Supervision Hours'!F67","v":0},{"$f":"'Supervision Hours'!G67","v":0},{"$f":"'Supervision Hours'!H67","v":0},{"$f":"'Supervision Hours'!I67","v":0}]
[{"$f":"'Supervision Hours'!A68","v":"00:00:00"},{"$f":"'Supervision Hours'!B68","v":0},{"$f":"'Supervision Hours'!C68","v":0},{"$f":"'Supervision Hours'!D68","v":0},{"$f":"'Supervision Hours'!E68","v":0},{"$f":"'Supervision Hours'!F68","v":0},{"$f":"'Supervision Hours'!G68","v":0},{"$f":"'Supervision Hours'!H68","v":0},{"$f":"'Supervision Hours'!I68","v":0}]
[{"$f":"'Supervision Hours'!A69","v":"00:00:00"},{"$f":"'Supervision Hours'!B69","v":0},{"$f":"'Supervision Hours'!C69","v":0},{"$f":"'Supervision Hours'!D69","v":0},{"$f":"'Supervision Hours'!E69","v":0},{"$f":"'Supervision Hours'!F69","v":0},{"$f":"'Supervision Hours'!G69","v":0},{"$f":"'Supervision Hours'!H69","v":0},{"$f":"'Supervision Hours'!I69","v":0}]
[{"$f":"'Supervision Hours'!A70","v":"00:00:00"},{"$f":"'Supervision Hours'!B70","v":0},{"$f":"'Supervision Hours'!C70","v":0},{"$f":"'Supervision Hours'!D70","v":0},{"$f":"'Supervision Hours'!E70","v":0},{"$f":"'Supervision Hours'!F70","v":0},{"$f":"'Supervision Hours'!G70","v":0},{"$f":"'Supervision Hours'!H70","v":0},{"$f":"'Supervision Hours'!I70","v":0}]
[{"$f":"'Supervision Hours'!A71","v":"00:00:00"},{"$f":"'Supervision Hours'!B71","v":0},{"$f":"'Supervision Hours'!C71","v":0},{"$f":"'Supervision Hours'!D71","v":0},{"$f":"'Supervision Hours'!E71","v":0},{"$f":"'Supervision Hours'!F71","v":0},{"$f":"'Supervision Hours'!G71","v":0},{"$f":"'Supervision Hours'!H71","v":0},{"$f":"'Supervision Hours'!I71","v":0}]
[{"$f":"'Supervision Hours'!A72","v":"00:00:00"},{"$f":"'Supervision Hours'!B72","v":0},{"$f":"'Supervision Hours'!C72","v":0},{"$f":"'Supervision Hours'!D72","v":0},{"$f":"'Supervision Hours'!E72","v":0},{"$f":"'Supervision Hours'!F72","v":0},{"$f":"'Supervision Hours'!G72","v":0},{"$f":"'Supervision Hours'!H72","v":0},{"$f":"'Supervision Hours'!I72","v":0}]
[{"$f":"'Supervision Hours'!A73","v":"00:00:00"},{"$f":"'Supervision Hours'!B73","v":0},{"$f":"'Supervision Hours'!C73","v":0},{"$f":"'Supervision Hours'!D73","v":0},{"$f":"'Supervision Hours'!E73","v":0},{"$f":"'Supervision Hours'!F73","v":0},{"$f":"'Supervision Hours'!G73","v":0},{"$f":"'Supervision Hours'!H73","v":0},{"$f":"'Supervision Hours'!I73","v":0}]
[{"$f":"'Supervision Hours'!A74","v":"00:00:00"},{"$f":"'Supervision Hours'!B74","v":0},{"$f":"'Supervision Hours'!C74","v":0},{"$f":"'Supervision Hours'!D74","v":0},{"$f":"'Supervision Hours'!E74","v":0},{"$f":"'Supervision Hours'!F74","v":0},{"$f":"'Supervision Hours'!G74","v":0},{"$f":"'Supervision Hours'!H74","v":0},{"$f":"'Supervision Hours'!I74","v":0}]
[{"$f":"'Supervision Hours'!A75","v":"00:00:00"},{"$f":"'Supervision Hours'!B75","v":0},{"$f":"'Supervision Hours'!C75","v":0},{"$f":"'Supervision Hours'!D75","v":0},{"$f":"'Supervision Hours'!E75","v":0},{"$f":"'Supervision Hours'!F75","v":0},{"$f":"'Supervision Hours'!G75","v":0},{"$f":"'Supervision Hours'!H75","v":0},{"$f":"'Supervision Hours'!I75","v":0}]
[{"$f":"'Supervision Hours'!A76","v":"00:00:00"},{"$f":"'Supervision Hours'!B76","v":0},{"$f":"'Supervision Hours'!C76","v":0},{"$f":"'Supervision Hours'!D76","v":0},{"$f":"'Supervision Hours'!E76","v":0},{"$f":"'Supervision Hours'!F76","v":0},{"$f":"'Supervision Hours'!G76","v":0},{"$f":"'Supervision Hours'!H76","v":0},{"$f":"'Supervision Hours'!I76","v":0}]
[{"$f":"'Supervision Hours'!A77","v":"00:00:00"},{"$f":"'Supervision Hours'!B77","v":0},{"$f":"'Supervision Hours'!C77","v":0},{"$f":"'Supervision Hours'!D77","v":0},{"$f":"'Supervision Hours'!E77","v":0},{"$f":"'Supervision Hours'!F77","v":0},{"$f":"'Supervision Hours'!G77","v":0},{"$f":"'Supervision Hours'!H77","v":0},{"$f":"'Supervision Hours'!I77","v":0}]
[{"$f":"'Supervision Hours'!A78","v":"00:00:00"},{"$f":"'Supervision Hours'!B78","v":0},{"$f":"'Supervision Hours'!C78","v":0},{"$f":"'Supervision Hours'!D78","v":0},{"$f":"'Supervision Hours'!E78","v":0},{"$f":"'Supervision Hours'!F78","v":0},{"$f":"'Supervision Hours'!G78","v":0},{"$f":"'Supervision Hours'!H78","v":0},{"$f":"'Supervision Hours'!I78","v":0}]
[{"$f":"'Supervision Hours'!A79","v":"00:00:00"},{"$f":"'Supervision Hours'!B79","v":0},{"$f":"'Supervision Hours'!C79","v":0},{"$f":"'Supervision Hours'!D79","v":0},{"$f":"'Supervision Hours'!E79","v":0},{"$f":"'Supervision Hours'!F79","v":0},{"$f":"'Supervision Hours'!G79","v":0},{"$f":"'Supervision Hours'!H79","v":0},{"$f":"'Supervision Hours'!I79","v":0}]
[{"$f":"'Supervision Hours'!A80","v":"00:00:00"},{"$f":"'Supervision Hours'!B80","v":0},{"$f":"'Supervision Hours'!C80","v":0},{"$f":"'Supervision Hours'!D80","v":0},{"$f":"'Supervision Hours'!E80","v":0},{"$f":"'Supervision Hours'!F80","v":0},{"$f":"'Supervision Hours'!G80","v":0},{"$f":"'Supervision Hours'!H80","v":0},{"$f":"'Supervision Hours'!I80","v":0}]
[{"$f":"'Supervision Hours'!A81","v":"00:00:00"},{"$f":"'Supervision Hours'!B81","v":0},{"$f":"'Supervision Hours'!C81","v":0},{"$f":"'Supervision Hours'!D81","v":0},{"$f":"'Supervision Hours'!E81","v":0},{"$f":"'Supervision Hours'!F81","v":0},{"$f":"'Supervision Hours'!G81","v":0},{"$f":"'Supervision Hours'!H81","v":0},{"$f":"'Supervision Hours'!I81","v":0}]
[{"$f":"'Supervision Hours'!A82","v":"00:00:00"},{"$f":"'Supervision Hours'!B82","v":0},{"$f":"'Supervision Hours'!C82","v":0},{"$f":"'Supervision Hours'!D82","v":0},{"$f":"'Supervision Hours'!E82","v":0},{"$f":"'Supervision Hours'!F82","v":0},{"$f":"'Supervision Hours'!G82","v":0},{"$f":"'Supervision Hours'!H82","v":0},{"$f":"'Supervision Hours'!I82","v":0}]
[{"$f":"'Supervision Hours'!A83","v":"00:00:00"},{"$f":"'Supervision Hours'!B83","v":0},{"$f":"'Supervision Hours'!C83","v":0},{"$f":"'Supervision Hours'!D83","v":0},{"$f":"'Supervision Hours'!E83","v":0},{"$f":"'Supervision Hours'!F83","v":0},{"$f":"'Supervision Hours'!G83","v":0},{"$f":"'Supervision Hours'!H83","v":0},{"$f":"'Supervision Hours'!I83","v":0}]
[{"$f":"'Supervision Hours'!A84","v":"00:00:00"},{"$f":"'Supervision Hours'!B84","v":0},{"$f":"'Supervision Hours'!C84","v":0},{"$f":"'Supervision Hours'!D84","v":0},{"$f":"'Supervision Hours'!E84","v":0},{"$f":"'Supervision Hours'!F84","v":0},{"$f":"'Supervision Hours'!G84","v":0},{"$f":"'Supervision Hours'!H84","v":0},{"$f":"'Supervision Hours'!I84","v":0}]
[{"$f":"'Supervision Hours'!A85","v":"00:00:00"},{"$f":"'Supervision Hours'!B85","v":0},{"$f":"'Supervision Hours'!C85","v":0},{"$f":"'Supervision Hours'!D85","v":0},{"$f":"'Supervision Hours'!E85","v":0},{"$f":"'Supervision Hours'!F85","v":0},{"$f":"'Supervision Hours'!G85","v":0},{"$f":"'Supervision Hours'!H85","v":0},{"$f":"'Supervision Hours'!I85","v":0}]
[{"$f":"'Supervision Hours'!A86","v":"00:00:00"},{"$f":"'Supervision Hours'!B86","v":0},{"$f":"'Supervision Hours'!C86","v":0},{"$f":"'Supervision Hours'!D86","v":0},{"$f":"'Supervision Hours'!E86","v":0},{"$f":"'Supervision Hours'!F86","v":0},{"$f":"'Supervision Hours'!G86","v":0},{"$f":"'Supervision Hours'!H86","v":0},{"$f":"'Supervision Hours'!I86","v":0}]
[{"$f":"'Supervision Hours'!A87","v":"00:00:00"},{"$f":"'Supervision Hours'!B87","v":0},{"$f":"'Supervision Hours'!C87","v":0},{"$f":"'Supervision Hours'!D87","v":0},{"$f":"'Supervision Hours'!E87","v":0},{"$f":"'Supervision Hours'!F87","v":0},{"$f":"'Supervision Hours'!G87","v":0},{"$f":"'Supervision Hours'!H87","v":0},{"$f":"'Supervision Hours'!I87","v":0}]
[{"$f":"'Supervision Hours'!A88","v":"00:00:00"},{"$f":"'Supervision Hours'!B88","v":0},{"$f":"'Supervision Hours'!C88","v":0},{"$f":"'Supervision Hours'!D88","v":0},{"$f":"'Supervision Hours'!E88","v":0},{"$f":"'Supervision Hours'!F88","v":0},{"$f":"'Supervision Hours'!G88","v":0},{"$f":"'Supervision Hours'!H88","v":0},{"$f":"'Supervision Hours'!I88","v":0}]
[{"$f":"'Supervision Hours'!A89","v":"00:00:00"},{"$f":"'Supervision Hours'!B89","v":0},{"$f":"'Supervision Hours'!C89","v":0},{"$f":"'Supervision Hours'!D89","v":0},{"$f":"'Supervision Hours'!E89","v":0},{"$f":"'Supervision Hours'!F89","v":0},{"$f":"'Supervision Hours'!G89","v":0},{"$f":"'Supervision Hours'!H89","v":0},{"$f":"'Supervision Hours'!I89","v":0}]
[{"$f":"'Supervision Hours'!A90","v":"00:00:00"},{"$f":"'Supervision Hours'!B90","v":0},{"$f":"'Supervision Hours'!C90","v":0},{"$f":"'Supervision Hours'!D90","v":0},{"$f":"'Supervision Hours'!E90","v":0},{"$f":"'Supervision Hours'!F90","v":0},{"$f":"'Supervision Hours'!G90","v":0},{"$f":"'Supervision Hours'!H90","v":0},{"$f":"'Supervision Hours'!I90","v":0}]
[{"$f":"'Supervision Hours'!A91","v":"00:00:00"},{"$f":"'Supervision Hours'!B91","v":0},{"$f":"'Supervision Hours'!C91","v":0},{"$f":"'Supervision Hours'!D91","v":0},{"$f":"'Supervision Hours'!E91","v":0},{"$f":"'Supervision Hours'!F91","v":0},{"$f":"'Supervision Hours'!G91","v":0},{"$f":"'Supervision Hours'!H91","v":0},{"$f":"'Supervision Hours'!I91","v":0}]
[{"$f":"'Supervision Hours'!A92","v":"00:00:00"},{"$f":"'Supervision Hours'!B92","v":0},{"$f":"'Supervision Hours'!C92","v":0},{"$f":"'Supervision Hours'!D92","v":0},{"$f":"'Supervision Hours'!E92","v":0},{"$f":"'Supervision Hours'!F92","v":0},{"$f":"'Supervision Hours'!G92","v":0},{"$f":"'Supervision Hours'!H92","v":0},{"$f":"'Supervision Hours'!I92","v":0}]
[{"$f":"'Supervision Hours'!A93","v":"00:00:00"},{"$f":"'Supervision Hours'!B93","v":0},{"$f":"'Supervision Hours'!C93","v":0},{"$f":"'Supervision Hours'!D93","v":0},{"$f":"'Supervision Hours'!E93","v":0},{"$f":"'Supervision Hours'!F93","v":0},{"$f":"'Supervision Hours'!G93","v":0},{"$f":"'Supervision Hours'!H93","v":0},{"$f":"'Supervision Hours'!I93","v":0}]
[{"$f":"'Supervision Hours'!A94","v":"00:00:00"},{"$f":"'Supervision Hours'!B94","v":0},{"$f":"'Supervision Hours'!C94","v":0},{"$f":"'Supervision Hours'!D94","v":0},{"$f":"'Supervision Hours'!E94","v":0},{"$f":"'Supervision Hours'!F94","v":0},{"$f":"'Supervision Hours'!G94","v":0},{"$f":"'Supervision Hours'!H94","v":0},{"$f":"'Supervision Hours'!I94","v":0}]
[{"$f":"'Supervision Hours'!A95","v":"00:00:00"},{"$f":"'Supervision Hours'!B95","v":0},{"$f":"'Supervision Hours'!C95","v":0},{"$f":"'Supervision Hours'!D95","v":0},{"$f":"'Supervision Hours'!E95","v":0},{"$f":"'Supervision Hours'!F95","v":0},{"$f":"'Supervision Hours'!G95","v":0},{"$f":"'Supervision Hours'!H95","v":0},{"$f":"'Supervision Hours'!I95","v":0}]
[{"$f":"'Supervision Hours'!A96","v":"00:00:00"},{"$f":"'Supervision Hours'!B96","v":0},{"$f":"'Supervision Hours'!C96","v":0},{"$f":"'Supervision Hours'!D96","v":0},{"$f":"'Supervision Hours'!E96","v":0},{"$f":"'Supervision Hours'!F96","v":0},{"$f":"'Supervision Hours'!G96","v":0},{"$f":"'Supervision Hours'!H96","v":0},{"$f":"'Supervision Hours'!I96","v":0}]
[{"$f":"'Supervision Hours'!A97","v":"00:00:00"},{"$f":"'Supervision Hours'!B97","v":0},{"$f":"'Supervision Hours'!C97","v":0},{"$f":"'Supervision Hours'!D97","v":0},{"$f":"'Supervision Hours'!E97","v":0},{"$f":"'Supervision Hours'!F97","v":0},{"$f":"'Supervision Hours'!G97","v":0},{"$f":"'Supervision Hours'!H97","v":0},{"$f":"'Supervision Hours'!I97","v":0}]
[{"$f":"'Supervision Hours'!A98","v":"00:00:00"},{"$f":"'Supervision Hours'!B98","v":0},{"$f":"'Supervision Hours'!C98","v":0},{"$f":"'Supervision Hours'!D98","v":0},{"$f":"'Supervision Hours'!E98","v":0},{"$f":"'Supervision Hours'!F98","v":0},{"$f":"'Supervision Hours'!G98","v":0},{"$f":"'Supervision Hours'!H98","v":0},{"$f":"'Supervision Hours'!I98","v":0}]
[{"$f":"'Supervision Hours'!A99","v":"00:00:00"},{"$f":"'Supervision Hours'!B99","v":0},{"$f":"'Supervision Hours'!C99","v":0},{"$f":"'Supervision Hours'!D99","v":0},{"$f":"'Supervision Hours'!E99","v":0},{"$f":"'Supervision Hours'!F99","v":0},{"$f":"'Supervision Hours'!G99","v":0},{"$f":"'Supervision Hours'!H99","v":0},{"$f":"'Supervision Hours'!I99","v":0}]
[{"$f":"'Supervision Hours'!A100","v":"00:00:00"},{"$f":"'Supervision Hours'!B100","v":0},{"$f":"'Supervision Hours'!C100","v":0},{"$f":"'Supervision Hours'!D100","v":0},{"$f":"'Supervision Hours'!E100","v":0},{"$f":"'Supervision Hours'!F100","v":0},{"$f":"'Supervision Hours'!G100","v":0},{"$f":"'Supervision Hours'!H100","v":0},{"$f":"'Supervision Hours'!I100","v":0}]
[{"$f":"'Supervision Hours'!A101","v":"00:00:00"},{"$f":"'Supervision Hours'!B101","v":0},{"$f":"'Supervision Hours'!C101","v":0},{"$f":"'Supervision Hours'!D101","v":0},{"$f":"'Supervision Hours'!E101","v":0},{"$f":"'Supervision Hours'!F101","v":0},{"$f":"'Supervision Hours'!G101","v":0},{"$f":"'Supervision Hours'!H101","v":0},{"$f":"'Supervision Hours'!I101","v":0}]
[{"$f":"'Supervision Hours'!A102","v":"00:00:00"},{"$f":"'Supervision Hours'!B102","v":0},{"$f":"'Supervision Hours'!C102","v":0},{"$f":"'Supervision Hours'!D102","v":0},{"$f":"'Supervision Hours'!E102","v":0},{"$f":"'Supervision Hours'!F102","v":0},{"$f":"'Supervision Hours'!G102","v":0},{"$f":"'Supervision Hours'!H102","v":0},{"$f":"'Supervision Hours'!I102","v":0}]
[{"$f":"'Supervision Hours'!A103","v":"00:00:00"},{"$f":"'Supervision Hours'!B103","v":0},{"$f":"'Supervision Hours'!C103","v":0},{"$f":"'Supervision Hours'!D103","v":0},{"$f":"'Supervision Hours'!E103","v":0},{"$f":"'Supervision Hours'!F103","v":0},{"$f":"'Supervision Hours'!G103","v":0},{"$f":"'Supervision Hours'!H103","v":0},{"$f":"'Supervision Hours'!I103","v":0}]
[{"$f":"'Supervision Hours'!A104","v":"00:00:00"},{"$f":"'Supervision Hours'!B104","v":0},{"$f":"'Supervision Hours'!C104","v":0},{"$f":"'Supervision Hours'!D104","v":0},{"$f":"'Supervision Hours'!E104","v":0},{"$f":"'Supervision Hours'!F104","v":0},{"$f":"'Supervision Hours'!G104","v":0},{"$f":"'Supervision Hours'!H104","v":0},{"$f":"'Supervision Hours'!I104","v":0}]
[{"$f":"'Supervision Hours'!A105","v":"00:00:00"},{"$f":"'Supervision Hours'!B105","v":0},{"$f":"'Supervision Hours'!C105","v":0},{"$f":"'Supervision Hours'!D105","v":0},{"$f":"'Supervision Hours'!E105","v":0},{"$f":"'Supervision Hours'!F105","v":0},{"$f":"'Supervision Hours'!G105","v":0},{"$f":"'Supervision Hours'!H105","v":0},{"$f":"'Supervision Hours'!I105","v":0}]
[{"$f":"'Supervision Hours'!A106","v":"00:00:00"},{"$f":"'Supervision Hours'!B106","v":0},{"$f":"'Supervision Hours'!C106","v":0},{"$f":"'Supervision Hours'!D106","v":0},{"$f":"'Supervision Hours'!E106","v":0},{"$f":"'Supervision Hours'!F106","v":0},{"$f":"'Supervision Hours'!G106","v":0},{"$f":"'Supervision Hours'!H106","v":0},{"$f":"'Supervision Hours'!I106","v":0}]
[{"$f":"'Supervision Hours'!A107","v":"00:00:00"},{"$f":"'Supervision Hours'!B107","v":0},{"$f":"'Supervision Hours'!C107","v":0},{"$f":"'Supervision Hours'!D107","v":0},{"$f":"'Supervision Hours'!E107","v":0},{"$f":"'Supervision Hours'!F107","v":0},{"$f":"'Supervision Hours'!G107","v":0},{"$f":"'Supervision Hours'!H107","v":0},{"$f":"'Supervision Hours'!I107","v":0}]
[{"$f":"'Supervision Hours'!A108","v":"00:00:00"},{"$f":"'Supervision Hours'!B108","v":0},{"$f":"'Supervision Hours'!C108","v":0},{"$f":"'Supervision Hours'!D108","v":0},{"$f":"'Supervision Hours'!E108","v":0},{"$f":"'Supervision Hours'!F108","v":0},{"$f":"'Supervision Hours'!G108","v":0},{"$f":"'Supervision Hours'!H108","v":0},{"$f":"'Supervision Hours'!I108","v":0}]
[{"$f":"'Supervision Hours'!A109","v":"00:00:00"},{"$f":"'Supervision Hours'!B109","v":0},{"$f":"'Supervision Hours'!C109","v":0},{"$f":"'Supervision Hours'!D109","v":0},{"$f":"'Supervision Hours'!E109","v":0},{"$f":"'Supervision Hours'!F109","v":0},{"$f":"'Supervision Hours'!G109","v":0},{"$f":"'Supervision Hours'!H109","v":0},{"$f":"'Supervision Hours'!I109","v":0}]

{"sheet":"Formula Info","index":6,"n_rows":15,"n_cols":8,"rows_kept":15,"cut":false,"hidden":false,"merged":[[0,2,0,7]]}
["Today's Date",null,"Expected Graduation Info"]
[{"$f":"TODAY()","v":"2026-07-31"},null,"Graduation","Date","Days Between Today and Grad","Weeks Between Today and Grad","Clients/Week","Clients per week message"]
[null,null,"June '26","2026-05-15",{"$f":"NETWORKDAYS(A2,D3)","v":-56},{"$f":"E3/5","v":-11.2},{"$f":"ROUNDUP(Summary!L16/'Formula Info'!F3, 1)","v":-35.800000000000004},{"$f":"_xlfn.CONCAT(G3, \" clients per week\")","v":"-35.8 clients per week"}]
[null,null,"June '27","2027-05-15",{"$f":"NETWORKDAYS(A2,D4)","v":206},41.2,{"$f":"ROUNDUP(Summary!L16/'Formula Info'!F4, 1)","v":9.7999999999999989},"9.8 clients per week"]
[null,null,"June '28","2028-05-15",{"$f":"NETWORKDAYS(A2,D5)","v":467},93.4,{"$f":"ROUNDUP(Summary!L16/'Formula Info'!F5, 1)","v":4.3},"4.3 clients per week"]
[null,null,"June '29","2029-05-15",{"$f":"NETWORKDAYS(A5,D6)","v":33752},6750.4,{"$f":"ROUNDUP(Summary!L18/'Formula Info'!F6, 1)","v":0},"0 clients per week"]
[null,null,"June '30","2030-05-15",{"$f":"NETWORKDAYS(A5,D7)","v":34013},6802.6,{"$f":"ROUNDUP(Summary!L18/'Formula Info'!F7, 1)","v":0},"0 clients per week"]
[null,null,"June '31","2031-05-15",{"$f":"NETWORKDAYS(A5,D8)","v":34274},{"$f":"E8/5","v":6854.8},{"$f":"ROUNDUP(Summary!L22/'Formula Info'!F8, 1)","v":0},{"$f":"_xlfn.CONCAT(G8, \" clients per week\")","v":"0 clients per week"}]
[null,null,"June '32","2032-05-15",{"$f":"NETWORKDAYS(A5,D9)","v":34535},6907,{"$f":"ROUNDUP(Summary!L22/'Formula Info'!F9, 1)","v":0},"0 clients per week"]
[]
[]
[]
[]
[]
["Supervisors and students should discuss policies and specific situations to determine which hours count; this may vary by supervisor. Commonly agreed-upon standards include: • Within BYU’s MFT Program, we expect Master’s Students to earn 400 face-to-face clinical hours with at least 250 of those hours being relational (with more than one client present in the room). • Basic Utah Standard (as of 2025): To obtain Associate Marriage and Family Therapist (AMFT) status in Utah, applicants must complete a clinical practicum of at least 400 hours, including at least 100 hours of face-to-face supervision and 300 direct contact hours of face-to-face supervised clinical practice, with at least 150 hours involving couples or families physically present in the therapy room. • Supervision or Practicum Hour: Typically, a full 60 minutes; 60 minutes equals 1 hour. • Individual/Dyadic Supervision: One or two students present receiving supervision from their assigned supervisor. • Therapy Hour: Fifty (50) minutes of face-to-face therapy equates to 1 hour of therapy; 60 minutes equals 1.2 hours. • Relational Therapy Hour: Involves therapy sessions conducted by you with more than 1 person (couples, families etc.) physically present in the therapy room receiving treatment • Combo Therapy/Supervision Hour: When conducting a therapy session that is supervised live, count it as one hour of therapy and one hour of live supervision"]

{"sheet":"AmeriCorps","index":7,"n_rows":15,"n_cols":6,"rows_kept":15,"cut":false,"hidden":false,"merged":[]}
["Month","Hours","Grand Total:",{"$f":"SUM(B2:B1048576)","v":0},null,"TERM"]
["September",null,"To Go:",{"$f":"IF(F2=\"300-hour\",300-D1,IF(F2=\"450-hour\",450-D1,IF(F2=\"675-hour\",675-D1,\"\")))","v":300},null,"300-hour"]
["October"]
["November"]
["December"]
["January"]
["February"]
["March"]
["April"]
["May"]
["June"]
["July"]
["August"]
["September"]
["October"]

{"sheet":"Definitions (September 2025)","index":8,"n_rows":18,"n_cols":1,"rows_kept":18,"cut":false,"hidden":false,"merged":[]}
[]
["The clinical practicum supervisor plays a pivotal role in students' clinical training, particularly in verifying clinical supervision hours anddirect client contact hours. Students are required to submit a log of their hours each semester or term to the part-time secretary in 234 TLRB. Failure to do so may result in a marginal or unsatisfactory student evaluation. "]
[]
["Supervisors and students should discuss policies and specific situations to determine which hours count; this may vary by supervisor. Commonly agreed-upon standards include:"]
[]
["Within BYU’s MFT Program, we expect Master’s Students to earn 400 face-to-face clinical hours with at least 250 of those hours being relational (with more than one client present in the room and their relationship the focus of therapy)."]
["Basic Utah Standard (as of 2025): To obtain Associate Marriage and Family Therapist (AMFT) status in Utah, applicants must complete a clinical practicum of at least 400 hours, including at least 100 hours of face-to-face supervision and 300 direct contact hours of face-to-face supervised clinical practice, with at least 150 hours involving couples or families physically present in thetherapy room. "]
["Supervision or Practicum Hour: Typically a full 60 minutes; 60 minutes equals 1 hour."]
["Individual/Dyadic Supervision: One or two students present receiving supervision from their assigned supervisor."]
["Therapy Hour: Fifty (50) minutes of face-to-face therapy equates to 1 hour of therapy; 60 minutes equals 1.2 hours."]
["Relational Therapy Hour: Involves therapy sessions conducted by you with more than 1 person (couples, families etc.) physically present in the therapy room receiving treatment"]
["Combo Therapy/Supervision Hour: When conducting a therapy session that is supervised live, count it as one hour of therapy and one hour of live supervision."]
["Group Individual Supervision: Occurs when you review a video of your own session during group practicum supervision."]
["Group Video Supervision: Involves watching a video of another practicum member's session during supervision group."]
["Live/Raw Supervision: Entails observation of your therapy sessions by your assigned practicum supervisor via video or behind a one-way mirror while you are present."]
[]
[]
["Please note that recent Utah legislative changes, such as SB26 Behavioral Health Licensing Amendments, and COAMFTE Guidelinesmay impact these guidelines. For the most current information, refer to the Utah Division of Occupational and Professional Licensing (DOPL) website"]

{"sheet":"Caseload Management","index":9,"n_rows":27,"n_cols":17,"rows_kept":27,"cut":false,"hidden":false,"merged":[[0,0,0,1]]}
["Today's Date",null,{"$f":"TODAY()","v":"2026-07-31"},"Sessions today",{"$f":"SUM(Q3:Q1048576)","v":0},"Last Edited"]
["Case","Type","Language","Next session scheduled?","When?","Active?","Terminating soon?","Sessions Completed","Price?","Paid? If not, how many owed?","Therapy Model","Treatment Plan Needed?","Treatment plan complete?","In PRN?","Big PRN Next?","Warned about PRN?"]
[null,null,null,{"$f":"IF(E3=\"\", \"\", IF(E3=\"TBD\",\"No\",IF(_xlfn.DAYS(E3,TODAY())<1,\"No\", \"Yes\")))","v":""},null,null,null,null,null,null,null,{"$f":"IF(H3=\"\", \"\", IF(H3>2, \"Yes\", \"No\"))","v":""},null,null,{"$f":"IF(H3=\"\", \"\", IF(OR(C3=\"SP\", C3=\"FR\", C3=\"CH\", C3=\"Other\"), \"No\", IF(OR(H3+1=1, H3+1=4, H3+1=8, H3+1=12, H3+1=16, H3+1=20, H3+1=24, H3+1=32, H3+1=40), \"Yes\", \"No\")))","v":""},null,{"$f":"IF(E3=C1, 1, \"\")","v":""}]
[null,null,null,{"$f":"IF(E4=\"\", \"\", IF(E4=\"TBD\",\"No\",IF(_xlfn.DAYS(E4,TODAY())<1,\"No\", \"Yes\")))","v":""},null,null,null,null,null,null,null,"",null,null,{"$f":"IF(H4=\"\", \"\", IF(OR(C4=\"SP\", C4=\"FR\", C4=\"CH\", C4=\"Other\"), \"No\", IF(OR(H4+1=1, H4+1=4, H4+1=8, H4+1=12, H4+1=16, H4+1=20, H4+1=24, H4+1=32, H4+1=40), \"Yes\", \"No\")))","v":""},null,{"$f":"IF(E4=C1, 1, \"\")","v":""}]
[null,null,null,"",null,null,null,null,null,null,null,"",null,null,"",null,{"$f":"IF(E5=C1, 1, \"\")","v":""}]
[null,null,null,"",null,null,null,null,null,null,null,"",null,null,"",null,{"$f":"IF(E6=C1, 1, \"\")","v":""}]
[null,null,null,"",null,null,null,null,null,null,null,"",null,null,"",null,{"$f":"IF(E7=C1, 1, \"\")","v":""}]
[null,null,null,"",null,null,null,null,null,null,null,"",null,null,"",null,{"$f":"IF(E8=C1, 1, \"\")","v":""}]
[null,null,null,"",null,null,null,null,null,null,null,"",null,null,"",null,{"$f":"IF(E9=C1, 1, \"\")","v":""}]
[null,null,null,"",null,null,null,null,null,null,null,"",null,null,"",null,{"$f":"IF(E10=C1, 1, \"\")","v":""}]
[null,null,null,"",null,null,null,null,null,null,null,"",null,null,"",null,{"$f":"IF(E11=C1, 1, \"\")","v":""}]
[null,null,null,"",null,null,null,null,null,null,null,"",null,null,"",null,{"$f":"IF(E12=C1, 1, \"\")","v":""}]
[null,null,null,"",null,null,null,null,null,null,null,"",null,null,"",null,{"$f":"IF(E13=C1, 1, \"\")","v":""}]
[null,null,null,"",null,null,null,null,null,null,null,"",null,null,"",null,{"$f":"IF(E14=C1, 1, \"\")","v":""}]
[null,null,null,"",null,null,null,null,null,null,null,"",null,null,"",null,{"$f":"IF(E15=C1, 1, \"\")","v":""}]
[null,null,null,"",null,null,null,null,null,null,null,"",null,null,"",null,{"$f":"IF(E16=C1, 1, \"\")","v":""}]
[null,null,null,"",null,null,null,null,null,null,null,"",null,null,"",null,{"$f":"IF(E17=C1, 1, \"\")","v":""}]
[null,null,null,"",null,null,null,null,null,null,null,"",null,null,"",null,{"$f":"IF(E18=C1, 1, \"\")","v":""}]
[null,null,null,"",null,null,null,null,null,null,null,"",null,null,"",null,{"$f":"IF(E19=C1, 1, \"\")","v":""}]
[null,null,null,{"$f":"IF(E20=\"\", \"\", IF(E20=\"TBD\",\"No\",IF(_xlfn.DAYS(E20,TODAY())<1,\"No\", \"Yes\")))","v":""},null,null,null,null,null,null,null,"",null,null,"",null,{"$f":"IF(E20=C1, 1, \"\")","v":""}]
[null,null,null,"",null,null,null,null,null,null,null,"",null,null,"",null,{"$f":"IF(E21=C1, 1, \"\")","v":""}]
[null,null,null,"",null,null,null,null,null,null,null,"",null,null,"",null,{"$f":"IF(E22=C1, 1, \"\")","v":""}]
[null,null,null,"",null,null,null,null,null,null,null,"",null,null,""]
[null,null,null,"",null,null,null,null,null,null,null,"",null,null,""]
[null,null,null,"",null,null,null,null,null,null,null,"",null,null,""]
[null,null,null,"",null,null,null,null,null,null,null,"",null,null,""]
[null,null,null,"",null,null,null,null,null,null,null,"",null,null,""]