{"text_format":"1","workbook":"xlsx","n_sheets":8,"sheets":["Summary","Total Therapy","Total Supervision","Semester Therapy","Semester Supervision","AmeriCorps","Caseload","Formula Info"],"not_rendered":{"charts":0,"images":0,"macros":1,"external_links":0,"defined_names":0,"comments":0,"pivot_tables":0},"unopened":[],"bounds":{"document_bytes":16777216,"sheet_cells":100000,"rows_first":2000,"rows_last":500,"rows_between":2000,"halvings":0,"cell_chars":16384,"cell_head_chars":4096},"cells_cut":0,"cells_raw":0,"read":"whole","date_system":"1900"}

{"sheet":"Summary","index":0,"n_rows":32,"n_cols":13,"rows_kept":32,"cut":false,"hidden":false,"merged":[[0,0,0,7],[11,1,12,1],[11,2,11,5],[13,8,13,12],[7,0,7,1],[10,2,10,5],[8,0,8,1],[9,0,9,1],[3,0,3,1],[4,0,4,1],[5,0,5,1],[6,0,6,1],[1,0,2,1],[31,2,31,3],[31,4,31,5],[27,3,27,4],[11,0,12,0],[23,0,24,0],[23,1,24,1],[23,2,23,5],[19,2,19,5],[22,2,22,5]]}
["Semester Clinical Experience Summary"]
[]
[]
["THERAPIST NAME"]
["Total"]
["SEMESTER"]
[]
["SITE"]
["Aug '22"]
["EXPECTED GRADUATION DATE"]
[null,null,"Hours of Therapy"]
["Dates","MODE OF THERAPY","UNIT/SYSTEM IN THERAPY"]
[null,null,"Individual","Couple","Family","TOTAL"]
["Beginning:","Individual",{"$f":"IF(A5=\"Total\", SUM('Total Therapy'!C14:C1000), IF(OR(A5=\"Fall\", A5=\"Winter\", A5=\"Spring\", A5=\"Summer\"), SUM('Semester Therapy'!C14:C999), \"\"))","v":0},{"$f":"IF(A5=\"Total\", SUM('Total Therapy'!D14:D1000), IF(OR(A5=\"Fall\", A5=\"Winter\", A5=\"Spring\", A5=\"Summer\"), SUM('Semester Therapy'!D14:D999), \"\"))","v":0},{"$f":"IF(A5=\"Total\", SUM('Total Therapy'!E14:E1000), IF(OR(A5=\"Fall\", A5=\"Winter\", A5=\"Spring\", A5=\"Summer\"), SUM('Semester Therapy'!E14:E999), \"\"))","v":0},{"$f":"SUM(C14:E14)","v":0},null,null,"Total Hours of Therapy"]
[{"$f":"IF(Summary!A5=\"\", \"\", IF(AND(Summary!A5=\"Total\", Summary!F18>0), 'Total Therapy'!A14, IF(AND(OR(Summary!A5=\"Fall\", Summary!A5=\"Winter\", Summary!A5=\"Spring\", Summary!A5=\"Summer\"), Summary!F18>0), 'Semester Therapy'!#REF!, \"\")))","v":""},"Group",{"$f":"IF(A5=\"Total\", SUM('Total Therapy'!F14:F1000), IF(OR(A5=\"Fall\", A5=\"Winter\", A5=\"Spring\", A5=\"Summer\"), SUM('Semester Therapy'!F14:F999), \"\"))","v":0},{"$f":"IF(A5=\"Total\", SUM('Total Therapy'!G14:G1000), IF(OR(A5=\"Fall\", A5=\"Winter\", A5=\"Spring\", A5=\"Summer\"), SUM('Semester Therapy'!G14:G999), \"\"))","v":0},{"$f":"IF(A5=\"Total\", SUM('Total Therapy'!H14:H1000), IF(OR(A5=\"Fall\", A5=\"Winter\", A5=\"Spring\", A5=\"Summer\"), SUM('Semester Therapy'!H14:H999), \"\"))","v":0},{"$f":"SUM(C15:E15)","v":0},null,null,null,"Individual","Relational","Combined","Program Requirements"]
[null,"Psychoeducation",{"$f":"IF(A5=\"Total\", SUM('Total Therapy'!I14:I1000), IF(OR(A5=\"Fall\", A5=\"Winter\", A5=\"Spring\", A5=\"Summer\"), SUM('Semester Therapy'!I14:I999), \"\"))","v":0},{"$f":"IF(A5=\"Total\", SUM('Total Therapy'!J14:J1000), IF(OR(A5=\"Fall\", A5=\"Winter\", A5=\"Spring\", A5=\"Summer\"), SUM('Semester Therapy'!J14:J999), \"\"))","v":0},{"$f":"IF(A5=\"Total\", SUM('Total Therapy'!K14:K1000), IF(OR(A5=\"Fall\", A5=\"Winter\", A5=\"Spring\", A5=\"Summer\"), SUM('Semester Therapy'!K14:K999), \"\"))","v":0},{"$f":"SUM(C16:E16)","v":0},null,null,"Total To Go",{"$f":"249-C18","v":249},{"$f":"251-(D18+E18)","v":251},{"$f":"500-(F18)","v":500},{"$f":"IF(L17=0, \"No info available\", IF(K17>J17, \"Relational hrs on track\", \"Need more relational hrs\"))","v":"No info available"}]
["Ending:","Team",{"$f":"IF(A5=\"Total\", SUM('Total Therapy'!L14:L1000), IF(OR(A5=\"Fall\", A5=\"Winter\", A5=\"Spring\", A5=\"Summer\"), SUM('Semester Therapy'!L14:L999), \"\"))","v":0},{"$f":"IF(A5=\"Total\", SUM('Total Therapy'!M14:M1000), IF(OR(A5=\"Fall\", A5=\"Winter\", A5=\"Spring\", A5=\"Summer\"), SUM('Semester Therapy'!M14:M999), \"\"))","v":0},{"$f":"IF(A5=\"Total\", SUM('Total Therapy'!N14:N1000), IF(OR(A5=\"Fall\", A5=\"Winter\", A5=\"Spring\", A5=\"Summer\"), SUM('Semester Therapy'!N14:N999), \"\"))","v":0},{"$f":"SUM(C17:E17)","v":0},null,null,"Total % Finished",{"$f":"(C18/250)","v":0},{"$f":"(D18+E18)/250","v":0},{"$f":"F18/500","v":0},{"$f":"IF(A9=\"\", \"Select an expected graduation date\", IF(Summary!A9='Formula Info'!C3, 'Formula Info'!H3, IF(Summary!A9='Formula Info'!C4, 'Formula Info'!H4, IF(Summary!A9='Formula Info'!C5, 'Formula Info'!H5, IF(Summary!A9='Formula Info'!C6, 'Formula Info'!H6, IF(Summary!A9='Formula Info'!C7, 'Formula Info'!H7, IF(Summary!A9='Formula Info'!C8, 'Formula Info'!H8, \"\")))))))","v":""}]
[{"$f":"IF(Summary!A5=\"\", \"\", IF(AND(Summary!A5=\"Total\", Summary!F18>0), LOOKUP(2,1/('Total Therapy'!A14:A1048576<>\"\"),'Total Therapy'!A14:A1048576), IF(AND(OR(Summary!A5=\"Fall\", Summary!A5=\"Winter\", Summary!A5=\"Spring\", Summary!A5=\"Summer\"), Summary!F18>0), LOOKUP(2,1/('Semester Therapy'!A14:A1048576<>\"\"),'Semester Therapy'!A14:A1048576), \"\")))","v":""},"TOTAL",{"$f":"SUM(C14:C17)","v":0},{"$f":"SUM(D14:D17)","v":0},{"$f":"SUM(E14:E17)","v":0},{"$f":"SUM(C18:E18)","v":0}]
[null,"% of Total",{"$f":"IF(F18=0, \"\", C18/F18)","v":""},{"$f":"IF(F18=0, \"\", D18/F18)","v":""},{"$f":"IF(F18=0, \"\", E18/F18)","v":""}]
[null,"Rel. % of Total",{"$f":"IF(AND(D19=\"\", E19=\"\"), \"\", SUM(D19+E19))","v":""}]
[]
[]
[null,null,"Hours of Supervision"]
["Dates","MODE OF SUPERVISION","UNIT/SYSTEM IN THERAPY"]
[null,null,"Live","Video","Case Report","TOTAL"]
["Beginning:","Individual",{"$f":"IF(A5=\"Total\", SUM('Total Supervision'!C13:C1000), IF(OR(A5=\"Fall\", A5=\"Winter\", A5=\"Spring\", A5=\"Summer\"), SUM('Semester Supervision'!C13:C1000), \"\"))","v":0},{"$f":"IF(A5=\"Total\", SUM('Total Supervision'!D13:D1000), IF(OR(A5=\"Fall\", A5=\"Winter\", A5=\"Spring\", A5=\"Summer\"), SUM('Semester Supervision'!D13:D1000), \"\"))","v":0},{"$f":"IF(A5=\"Total\", SUM('Total Supervision'!E13:E1000), IF(OR(A5=\"Fall\", A5=\"Winter\", A5=\"Spring\", A5=\"Summer\"), SUM('Semester Supervision'!E13:E1000), \"\"))","v":0},{"$f":"SUM(C26:E26)","v":0}]
[{"$f":"IF(Summary!A5=\"\", \"\", IF(AND(Summary!A5=\"Total\", Summary!F29>0), 'Total Supervision'!A13, IF(AND(OR(Summary!A5=\"Fall\", Summary!A5=\"Winter\", Summary!A5=\"Spring\", Summary!A5=\"Summer\"), Summary!F29>0), 'Semester Supervision'!A13, \"\")))","v":""},"Group",{"$f":"IF(A5=\"Total\", SUM('Total Supervision'!F13:F1000), IF(OR(A5=\"Fall\", A5=\"Winter\", A5=\"Spring\", A5=\"Summer\"), SUM('Semester Supervision'!F13:F1000), \"\"))","v":0},{"$f":"IF(A5=\"Total\", SUM('Total Supervision'!G13:G1000), IF(OR(A5=\"Fall\", A5=\"Winter\", A5=\"Spring\", A5=\"Summer\"), SUM('Semester Supervision'!G13:G1000), \"\"))","v":0},{"$f":"IF(A5=\"Total\", SUM('Total Supervision'!H13:H1000), IF(OR(A5=\"Fall\", A5=\"Winter\", A5=\"Spring\", A5=\"Summer\"), SUM('Semester Supervision'!H13:H1000), \"\"))","v":0},{"$f":"SUM(C27:E27)","v":0}]
[null,"Team",{"$f":"IF(A5=\"Total\", SUM('Total Supervision'!I13:I1000), IF(OR(A5=\"Fall\", A5=\"Winter\", A5=\"Spring\", A5=\"Summer\"), SUM('Semester Supervision'!I13:I1000), \"\"))","v":0},"N/A",null,{"$f":"SUM(C28:E28)","v":0}]
["Ending:","TOTAL",{"$f":"SUM(C26:C28)","v":0},{"$f":"SUM(D26:D28)","v":0},{"$f":"SUM(E26:E28)","v":0},{"$f":"SUM(C29:E29)","v":0}]
[{"$f":"IF(Summary!A5=\"\", \"\", IF(AND(Summary!A5=\"Total\", Summary!F29>0), LOOKUP(2,1/('Total Supervision'!A13:A1048576<>\"\"),'Total Supervision'!A13:A1048576), IF(AND(OR(Summary!A5=\"Fall\", Summary!A5=\"Winter\", Summary!A5=\"Spring\", Summary!A5=\"Summer\"), Summary!F29>0), LOOKUP(2,1/('Semester Supervision'!A13:A1048576<>\"\"),'Semester Supervision'!A13:A1048576), \"\")))","v":""},"% of Total",{"$f":"IF(F29=0, \"\", C29/F29)","v":""},{"$f":"IF(F29=0, \"\", D29/F29)","v":""},{"$f":"IF(F29=0, \"\", E29/F29)","v":""}]
[null,null,"Raw %",{"$f":"IF(AND(C30=\"\", D30=\"\"), \"\", SUM(C30+D30))","v":""},"Sup:Ther",{"$f":"IF(F29=0, \"\", F29/F18)","v":""}]
[null,null,{"$f":"IF(D31=\"\", \"\", IF(D31<0.5, \"Need more raw\", \"On track\"))","v":""},null,{"$f":"IF(F31=\"\", \"\", IF(F31<0.2, \"Need more sup. hrs\", \"On track\"))","v":""}]

{"sheet":"Total Therapy","index":1,"n_rows":100,"n_cols":14,"rows_kept":100,"cut":false,"hidden":false,"merged":[[1,0,1,13],[10,0,10,13],[11,0,11,13],[0,0,0,13],[9,0,9,13],[8,0,8,13],[7,0,7,13],[6,0,6,13],[5,0,5,13],[4,0,4,13],[3,0,3,13],[2,0,2,13]]}
["Reporting for Therapy Hours"]
["Guidelines:"]
["Individual - One client."]
["Couple - Two clients in a therapy room where their relationship is the focus of treatment."]
["Family - Two or more family members in the therapy room."]
["Group Individual - Group therapy with the above definitions."]
["Group Couple - Group therapy with the above definitions."]
["Group Family - Group therapy with the above definitions."]
["Team/Psychoeducation - See MFT policy approved September 24, 2001."]
["Hour - 50 minutes. Keep track of therapy minutes and at the end of the semester divide by 50."]
[]
["Hours for Mode of Therapy by System in Therapy"]
["Date","Client #","Indiv/ Indiv","Indiv/ Couple","Indiv/ Family","Group/ Indiv.","Group/ Couple","Group/ Family","Psychoed /Indiv.","Psychoed /Couple","Psychoed /Family","Team/ Indiv.","Team/ Couple","Team/ Family"]
[{"$f":"'Semester Therapy'!A14","v":"00:00:00"},{"$f":"'Semester Therapy'!B14","v":0},{"$f":"'Semester Therapy'!C14/50","v":0},{"$f":"'Semester Therapy'!D14/50","v":0},{"$f":"'Semester Therapy'!E14/50","v":0},{"$f":"'Semester Therapy'!F14/50","v":0},{"$f":"'Semester Therapy'!G14/50","v":0},{"$f":"'Semester Therapy'!H14/50","v":0},{"$f":"'Semester Therapy'!I14/50","v":0},{"$f":"'Semester Therapy'!J14/50","v":0},{"$f":"'Semester Therapy'!K14/50","v":0},{"$f":"'Semester Therapy'!L14/50","v":0},{"$f":"'Semester Therapy'!M14/50","v":0},{"$f":"'Semester Therapy'!N14/50","v":0}]
[{"$f":"'Semester Therapy'!A15","v":"00:00:00"},{"$f":"'Semester Therapy'!B15","v":0},{"$f":"'Semester Therapy'!C15/50","v":0},{"$f":"'Semester Therapy'!D15/50","v":0},{"$f":"'Semester Therapy'!E15/50","v":0},{"$f":"'Semester Therapy'!F15/50","v":0},{"$f":"'Semester Therapy'!G15/50","v":0},{"$f":"'Semester Therapy'!H15/50","v":0},{"$f":"'Semester Therapy'!I15/50","v":0},{"$f":"'Semester Therapy'!J15/50","v":0},{"$f":"'Semester Therapy'!K15/50","v":0},{"$f":"'Semester Therapy'!L15/50","v":0},{"$f":"'Semester Therapy'!M15/50","v":0},{"$f":"'Semester Therapy'!N15/50","v":0}]
[{"$f":"'Semester Therapy'!A16","v":"00:00:00"},{"$f":"'Semester Therapy'!B16","v":0},{"$f":"'Semester Therapy'!C16/50","v":0},{"$f":"'Semester Therapy'!D16/50","v":0},{"$f":"'Semester Therapy'!E16/50","v":0},{"$f":"'Semester Therapy'!F16/50","v":0},{"$f":"'Semester Therapy'!G16/50","v":0},{"$f":"'Semester Therapy'!H16/50","v":0},{"$f":"'Semester Therapy'!I16/50","v":0},{"$f":"'Semester Therapy'!J16/50","v":0},{"$f":"'Semester Therapy'!K16/50","v":0},{"$f":"'Semester Therapy'!L16/50","v":0},{"$f":"'Semester Therapy'!M16/50","v":0},{"$f":"'Semester Therapy'!N16/50","v":0}]
[{"$f":"'Semester Therapy'!A17","v":"00:00:00"},{"$f":"'Semester Therapy'!B17","v":0},{"$f":"'Semester Therapy'!C17/50","v":0},{"$f":"'Semester Therapy'!D17/50","v":0},{"$f":"'Semester Therapy'!E17/50","v":0},{"$f":"'Semester Therapy'!F17/50","v":0},{"$f":"'Semester Therapy'!G17/50","v":0},{"$f":"'Semester Therapy'!H17/50","v":0},{"$f":"'Semester Therapy'!I17/50","v":0},{"$f":"'Semester Therapy'!J17/50","v":0},{"$f":"'Semester Therapy'!K17/50","v":0},{"$f":"'Semester Therapy'!L17/50","v":0},{"$f":"'Semester Therapy'!M17/50","v":0},{"$f":"'Semester Therapy'!N17/50","v":0}]
[{"$f":"'Semester Therapy'!A18","v":"00:00:00"},{"$f":"'Semester Therapy'!B18","v":0},{"$f":"'Semester Therapy'!C18/50","v":0},{"$f":"'Semester Therapy'!D18/50","v":0},{"$f":"'Semester Therapy'!E18/50","v":0},{"$f":"'Semester Therapy'!F18/50","v":0},{"$f":"'Semester Therapy'!G18/50","v":0},{"$f":"'Semester Therapy'!H18/50","v":0},{"$f":"'Semester Therapy'!I18/50","v":0},{"$f":"'Semester Therapy'!J18/50","v":0},{"$f":"'Semester Therapy'!K18/50","v":0},{"$f":"'Semester Therapy'!L18/50","v":0},{"$f":"'Semester Therapy'!M18/50","v":0},{"$f":"'Semester Therapy'!N18/50","v":0}]
[{"$f":"'Semester Therapy'!A19","v":"00:00:00"},{"$f":"'Semester Therapy'!B19","v":0},{"$f":"'Semester Therapy'!C19/50","v":0},{"$f":"'Semester Therapy'!D19/50","v":0},{"$f":"'Semester Therapy'!E19/50","v":0},{"$f":"'Semester Therapy'!F19/50","v":0},{"$f":"'Semester Therapy'!G19/50","v":0},{"$f":"'Semester Therapy'!H19/50","v":0},{"$f":"'Semester Therapy'!I19/50","v":0},{"$f":"'Semester Therapy'!J19/50","v":0},{"$f":"'Semester Therapy'!K19/50","v":0},{"$f":"'Semester Therapy'!L19/50","v":0},{"$f":"'Semester Therapy'!M19/50","v":0},{"$f":"'Semester Therapy'!N19/50","v":0}]
[{"$f":"'Semester Therapy'!A20","v":"00:00:00"},{"$f":"'Semester Therapy'!B20","v":0},{"$f":"'Semester Therapy'!C20/50","v":0},{"$f":"'Semester Therapy'!D20/50","v":0},{"$f":"'Semester Therapy'!E20/50","v":0},{"$f":"'Semester Therapy'!F20/50","v":0},{"$f":"'Semester Therapy'!G20/50","v":0},{"$f":"'Semester Therapy'!H20/50","v":0},{"$f":"'Semester Therapy'!I20/50","v":0},{"$f":"'Semester Therapy'!J20/50","v":0},{"$f":"'Semester Therapy'!K20/50","v":0},{"$f":"'Semester Therapy'!L20/50","v":0},{"$f":"'Semester Therapy'!M20/50","v":0},{"$f":"'Semester Therapy'!N20/50","v":0}]
[{"$f":"'Semester Therapy'!A21","v":"00:00:00"},{"$f":"'Semester Therapy'!B21","v":0},{"$f":"'Semester Therapy'!C21/50","v":0},{"$f":"'Semester Therapy'!D21/50","v":0},{"$f":"'Semester Therapy'!E21/50","v":0},{"$f":"'Semester Therapy'!F21/50","v":0},{"$f":"'Semester Therapy'!G21/50","v":0},{"$f":"'Semester Therapy'!H21/50","v":0},{"$f":"'Semester Therapy'!I21/50","v":0},{"$f":"'Semester Therapy'!J21/50","v":0},{"$f":"'Semester Therapy'!K21/50","v":0},{"$f":"'Semester Therapy'!L21/50","v":0},{"$f":"'Semester Therapy'!M21/50","v":0},{"$f":"'Semester Therapy'!N21/50","v":0}]
[{"$f":"'Semester Therapy'!A22","v":"00:00:00"},{"$f":"'Semester Therapy'!B22","v":0},{"$f":"'Semester Therapy'!C22/50","v":0},{"$f":"'Semester Therapy'!D22/50","v":0},{"$f":"'Semester Therapy'!E22/50","v":0},{"$f":"'Semester Therapy'!F22/50","v":0},{"$f":"'Semester Therapy'!G22/50","v":0},{"$f":"'Semester Therapy'!H22/50","v":0},{"$f":"'Semester Therapy'!I22/50","v":0},{"$f":"'Semester Therapy'!J22/50","v":0},{"$f":"'Semester Therapy'!K22/50","v":0},{"$f":"'Semester Therapy'!L22/50","v":0},{"$f":"'Semester Therapy'!M22/50","v":0},{"$f":"'Semester Therapy'!N22/50","v":0}]
[{"$f":"'Semester Therapy'!A23","v":"00:00:00"},{"$f":"'Semester Therapy'!B23","v":0},{"$f":"'Semester Therapy'!C23/50","v":0},{"$f":"'Semester Therapy'!D23/50","v":0},{"$f":"'Semester Therapy'!E23/50","v":0},{"$f":"'Semester Therapy'!F23/50","v":0},{"$f":"'Semester Therapy'!G23/50","v":0},{"$f":"'Semester Therapy'!H23/50","v":0},{"$f":"'Semester Therapy'!I23/50","v":0},{"$f":"'Semester Therapy'!J23/50","v":0},{"$f":"'Semester Therapy'!K23/50","v":0},{"$f":"'Semester Therapy'!L23/50","v":0},{"$f":"'Semester Therapy'!M23/50","v":0},{"$f":"'Semester Therapy'!N23/50","v":0}]
[{"$f":"'Semester Therapy'!A24","v":"00:00:00"},{"$f":"'Semester Therapy'!B24","v":0},{"$f":"'Semester Therapy'!C24/50","v":0},{"$f":"'Semester Therapy'!D24/50","v":0},{"$f":"'Semester Therapy'!E24/50","v":0},{"$f":"'Semester Therapy'!F24/50","v":0},{"$f":"'Semester Therapy'!G24/50","v":0},{"$f":"'Semester Therapy'!H24/50","v":0},{"$f":"'Semester Therapy'!I24/50","v":0},{"$f":"'Semester Therapy'!J24/50","v":0},{"$f":"'Semester Therapy'!K24/50","v":0},{"$f":"'Semester Therapy'!L24/50","v":0},{"$f":"'Semester Therapy'!M24/50","v":0},{"$f":"'Semester Therapy'!N24/50","v":0}]
[{"$f":"'Semester Therapy'!A25","v":"00:00:00"},{"$f":"'Semester Therapy'!B25","v":0},{"$f":"'Semester Therapy'!C25/50","v":0},{"$f":"'Semester Therapy'!D25/50","v":0},{"$f":"'Semester Therapy'!E25/50","v":0},{"$f":"'Semester Therapy'!F25/50","v":0},{"$f":"'Semester Therapy'!G25/50","v":0},{"$f":"'Semester Therapy'!H25/50","v":0},{"$f":"'Semester Therapy'!I25/50","v":0},{"$f":"'Semester Therapy'!J25/50","v":0},{"$f":"'Semester Therapy'!K25/50","v":0},{"$f":"'Semester Therapy'!L25/50","v":0},{"$f":"'Semester Therapy'!M25/50","v":0},{"$f":"'Semester Therapy'!N25/50","v":0}]
[{"$f":"'Semester Therapy'!A26","v":"00:00:00"},{"$f":"'Semester Therapy'!B26","v":0},{"$f":"'Semester Therapy'!C26/50","v":0},{"$f":"'Semester Therapy'!D26/50","v":0},{"$f":"'Semester Therapy'!E26/50","v":0},{"$f":"'Semester Therapy'!F26/50","v":0},{"$f":"'Semester Therapy'!G26/50","v":0},{"$f":"'Semester Therapy'!H26/50","v":0},{"$f":"'Semester Therapy'!I26/50","v":0},{"$f":"'Semester Therapy'!J26/50","v":0},{"$f":"'Semester Therapy'!K26/50","v":0},{"$f":"'Semester Therapy'!L26/50","v":0},{"$f":"'Semester Therapy'!M26/50","v":0},{"$f":"'Semester Therapy'!N26/50","v":0}]
[{"$f":"'Semester Therapy'!A27","v":"00:00:00"},{"$f":"'Semester Therapy'!B27","v":0},{"$f":"'Semester Therapy'!C27/50","v":0},{"$f":"'Semester Therapy'!D27/50","v":0},{"$f":"'Semester Therapy'!E27/50","v":0},{"$f":"'Semester Therapy'!F27/50","v":0},{"$f":"'Semester Therapy'!G27/50","v":0},{"$f":"'Semester Therapy'!H27/50","v":0},{"$f":"'Semester Therapy'!I27/50","v":0},{"$f":"'Semester Therapy'!J27/50","v":0},{"$f":"'Semester Therapy'!K27/50","v":0},{"$f":"'Semester Therapy'!L27/50","v":0},{"$f":"'Semester Therapy'!M27/50","v":0},{"$f":"'Semester Therapy'!N27/50","v":0}]
[{"$f":"'Semester Therapy'!A28","v":"00:00:00"},{"$f":"'Semester Therapy'!B28","v":0},{"$f":"'Semester Therapy'!C28/50","v":0},{"$f":"'Semester Therapy'!D28/50","v":0},{"$f":"'Semester Therapy'!E28/50","v":0},{"$f":"'Semester Therapy'!F28/50","v":0},{"$f":"'Semester Therapy'!G28/50","v":0},{"$f":"'Semester Therapy'!H28/50","v":0},{"$f":"'Semester Therapy'!I28/50","v":0},{"$f":"'Semester Therapy'!J28/50","v":0},{"$f":"'Semester Therapy'!K28/50","v":0},{"$f":"'Semester Therapy'!L28/50","v":0},{"$f":"'Semester Therapy'!M28/50","v":0},{"$f":"'Semester Therapy'!N28/50","v":0}]
[{"$f":"'Semester Therapy'!A29","v":"00:00:00"},{"$f":"'Semester Therapy'!B29","v":0},{"$f":"'Semester Therapy'!C29/50","v":0},{"$f":"'Semester Therapy'!D29/50","v":0},{"$f":"'Semester Therapy'!E29/50","v":0},{"$f":"'Semester Therapy'!F29/50","v":0},{"$f":"'Semester Therapy'!G29/50","v":0},{"$f":"'Semester Therapy'!H29/50","v":0},{"$f":"'Semester Therapy'!I29/50","v":0},{"$f":"'Semester Therapy'!J29/50","v":0},{"$f":"'Semester Therapy'!K29/50","v":0},{"$f":"'Semester Therapy'!L29/50","v":0},{"$f":"'Semester Therapy'!M29/50","v":0},{"$f":"'Semester Therapy'!N29/50","v":0}]
[{"$f":"'Semester Therapy'!A30","v":"00:00:00"},{"$f":"'Semester Therapy'!B30","v":0},{"$f":"'Semester Therapy'!C30/50","v":0},{"$f":"'Semester Therapy'!D30/50","v":0},{"$f":"'Semester Therapy'!E30/50","v":0},{"$f":"'Semester Therapy'!F30/50","v":0},{"$f":"'Semester Therapy'!G30/50","v":0},{"$f":"'Semester Therapy'!H30/50","v":0},{"$f":"'Semester Therapy'!I30/50","v":0},{"$f":"'Semester Therapy'!J30/50","v":0},{"$f":"'Semester Therapy'!K30/50","v":0},{"$f":"'Semester Therapy'!L30/50","v":0},{"$f":"'Semester Therapy'!M30/50","v":0},{"$f":"'Semester Therapy'!N30/50","v":0}]
[{"$f":"'Semester Therapy'!A31","v":"00:00:00"},{"$f":"'Semester Therapy'!B31","v":0},{"$f":"'Semester Therapy'!C31/50","v":0},{"$f":"'Semester Therapy'!D31/50","v":0},{"$f":"'Semester Therapy'!E31/50","v":0},{"$f":"'Semester Therapy'!F31/50","v":0},{"$f":"'Semester Therapy'!G31/50","v":0},{"$f":"'Semester Therapy'!H31/50","v":0},{"$f":"'Semester Therapy'!I31/50","v":0},{"$f":"'Semester Therapy'!J31/50","v":0},{"$f":"'Semester Therapy'!K31/50","v":0},{"$f":"'Semester Therapy'!L31/50","v":0},{"$f":"'Semester Therapy'!M31/50","v":0},{"$f":"'Semester Therapy'!N31/50","v":0}]
[{"$f":"'Semester Therapy'!A32","v":"00:00:00"},{"$f":"'Semester Therapy'!B32","v":0},{"$f":"'Semester Therapy'!C32/50","v":0},{"$f":"'Semester Therapy'!D32/50","v":0},{"$f":"'Semester Therapy'!E32/50","v":0},{"$f":"'Semester Therapy'!F32/50","v":0},{"$f":"'Semester Therapy'!G32/50","v":0},{"$f":"'Semester Therapy'!H32/50","v":0},{"$f":"'Semester Therapy'!I32/50","v":0},{"$f":"'Semester Therapy'!J32/50","v":0},{"$f":"'Semester Therapy'!K32/50","v":0},{"$f":"'Semester Therapy'!L32/50","v":0},{"$f":"'Semester Therapy'!M32/50","v":0},{"$f":"'Semester Therapy'!N32/50","v":0}]
[{"$f":"'Semester Therapy'!A33","v":"00:00:00"},{"$f":"'Semester Therapy'!B33","v":0},{"$f":"'Semester Therapy'!C33/50","v":0},{"$f":"'Semester Therapy'!D33/50","v":0},{"$f":"'Semester Therapy'!E33/50","v":0},{"$f":"'Semester Therapy'!F33/50","v":0},{"$f":"'Semester Therapy'!G33/50","v":0},{"$f":"'Semester Therapy'!H33/50","v":0},{"$f":"'Semester Therapy'!I33/50","v":0},{"$f":"'Semester Therapy'!J33/50","v":0},{"$f":"'Semester Therapy'!K33/50","v":0},{"$f":"'Semester Therapy'!L33/50","v":0},{"$f":"'Semester Therapy'!M33/50","v":0},{"$f":"'Semester Therapy'!N33/50","v":0}]
[{"$f":"'Semester Therapy'!A34","v":"00:00:00"},{"$f":"'Semester Therapy'!B34","v":0},{"$f":"'Semester Therapy'!C34/50","v":0},{"$f":"'Semester Therapy'!D34/50","v":0},{"$f":"'Semester Therapy'!E34/50","v":0},{"$f":"'Semester Therapy'!F34/50","v":0},{"$f":"'Semester Therapy'!G34/50","v":0},{"$f":"'Semester Therapy'!H34/50","v":0},{"$f":"'Semester Therapy'!I34/50","v":0},{"$f":"'Semester Therapy'!J34/50","v":0},{"$f":"'Semester Therapy'!K34/50","v":0},{"$f":"'Semester Therapy'!L34/50","v":0},{"$f":"'Semester Therapy'!M34/50","v":0},{"$f":"'Semester Therapy'!N34/50","v":0}]
[{"$f":"'Semester Therapy'!A35","v":"00:00:00"},{"$f":"'Semester Therapy'!B35","v":0},{"$f":"'Semester Therapy'!C35/50","v":0},{"$f":"'Semester Therapy'!D35/50","v":0},{"$f":"'Semester Therapy'!E35/50","v":0},{"$f":"'Semester Therapy'!F35/50","v":0},{"$f":"'Semester Therapy'!G35/50","v":0},{"$f":"'Semester Therapy'!H35/50","v":0},{"$f":"'Semester Therapy'!I35/50","v":0},{"$f":"'Semester Therapy'!J35/50","v":0},{"$f":"'Semester Therapy'!K35/50","v":0},{"$f":"'Semester Therapy'!L35/50","v":0},{"$f":"'Semester Therapy'!M35/50","v":0},{"$f":"'Semester Therapy'!N35/50","v":0}]
[{"$f":"'Semester Therapy'!A36","v":"00:00:00"},{"$f":"'Semester Therapy'!B36","v":0},{"$f":"'Semester Therapy'!C36/50","v":0},{"$f":"'Semester Therapy'!D36/50","v":0},{"$f":"'Semester Therapy'!E36/50","v":0},{"$f":"'Semester Therapy'!F36/50","v":0},{"$f":"'Semester Therapy'!G36/50","v":0},{"$f":"'Semester Therapy'!H36/50","v":0},{"$f":"'Semester Therapy'!I36/50","v":0},{"$f":"'Semester Therapy'!J36/50","v":0},{"$f":"'Semester Therapy'!K36/50","v":0},{"$f":"'Semester Therapy'!L36/50","v":0},{"$f":"'Semester Therapy'!M36/50","v":0},{"$f":"'Semester Therapy'!N36/50","v":0}]
[{"$f":"'Semester Therapy'!A37","v":"00:00:00"},{"$f":"'Semester Therapy'!B37","v":0},{"$f":"'Semester Therapy'!C37/50","v":0},{"$f":"'Semester Therapy'!D37/50","v":0},{"$f":"'Semester Therapy'!E37/50","v":0},{"$f":"'Semester Therapy'!F37/50","v":0},{"$f":"'Semester Therapy'!G37/50","v":0},{"$f":"'Semester Therapy'!H37/50","v":0},{"$f":"'Semester Therapy'!I37/50","v":0},{"$f":"'Semester Therapy'!J37/50","v":0},{"$f":"'Semester Therapy'!K37/50","v":0},{"$f":"'Semester Therapy'!L37/50","v":0},{"$f":"'Semester Therapy'!M37/50","v":0},{"$f":"'Semester Therapy'!N37/50","v":0}]
[{"$f":"'Semester Therapy'!A38","v":"00:00:00"},{"$f":"'Semester Therapy'!B38","v":0},{"$f":"'Semester Therapy'!C38/50","v":0},{"$f":"'Semester Therapy'!D38/50","v":0},{"$f":"'Semester Therapy'!E38/50","v":0},{"$f":"'Semester Therapy'!F38/50","v":0},{"$f":"'Semester Therapy'!G38/50","v":0},{"$f":"'Semester Therapy'!H38/50","v":0},{"$f":"'Semester Therapy'!I38/50","v":0},{"$f":"'Semester Therapy'!J38/50","v":0},{"$f":"'Semester Therapy'!K38/50","v":0},{"$f":"'Semester Therapy'!L38/50","v":0},{"$f":"'Semester Therapy'!M38/50","v":0},{"$f":"'Semester Therapy'!N38/50","v":0}]
[{"$f":"'Semester Therapy'!A39","v":"00:00:00"},{"$f":"'Semester Therapy'!B39","v":0},{"$f":"'Semester Therapy'!C39/50","v":0},{"$f":"'Semester Therapy'!D39/50","v":0},{"$f":"'Semester Therapy'!E39/50","v":0},{"$f":"'Semester Therapy'!F39/50","v":0},{"$f":"'Semester Therapy'!G39/50","v":0},{"$f":"'Semester Therapy'!H39/50","v":0},{"$f":"'Semester Therapy'!I39/50","v":0},{"$f":"'Semester Therapy'!J39/50","v":0},{"$f":"'Semester Therapy'!K39/50","v":0},{"$f":"'Semester Therapy'!L39/50","v":0},{"$f":"'Semester Therapy'!M39/50","v":0},{"$f":"'Semester Therapy'!N39/50","v":0}]
[{"$f":"'Semester Therapy'!A40","v":"00:00:00"},{"$f":"'Semester Therapy'!B40","v":0},{"$f":"'Semester Therapy'!C40/50","v":0},{"$f":"'Semester Therapy'!D40/50","v":0},{"$f":"'Semester Therapy'!E40/50","v":0},{"$f":"'Semester Therapy'!F40/50","v":0},{"$f":"'Semester Therapy'!G40/50","v":0},{"$f":"'Semester Therapy'!H40/50","v":0},{"$f":"'Semester Therapy'!I40/50","v":0},{"$f":"'Semester Therapy'!J40/50","v":0},{"$f":"'Semester Therapy'!K40/50","v":0},{"$f":"'Semester Therapy'!L40/50","v":0},{"$f":"'Semester Therapy'!M40/50","v":0},{"$f":"'Semester Therapy'!N40/50","v":0}]
[{"$f":"'Semester Therapy'!A41","v":"00:00:00"},{"$f":"'Semester Therapy'!B41","v":0},{"$f":"'Semester Therapy'!C41/50","v":0},{"$f":"'Semester Therapy'!D41/50","v":0},{"$f":"'Semester Therapy'!E41/50","v":0},{"$f":"'Semester Therapy'!F41/50","v":0},{"$f":"'Semester Therapy'!G41/50","v":0},{"$f":"'Semester Therapy'!H41/50","v":0},{"$f":"'Semester Therapy'!I41/50","v":0},{"$f":"'Semester Therapy'!J41/50","v":0},{"$f":"'Semester Therapy'!K41/50","v":0},{"$f":"'Semester Therapy'!L41/50","v":0},{"$f":"'Semester Therapy'!M41/50","v":0},{"$f":"'Semester Therapy'!N41/50","v":0}]
[{"$f":"'Semester Therapy'!A42","v":"00:00:00"},{"$f":"'Semester Therapy'!B42","v":0},{"$f":"'Semester Therapy'!C42/50","v":0},{"$f":"'Semester Therapy'!D42/50","v":0},{"$f":"'Semester Therapy'!E42/50","v":0},{"$f":"'Semester Therapy'!F42/50","v":0},{"$f":"'Semester Therapy'!G42/50","v":0},{"$f":"'Semester Therapy'!H42/50","v":0},{"$f":"'Semester Therapy'!I42/50","v":0},{"$f":"'Semester Therapy'!J42/50","v":0},{"$f":"'Semester Therapy'!K42/50","v":0},{"$f":"'Semester Therapy'!L42/50","v":0},{"$f":"'Semester Therapy'!M42/50","v":0},{"$f":"'Semester Therapy'!N42/50","v":0}]
[{"$f":"'Semester Therapy'!A43","v":"00:00:00"},{"$f":"'Semester Therapy'!B43","v":0},{"$f":"'Semester Therapy'!C43/50","v":0},{"$f":"'Semester Therapy'!D43/50","v":0},{"$f":"'Semester Therapy'!E43/50","v":0},{"$f":"'Semester Therapy'!F43/50","v":0},{"$f":"'Semester Therapy'!G43/50","v":0},{"$f":"'Semester Therapy'!H43/50","v":0},{"$f":"'Semester Therapy'!I43/50","v":0},{"$f":"'Semester Therapy'!J43/50","v":0},{"$f":"'Semester Therapy'!K43/50","v":0},{"$f":"'Semester Therapy'!L43/50","v":0},{"$f":"'Semester Therapy'!M43/50","v":0},{"$f":"'Semester Therapy'!N43/50","v":0}]
[{"$f":"'Semester Therapy'!A44","v":"00:00:00"},{"$f":"'Semester Therapy'!B44","v":0},{"$f":"'Semester Therapy'!C44/50","v":0},{"$f":"'Semester Therapy'!D44/50","v":0},{"$f":"'Semester Therapy'!E44/50","v":0},{"$f":"'Semester Therapy'!F44/50","v":0},{"$f":"'Semester Therapy'!G44/50","v":0},{"$f":"'Semester Therapy'!H44/50","v":0},{"$f":"'Semester Therapy'!I44/50","v":0},{"$f":"'Semester Therapy'!J44/50","v":0},{"$f":"'Semester Therapy'!K44/50","v":0},{"$f":"'Semester Therapy'!L44/50","v":0},{"$f":"'Semester Therapy'!M44/50","v":0},{"$f":"'Semester Therapy'!N44/50","v":0}]
[{"$f":"'Semester Therapy'!A45","v":"00:00:00"},{"$f":"'Semester Therapy'!B45","v":0},{"$f":"'Semester Therapy'!C45/50","v":0},{"$f":"'Semester Therapy'!D45/50","v":0},{"$f":"'Semester Therapy'!E45/50","v":0},{"$f":"'Semester Therapy'!F45/50","v":0},{"$f":"'Semester Therapy'!G45/50","v":0},{"$f":"'Semester Therapy'!H45/50","v":0},{"$f":"'Semester Therapy'!I45/50","v":0},{"$f":"'Semester Therapy'!J45/50","v":0},{"$f":"'Semester Therapy'!K45/50","v":0},{"$f":"'Semester Therapy'!L45/50","v":0},{"$f":"'Semester Therapy'!M45/50","v":0},{"$f":"'Semester Therapy'!N45/50","v":0}]
[{"$f":"'Semester Therapy'!A46","v":"00:00:00"},{"$f":"'Semester Therapy'!B46","v":0},0,0,0,{"$f":"'Semester Therapy'!F46/50","v":0},{"$f":"'Semester Therapy'!G46/50","v":0},{"$f":"'Semester Therapy'!H46/50","v":0},{"$f":"'Semester Therapy'!I46/50","v":0},{"$f":"'Semester Therapy'!J46/50","v":0},{"$f":"'Semester Therapy'!K46/50","v":0},{"$f":"'Semester Therapy'!L46/50","v":0},{"$f":"'Semester Therapy'!M46/50","v":0},{"$f":"'Semester Therapy'!N46/50","v":0}]
[{"$f":"'Semester Therapy'!A47","v":"00:00:00"},{"$f":"'Semester Therapy'!B47","v":0},{"$f":"'Semester Therapy'!C47/50","v":0},{"$f":"'Semester Therapy'!D47/50","v":0},{"$f":"'Semester Therapy'!E47/50","v":0},{"$f":"'Semester Therapy'!F47/50","v":0},{"$f":"'Semester Therapy'!G47/50","v":0},{"$f":"'Semester Therapy'!H47/50","v":0},{"$f":"'Semester Therapy'!I47/50","v":0},{"$f":"'Semester Therapy'!J47/50","v":0},{"$f":"'Semester Therapy'!K47/50","v":0},{"$f":"'Semester Therapy'!L47/50","v":0},{"$f":"'Semester Therapy'!M47/50","v":0},{"$f":"'Semester Therapy'!N47/50","v":0}]
[{"$f":"'Semester Therapy'!A48","v":"00:00:00"},{"$f":"'Semester Therapy'!B48","v":0},{"$f":"'Semester Therapy'!C48/50","v":0},{"$f":"'Semester Therapy'!D48/50","v":0},{"$f":"'Semester Therapy'!E48/50","v":0},{"$f":"'Semester Therapy'!F48/50","v":0},{"$f":"'Semester Therapy'!G48/50","v":0},{"$f":"'Semester Therapy'!H48/50","v":0},{"$f":"'Semester Therapy'!I48/50","v":0},{"$f":"'Semester Therapy'!J48/50","v":0},{"$f":"'Semester Therapy'!K48/50","v":0},{"$f":"'Semester Therapy'!L48/50","v":0},{"$f":"'Semester Therapy'!M48/50","v":0},{"$f":"'Semester Therapy'!N48/50","v":0}]
[{"$f":"'Semester Therapy'!A49","v":"00:00:00"},{"$f":"'Semester Therapy'!B49","v":0},{"$f":"'Semester Therapy'!C49/50","v":0},{"$f":"'Semester Therapy'!D49/50","v":0},{"$f":"'Semester Therapy'!E49/50","v":0},{"$f":"'Semester Therapy'!F49/50","v":0},{"$f":"'Semester Therapy'!G49/50","v":0},{"$f":"'Semester Therapy'!H49/50","v":0},{"$f":"'Semester Therapy'!I49/50","v":0},{"$f":"'Semester Therapy'!J49/50","v":0},{"$f":"'Semester Therapy'!K49/50","v":0},{"$f":"'Semester Therapy'!L49/50","v":0},{"$f":"'Semester Therapy'!M49/50","v":0},{"$f":"'Semester Therapy'!N49/50","v":0}]
[{"$f":"'Semester Therapy'!A50","v":"00:00:00"},{"$f":"'Semester Therapy'!B50","v":0},{"$f":"'Semester Therapy'!C50/50","v":0},{"$f":"'Semester Therapy'!D50/50","v":0},{"$f":"'Semester Therapy'!E50/50","v":0},{"$f":"'Semester Therapy'!F50/50","v":0},{"$f":"'Semester Therapy'!G50/50","v":0},{"$f":"'Semester Therapy'!H50/50","v":0},{"$f":"'Semester Therapy'!I50/50","v":0},{"$f":"'Semester Therapy'!J50/50","v":0},{"$f":"'Semester Therapy'!K50/50","v":0},{"$f":"'Semester Therapy'!L50/50","v":0},{"$f":"'Semester Therapy'!M50/50","v":0},{"$f":"'Semester Therapy'!N50/50","v":0}]
[{"$f":"'Semester Therapy'!A51","v":"00:00:00"},{"$f":"'Semester Therapy'!B51","v":0},{"$f":"'Semester Therapy'!C51/50","v":0},{"$f":"'Semester Therapy'!D51/50","v":0},{"$f":"'Semester Therapy'!E51/50","v":0},{"$f":"'Semester Therapy'!F51/50","v":0},{"$f":"'Semester Therapy'!G51/50","v":0},{"$f":"'Semester Therapy'!H51/50","v":0},{"$f":"'Semester Therapy'!I51/50","v":0},{"$f":"'Semester Therapy'!J51/50","v":0},{"$f":"'Semester Therapy'!K51/50","v":0},{"$f":"'Semester Therapy'!L51/50","v":0},{"$f":"'Semester Therapy'!M51/50","v":0},{"$f":"'Semester Therapy'!N51/50","v":0}]
[{"$f":"'Semester Therapy'!A52","v":"00:00:00"},{"$f":"'Semester Therapy'!B52","v":0},{"$f":"'Semester Therapy'!C52/50","v":0},{"$f":"'Semester Therapy'!D52/50","v":0},{"$f":"'Semester Therapy'!E52/50","v":0},{"$f":"'Semester Therapy'!F52/50","v":0},{"$f":"'Semester Therapy'!G52/50","v":0},{"$f":"'Semester Therapy'!H52/50","v":0},{"$f":"'Semester Therapy'!I52/50","v":0},{"$f":"'Semester Therapy'!J52/50","v":0},{"$f":"'Semester Therapy'!K52/50","v":0},{"$f":"'Semester Therapy'!L52/50","v":0},{"$f":"'Semester Therapy'!M52/50","v":0},{"$f":"'Semester Therapy'!N52/50","v":0}]
[{"$f":"'Semester Therapy'!A53","v":"00:00:00"},{"$f":"'Semester Therapy'!B53","v":0},{"$f":"'Semester Therapy'!C53/50","v":0},{"$f":"'Semester Therapy'!D53/50","v":0},{"$f":"'Semester Therapy'!E53/50","v":0},{"$f":"'Semester Therapy'!F53/50","v":0},{"$f":"'Semester Therapy'!G53/50","v":0},{"$f":"'Semester Therapy'!H53/50","v":0},{"$f":"'Semester Therapy'!I53/50","v":0},{"$f":"'Semester Therapy'!J53/50","v":0},{"$f":"'Semester Therapy'!K53/50","v":0},{"$f":"'Semester Therapy'!L53/50","v":0},{"$f":"'Semester Therapy'!M53/50","v":0},{"$f":"'Semester Therapy'!N53/50","v":0}]
[{"$f":"'Semester Therapy'!A54","v":"00:00:00"},{"$f":"'Semester Therapy'!B54","v":0},{"$f":"'Semester Therapy'!C54/50","v":0},{"$f":"'Semester Therapy'!D54/50","v":0},{"$f":"'Semester Therapy'!E54/50","v":0},{"$f":"'Semester Therapy'!F54/50","v":0},{"$f":"'Semester Therapy'!G54/50","v":0},{"$f":"'Semester Therapy'!H54/50","v":0},{"$f":"'Semester Therapy'!I54/50","v":0},{"$f":"'Semester Therapy'!J54/50","v":0},{"$f":"'Semester Therapy'!K54/50","v":0},{"$f":"'Semester Therapy'!L54/50","v":0},{"$f":"'Semester Therapy'!M54/50","v":0},{"$f":"'Semester Therapy'!N54/50","v":0}]
[{"$f":"'Semester Therapy'!A55","v":"00:00:00"},{"$f":"'Semester Therapy'!B55","v":0},{"$f":"'Semester Therapy'!C55/50","v":0},{"$f":"'Semester Therapy'!D55/50","v":0},{"$f":"'Semester Therapy'!E55/50","v":0},{"$f":"'Semester Therapy'!F55/50","v":0},{"$f":"'Semester Therapy'!G55/50","v":0},{"$f":"'Semester Therapy'!H55/50","v":0},{"$f":"'Semester Therapy'!I55/50","v":0},{"$f":"'Semester Therapy'!J55/50","v":0},{"$f":"'Semester Therapy'!K55/50","v":0},{"$f":"'Semester Therapy'!L55/50","v":0},{"$f":"'Semester Therapy'!M55/50","v":0},{"$f":"'Semester Therapy'!N55/50","v":0}]
[{"$f":"'Semester Therapy'!A56","v":"00:00:00"},{"$f":"'Semester Therapy'!B56","v":0},{"$f":"'Semester Therapy'!C56/50","v":0},{"$f":"'Semester Therapy'!D56/50","v":0},{"$f":"'Semester Therapy'!E56/50","v":0},{"$f":"'Semester Therapy'!F56/50","v":0},{"$f":"'Semester Therapy'!G56/50","v":0},{"$f":"'Semester Therapy'!H56/50","v":0},{"$f":"'Semester Therapy'!I56/50","v":0},{"$f":"'Semester Therapy'!J56/50","v":0},{"$f":"'Semester Therapy'!K56/50","v":0},{"$f":"'Semester Therapy'!L56/50","v":0},{"$f":"'Semester Therapy'!M56/50","v":0},{"$f":"'Semester Therapy'!N56/50","v":0}]
[{"$f":"'Semester Therapy'!A57","v":"00:00:00"},{"$f":"'Semester Therapy'!B57","v":0},{"$f":"'Semester Therapy'!C57/50","v":0},{"$f":"'Semester Therapy'!D57/50","v":0},{"$f":"'Semester Therapy'!E57/50","v":0},{"$f":"'Semester Therapy'!F57/50","v":0},{"$f":"'Semester Therapy'!G57/50","v":0},{"$f":"'Semester Therapy'!H57/50","v":0},{"$f":"'Semester Therapy'!I57/50","v":0},{"$f":"'Semester Therapy'!J57/50","v":0},{"$f":"'Semester Therapy'!K57/50","v":0},{"$f":"'Semester Therapy'!L57/50","v":0},{"$f":"'Semester Therapy'!M57/50","v":0},{"$f":"'Semester Therapy'!N57/50","v":0}]
[{"$f":"'Semester Therapy'!A58","v":"00:00:00"},{"$f":"'Semester Therapy'!B58","v":0},{"$f":"'Semester Therapy'!C58/50","v":0},{"$f":"'Semester Therapy'!D58/50","v":0},{"$f":"'Semester Therapy'!E58/50","v":0},{"$f":"'Semester Therapy'!F58/50","v":0},{"$f":"'Semester Therapy'!G58/50","v":0},{"$f":"'Semester Therapy'!H58/50","v":0},{"$f":"'Semester Therapy'!I58/50","v":0},{"$f":"'Semester Therapy'!J58/50","v":0},{"$f":"'Semester Therapy'!K58/50","v":0},{"$f":"'Semester Therapy'!L58/50","v":0},{"$f":"'Semester Therapy'!M58/50","v":0},{"$f":"'Semester Therapy'!N58/50","v":0}]
[{"$f":"'Semester Therapy'!A59","v":"00:00:00"},{"$f":"'Semester Therapy'!B59","v":0},{"$f":"'Semester Therapy'!C59/50","v":0},{"$f":"'Semester Therapy'!D59/50","v":0},{"$f":"'Semester Therapy'!E59/50","v":0},{"$f":"'Semester Therapy'!F59/50","v":0},{"$f":"'Semester Therapy'!G59/50","v":0},{"$f":"'Semester Therapy'!H59/50","v":0},{"$f":"'Semester Therapy'!I59/50","v":0},{"$f":"'Semester Therapy'!J59/50","v":0},{"$f":"'Semester Therapy'!K59/50","v":0},{"$f":"'Semester Therapy'!L59/50","v":0},{"$f":"'Semester Therapy'!M59/50","v":0},{"$f":"'Semester Therapy'!N59/50","v":0}]
[{"$f":"'Semester Therapy'!A60","v":"00:00:00"},{"$f":"'Semester Therapy'!B60","v":0},{"$f":"'Semester Therapy'!C60/50","v":0},{"$f":"'Semester Therapy'!D60/50","v":0},{"$f":"'Semester Therapy'!E60/50","v":0},{"$f":"'Semester Therapy'!F60/50","v":0},{"$f":"'Semester Therapy'!G60/50","v":0},{"$f":"'Semester Therapy'!H60/50","v":0},{"$f":"'Semester Therapy'!I60/50","v":0},{"$f":"'Semester Therapy'!J60/50","v":0},{"$f":"'Semester Therapy'!K60/50","v":0},{"$f":"'Semester Therapy'!L60/50","v":0},{"$f":"'Semester Therapy'!M60/50","v":0},{"$f":"'Semester Therapy'!N60/50","v":0}]
[{"$f":"'Semester Therapy'!A61","v":"00:00:00"},{"$f":"'Semester Therapy'!B61","v":0},{"$f":"'Semester Therapy'!C61/50","v":0},{"$f":"'Semester Therapy'!D61/50","v":0},{"$f":"'Semester Therapy'!E61/50","v":0},{"$f":"'Semester Therapy'!F61/50","v":0},{"$f":"'Semester Therapy'!G61/50","v":0},{"$f":"'Semester Therapy'!H61/50","v":0},{"$f":"'Semester Therapy'!I61/50","v":0},{"$f":"'Semester Therapy'!J61/50","v":0},{"$f":"'Semester Therapy'!K61/50","v":0},{"$f":"'Semester Therapy'!L61/50","v":0},{"$f":"'Semester Therapy'!M61/50","v":0},{"$f":"'Semester Therapy'!N61/50","v":0}]
[{"$f":"'Semester Therapy'!A62","v":"00:00:00"},{"$f":"'Semester Therapy'!B62","v":0},{"$f":"'Semester Therapy'!C62/50","v":0},{"$f":"'Semester Therapy'!D62/50","v":0},{"$f":"'Semester Therapy'!E62/50","v":0},{"$f":"'Semester Therapy'!F62/50","v":0},{"$f":"'Semester Therapy'!G62/50","v":0},{"$f":"'Semester Therapy'!H62/50","v":0},{"$f":"'Semester Therapy'!I62/50","v":0},{"$f":"'Semester Therapy'!J62/50","v":0},{"$f":"'Semester Therapy'!K62/50","v":0},{"$f":"'Semester Therapy'!L62/50","v":0},{"$f":"'Semester Therapy'!M62/50","v":0},{"$f":"'Semester Therapy'!N62/50","v":0}]
[{"$f":"'Semester Therapy'!A63","v":"00:00:00"},{"$f":"'Semester Therapy'!B63","v":0},{"$f":"'Semester Therapy'!C63/50","v":0},{"$f":"'Semester Therapy'!D63/50","v":0},{"$f":"'Semester Therapy'!E63/50","v":0},{"$f":"'Semester Therapy'!F63/50","v":0},{"$f":"'Semester Therapy'!G63/50","v":0},{"$f":"'Semester Therapy'!H63/50","v":0},{"$f":"'Semester Therapy'!I63/50","v":0},{"$f":"'Semester Therapy'!J63/50","v":0},{"$f":"'Semester Therapy'!K63/50","v":0},{"$f":"'Semester Therapy'!L63/50","v":0},{"$f":"'Semester Therapy'!M63/50","v":0},{"$f":"'Semester Therapy'!N63/50","v":0}]
[{"$f":"'Semester Therapy'!A64","v":"00:00:00"},{"$f":"'Semester Therapy'!B64","v":0},{"$f":"'Semester Therapy'!C64/50","v":0},{"$f":"'Semester Therapy'!D64/50","v":0},{"$f":"'Semester Therapy'!E64/50","v":0},{"$f":"'Semester Therapy'!F64/50","v":0},{"$f":"'Semester Therapy'!G64/50","v":0},{"$f":"'Semester Therapy'!H64/50","v":0},{"$f":"'Semester Therapy'!I64/50","v":0},{"$f":"'Semester Therapy'!J64/50","v":0},{"$f":"'Semester Therapy'!K64/50","v":0},{"$f":"'Semester Therapy'!L64/50","v":0},{"$f":"'Semester Therapy'!M64/50","v":0},{"$f":"'Semester Therapy'!N64/50","v":0}]
[{"$f":"'Semester Therapy'!A65","v":"00:00:00"},{"$f":"'Semester Therapy'!B65","v":0},{"$f":"'Semester Therapy'!C65/50","v":0},{"$f":"'Semester Therapy'!D65/50","v":0},{"$f":"'Semester Therapy'!E65/50","v":0},{"$f":"'Semester Therapy'!F65/50","v":0},{"$f":"'Semester Therapy'!G65/50","v":0},{"$f":"'Semester Therapy'!H65/50","v":0},{"$f":"'Semester Therapy'!I65/50","v":0},{"$f":"'Semester Therapy'!J65/50","v":0},{"$f":"'Semester Therapy'!K65/50","v":0},{"$f":"'Semester Therapy'!L65/50","v":0},{"$f":"'Semester Therapy'!M65/50","v":0},{"$f":"'Semester Therapy'!N65/50","v":0}]
[{"$f":"'Semester Therapy'!A66","v":"00:00:00"},{"$f":"'Semester Therapy'!B66","v":0},{"$f":"'Semester Therapy'!C66/50","v":0},{"$f":"'Semester Therapy'!D66/50","v":0},{"$f":"'Semester Therapy'!E66/50","v":0},{"$f":"'Semester Therapy'!F66/50","v":0},{"$f":"'Semester Therapy'!G66/50","v":0},{"$f":"'Semester Therapy'!H66/50","v":0},{"$f":"'Semester Therapy'!I66/50","v":0},{"$f":"'Semester Therapy'!J66/50","v":0},{"$f":"'Semester Therapy'!K66/50","v":0},{"$f":"'Semester Therapy'!L66/50","v":0},{"$f":"'Semester Therapy'!M66/50","v":0},{"$f":"'Semester Therapy'!N66/50","v":0}]
[{"$f":"'Semester Therapy'!A67","v":"00:00:00"},{"$f":"'Semester Therapy'!B67","v":0},{"$f":"'Semester Therapy'!C67/50","v":0},{"$f":"'Semester Therapy'!D67/50","v":0},{"$f":"'Semester Therapy'!E67/50","v":0},{"$f":"'Semester Therapy'!F67/50","v":0},{"$f":"'Semester Therapy'!G67/50","v":0},{"$f":"'Semester Therapy'!H67/50","v":0},{"$f":"'Semester Therapy'!I67/50","v":0},{"$f":"'Semester Therapy'!J67/50","v":0},{"$f":"'Semester Therapy'!K67/50","v":0},{"$f":"'Semester Therapy'!L67/50","v":0},{"$f":"'Semester Therapy'!M67/50","v":0},{"$f":"'Semester Therapy'!N67/50","v":0}]
[{"$f":"'Semester Therapy'!A68","v":"00:00:00"},{"$f":"'Semester Therapy'!B68","v":0},{"$f":"'Semester Therapy'!C68/50","v":0},{"$f":"'Semester Therapy'!D68/50","v":0},{"$f":"'Semester Therapy'!E68/50","v":0},{"$f":"'Semester Therapy'!F68/50","v":0},{"$f":"'Semester Therapy'!G68/50","v":0},{"$f":"'Semester Therapy'!H68/50","v":0},{"$f":"'Semester Therapy'!I68/50","v":0},{"$f":"'Semester Therapy'!J68/50","v":0},{"$f":"'Semester Therapy'!K68/50","v":0},{"$f":"'Semester Therapy'!L68/50","v":0},{"$f":"'Semester Therapy'!M68/50","v":0},{"$f":"'Semester Therapy'!N68/50","v":0}]
[{"$f":"'Semester Therapy'!A69","v":"00:00:00"},{"$f":"'Semester Therapy'!B69","v":0},{"$f":"'Semester Therapy'!C69/50","v":0},{"$f":"'Semester Therapy'!D69/50","v":0},{"$f":"'Semester Therapy'!E69/50","v":0},{"$f":"'Semester Therapy'!F69/50","v":0},{"$f":"'Semester Therapy'!G69/50","v":0},{"$f":"'Semester Therapy'!H69/50","v":0},{"$f":"'Semester Therapy'!I69/50","v":0},{"$f":"'Semester Therapy'!J69/50","v":0},{"$f":"'Semester Therapy'!K69/50","v":0},{"$f":"'Semester Therapy'!L69/50","v":0},{"$f":"'Semester Therapy'!M69/50","v":0},{"$f":"'Semester Therapy'!N69/50","v":0}]
[{"$f":"'Semester Therapy'!A70","v":"00:00:00"},{"$f":"'Semester Therapy'!B70","v":0},{"$f":"'Semester Therapy'!C70/50","v":0},{"$f":"'Semester Therapy'!D70/50","v":0},{"$f":"'Semester Therapy'!E70/50","v":0},{"$f":"'Semester Therapy'!F70/50","v":0},{"$f":"'Semester Therapy'!G70/50","v":0},{"$f":"'Semester Therapy'!H70/50","v":0},{"$f":"'Semester Therapy'!I70/50","v":0},{"$f":"'Semester Therapy'!J70/50","v":0},{"$f":"'Semester Therapy'!K70/50","v":0},{"$f":"'Semester Therapy'!L70/50","v":0},{"$f":"'Semester Therapy'!M70/50","v":0},{"$f":"'Semester Therapy'!N70/50","v":0}]
[{"$f":"'Semester Therapy'!A71","v":"00:00:00"},{"$f":"'Semester Therapy'!B71","v":0},{"$f":"'Semester Therapy'!C71/50","v":0},{"$f":"'Semester Therapy'!D71/50","v":0},{"$f":"'Semester Therapy'!E71/50","v":0},{"$f":"'Semester Therapy'!F71/50","v":0},{"$f":"'Semester Therapy'!G71/50","v":0},{"$f":"'Semester Therapy'!H71/50","v":0},{"$f":"'Semester Therapy'!I71/50","v":0},{"$f":"'Semester Therapy'!J71/50","v":0},{"$f":"'Semester Therapy'!K71/50","v":0},{"$f":"'Semester Therapy'!L71/50","v":0},{"$f":"'Semester Therapy'!M71/50","v":0},{"$f":"'Semester Therapy'!N71/50","v":0}]
[{"$f":"'Semester Therapy'!A72","v":"00:00:00"},{"$f":"'Semester Therapy'!B72","v":0},{"$f":"'Semester Therapy'!C72/50","v":0},{"$f":"'Semester Therapy'!D72/50","v":0},{"$f":"'Semester Therapy'!E72/50","v":0},{"$f":"'Semester Therapy'!F72/50","v":0},{"$f":"'Semester Therapy'!G72/50","v":0},{"$f":"'Semester Therapy'!H72/50","v":0},{"$f":"'Semester Therapy'!I72/50","v":0},{"$f":"'Semester Therapy'!J72/50","v":0},{"$f":"'Semester Therapy'!K72/50","v":0},{"$f":"'Semester Therapy'!L72/50","v":0},{"$f":"'Semester Therapy'!M72/50","v":0},{"$f":"'Semester Therapy'!N72/50","v":0}]
[{"$f":"'Semester Therapy'!A73","v":"00:00:00"},{"$f":"'Semester Therapy'!B73","v":0},{"$f":"'Semester Therapy'!C73/50","v":0},{"$f":"'Semester Therapy'!D73/50","v":0},{"$f":"'Semester Therapy'!E73/50","v":0},{"$f":"'Semester Therapy'!F73/50","v":0},{"$f":"'Semester Therapy'!G73/50","v":0},{"$f":"'Semester Therapy'!H73/50","v":0},{"$f":"'Semester Therapy'!I73/50","v":0},{"$f":"'Semester Therapy'!J73/50","v":0},{"$f":"'Semester Therapy'!K73/50","v":0},{"$f":"'Semester Therapy'!L73/50","v":0},{"$f":"'Semester Therapy'!M73/50","v":0},{"$f":"'Semester Therapy'!N73/50","v":0}]
[{"$f":"'Semester Therapy'!A74","v":"00:00:00"},{"$f":"'Semester Therapy'!B74","v":0},{"$f":"'Semester Therapy'!C74/50","v":0},{"$f":"'Semester Therapy'!D74/50","v":0},{"$f":"'Semester Therapy'!E74/50","v":0},{"$f":"'Semester Therapy'!F74/50","v":0},{"$f":"'Semester Therapy'!G74/50","v":0},{"$f":"'Semester Therapy'!H74/50","v":0},{"$f":"'Semester Therapy'!I74/50","v":0},{"$f":"'Semester Therapy'!J74/50","v":0},{"$f":"'Semester Therapy'!K74/50","v":0},{"$f":"'Semester Therapy'!L74/50","v":0},{"$f":"'Semester Therapy'!M74/50","v":0},{"$f":"'Semester Therapy'!N74/50","v":0}]
[{"$f":"'Semester Therapy'!A75","v":"00:00:00"},{"$f":"'Semester Therapy'!B75","v":0},{"$f":"'Semester Therapy'!C75/50","v":0},{"$f":"'Semester Therapy'!D75/50","v":0},{"$f":"'Semester Therapy'!E75/50","v":0},{"$f":"'Semester Therapy'!F75/50","v":0},{"$f":"'Semester Therapy'!G75/50","v":0},{"$f":"'Semester Therapy'!H75/50","v":0},{"$f":"'Semester Therapy'!I75/50","v":0},{"$f":"'Semester Therapy'!J75/50","v":0},{"$f":"'Semester Therapy'!K75/50","v":0},{"$f":"'Semester Therapy'!L75/50","v":0},{"$f":"'Semester Therapy'!M75/50","v":0},{"$f":"'Semester Therapy'!N75/50","v":0}]
[{"$f":"'Semester Therapy'!A76","v":"00:00:00"},{"$f":"'Semester Therapy'!B76","v":0},{"$f":"'Semester Therapy'!C76/50","v":0},{"$f":"'Semester Therapy'!D76/50","v":0},{"$f":"'Semester Therapy'!E76/50","v":0},{"$f":"'Semester Therapy'!F76/50","v":0},{"$f":"'Semester Therapy'!G76/50","v":0},{"$f":"'Semester Therapy'!H76/50","v":0},{"$f":"'Semester Therapy'!I76/50","v":0},{"$f":"'Semester Therapy'!J76/50","v":0},{"$f":"'Semester Therapy'!K76/50","v":0},{"$f":"'Semester Therapy'!L76/50","v":0},{"$f":"'Semester Therapy'!M76/50","v":0},{"$f":"'Semester Therapy'!N76/50","v":0}]
[{"$f":"'Semester Therapy'!A77","v":"00:00:00"},{"$f":"'Semester Therapy'!B77","v":0},{"$f":"'Semester Therapy'!C77/50","v":0},{"$f":"'Semester Therapy'!D77/50","v":0},{"$f":"'Semester Therapy'!E77/50","v":0},{"$f":"'Semester Therapy'!F77/50","v":0},{"$f":"'Semester Therapy'!G77/50","v":0},{"$f":"'Semester Therapy'!H77/50","v":0},{"$f":"'Semester Therapy'!I77/50","v":0},{"$f":"'Semester Therapy'!J77/50","v":0},{"$f":"'Semester Therapy'!K77/50","v":0},{"$f":"'Semester Therapy'!L77/50","v":0},{"$f":"'Semester Therapy'!M77/50","v":0},{"$f":"'Semester Therapy'!N77/50","v":0}]
[{"$f":"'Semester Therapy'!A78","v":"00:00:00"},{"$f":"'Semester Therapy'!B78","v":0},{"$f":"'Semester Therapy'!C78/50","v":0},{"$f":"'Semester Therapy'!D78/50","v":0},{"$f":"'Semester Therapy'!E78/50","v":0},{"$f":"'Semester Therapy'!F78/50","v":0},{"$f":"'Semester Therapy'!G78/50","v":0},{"$f":"'Semester Therapy'!H78/50","v":0},{"$f":"'Semester Therapy'!I78/50","v":0},{"$f":"'Semester Therapy'!J78/50","v":0},{"$f":"'Semester Therapy'!K78/50","v":0},{"$f":"'Semester Therapy'!L78/50","v":0},{"$f":"'Semester Therapy'!M78/50","v":0},{"$f":"'Semester Therapy'!N78/50","v":0}]
[{"$f":"'Semester Therapy'!A79","v":"00:00:00"},{"$f":"'Semester Therapy'!B79","v":0},{"$f":"'Semester Therapy'!C79/50","v":0},{"$f":"'Semester Therapy'!D79/50","v":0},{"$f":"'Semester Therapy'!E79/50","v":0},{"$f":"'Semester Therapy'!F79/50","v":0},{"$f":"'Semester Therapy'!G79/50","v":0},{"$f":"'Semester Therapy'!H79/50","v":0},{"$f":"'Semester Therapy'!I79/50","v":0},{"$f":"'Semester Therapy'!J79/50","v":0},{"$f":"'Semester Therapy'!K79/50","v":0},{"$f":"'Semester Therapy'!L79/50","v":0},{"$f":"'Semester Therapy'!M79/50","v":0},{"$f":"'Semester Therapy'!N79/50","v":0}]
[{"$f":"'Semester Therapy'!A80","v":"00:00:00"},{"$f":"'Semester Therapy'!B80","v":0},{"$f":"'Semester Therapy'!C80/50","v":0},{"$f":"'Semester Therapy'!D80/50","v":0},{"$f":"'Semester Therapy'!E80/50","v":0},{"$f":"'Semester Therapy'!F80/50","v":0},{"$f":"'Semester Therapy'!G80/50","v":0},{"$f":"'Semester Therapy'!H80/50","v":0},{"$f":"'Semester Therapy'!I80/50","v":0},{"$f":"'Semester Therapy'!J80/50","v":0},{"$f":"'Semester Therapy'!K80/50","v":0},{"$f":"'Semester Therapy'!L80/50","v":0},{"$f":"'Semester Therapy'!M80/50","v":0},{"$f":"'Semester Therapy'!N80/50","v":0}]
[{"$f":"'Semester Therapy'!A81","v":"00:00:00"},{"$f":"'Semester Therapy'!B81","v":0},{"$f":"'Semester Therapy'!C81/50","v":0},{"$f":"'Semester Therapy'!D81/50","v":0},{"$f":"'Semester Therapy'!E81/50","v":0},{"$f":"'Semester Therapy'!F81/50","v":0},{"$f":"'Semester Therapy'!G81/50","v":0},{"$f":"'Semester Therapy'!H81/50","v":0},{"$f":"'Semester Therapy'!I81/50","v":0},{"$f":"'Semester Therapy'!J81/50","v":0},{"$f":"'Semester Therapy'!K81/50","v":0},{"$f":"'Semester Therapy'!L81/50","v":0},{"$f":"'Semester Therapy'!M81/50","v":0},{"$f":"'Semester Therapy'!N81/50","v":0}]
[{"$f":"'Semester Therapy'!A82","v":"00:00:00"},{"$f":"'Semester Therapy'!B82","v":0},{"$f":"'Semester Therapy'!C82/50","v":0},{"$f":"'Semester Therapy'!D82/50","v":0},{"$f":"'Semester Therapy'!E82/50","v":0},{"$f":"'Semester Therapy'!F82/50","v":0},{"$f":"'Semester Therapy'!G82/50","v":0},{"$f":"'Semester Therapy'!H82/50","v":0},{"$f":"'Semester Therapy'!I82/50","v":0},{"$f":"'Semester Therapy'!J82/50","v":0},{"$f":"'Semester Therapy'!K82/50","v":0},{"$f":"'Semester Therapy'!L82/50","v":0},{"$f":"'Semester Therapy'!M82/50","v":0},{"$f":"'Semester Therapy'!N82/50","v":0}]
[{"$f":"'Semester Therapy'!A83","v":"00:00:00"},{"$f":"'Semester Therapy'!B83","v":0},{"$f":"'Semester Therapy'!C83/50","v":0},{"$f":"'Semester Therapy'!D83/50","v":0},{"$f":"'Semester Therapy'!E83/50","v":0},{"$f":"'Semester Therapy'!F83/50","v":0},{"$f":"'Semester Therapy'!G83/50","v":0},{"$f":"'Semester Therapy'!H83/50","v":0},{"$f":"'Semester Therapy'!I83/50","v":0},{"$f":"'Semester Therapy'!J83/50","v":0},{"$f":"'Semester Therapy'!K83/50","v":0},{"$f":"'Semester Therapy'!L83/50","v":0},{"$f":"'Semester Therapy'!M83/50","v":0},{"$f":"'Semester Therapy'!N83/50","v":0}]
[{"$f":"'Semester Therapy'!A84","v":"00:00:00"},{"$f":"'Semester Therapy'!B84","v":0},{"$f":"'Semester Therapy'!C84/50","v":0},{"$f":"'Semester Therapy'!D84/50","v":0},{"$f":"'Semester Therapy'!E84/50","v":0},{"$f":"'Semester Therapy'!F84/50","v":0},{"$f":"'Semester Therapy'!G84/50","v":0},{"$f":"'Semester Therapy'!H84/50","v":0},{"$f":"'Semester Therapy'!I84/50","v":0},{"$f":"'Semester Therapy'!J84/50","v":0},{"$f":"'Semester Therapy'!K84/50","v":0},{"$f":"'Semester Therapy'!L84/50","v":0},{"$f":"'Semester Therapy'!M84/50","v":0},{"$f":"'Semester Therapy'!N84/50","v":0}]
[{"$f":"'Semester Therapy'!A85","v":"00:00:00"},{"$f":"'Semester Therapy'!B85","v":0},{"$f":"'Semester Therapy'!C85/50","v":0},{"$f":"'Semester Therapy'!D85/50","v":0},{"$f":"'Semester Therapy'!E85/50","v":0},{"$f":"'Semester Therapy'!F85/50","v":0},{"$f":"'Semester Therapy'!G85/50","v":0},{"$f":"'Semester Therapy'!H85/50","v":0},{"$f":"'Semester Therapy'!I85/50","v":0},{"$f":"'Semester Therapy'!J85/50","v":0},{"$f":"'Semester Therapy'!K85/50","v":0},{"$f":"'Semester Therapy'!L85/50","v":0},{"$f":"'Semester Therapy'!M85/50","v":0},{"$f":"'Semester Therapy'!N85/50","v":0}]
[{"$f":"'Semester Therapy'!A86","v":"00:00:00"},{"$f":"'Semester Therapy'!B86","v":0},{"$f":"'Semester Therapy'!C86/50","v":0},{"$f":"'Semester Therapy'!D86/50","v":0},{"$f":"'Semester Therapy'!E86/50","v":0},{"$f":"'Semester Therapy'!F86/50","v":0},{"$f":"'Semester Therapy'!G86/50","v":0},{"$f":"'Semester Therapy'!H86/50","v":0},{"$f":"'Semester Therapy'!I86/50","v":0},{"$f":"'Semester Therapy'!J86/50","v":0},{"$f":"'Semester Therapy'!K86/50","v":0},{"$f":"'Semester Therapy'!L86/50","v":0},{"$f":"'Semester Therapy'!M86/50","v":0},{"$f":"'Semester Therapy'!N86/50","v":0}]
[{"$f":"'Semester Therapy'!A87","v":"00:00:00"},{"$f":"'Semester Therapy'!B87","v":0},{"$f":"'Semester Therapy'!C87/50","v":0},{"$f":"'Semester Therapy'!D87/50","v":0},{"$f":"'Semester Therapy'!E87/50","v":0},{"$f":"'Semester Therapy'!F87/50","v":0},{"$f":"'Semester Therapy'!G87/50","v":0},{"$f":"'Semester Therapy'!H87/50","v":0},{"$f":"'Semester Therapy'!I87/50","v":0},{"$f":"'Semester Therapy'!J87/50","v":0},{"$f":"'Semester Therapy'!K87/50","v":0},{"$f":"'Semester Therapy'!L87/50","v":0},{"$f":"'Semester Therapy'!M87/50","v":0},{"$f":"'Semester Therapy'!N87/50","v":0}]
[{"$f":"'Semester Therapy'!A88","v":"00:00:00"},{"$f":"'Semester Therapy'!B88","v":0},{"$f":"'Semester Therapy'!C88/50","v":0},{"$f":"'Semester Therapy'!D88/50","v":0},{"$f":"'Semester Therapy'!E88/50","v":0},{"$f":"'Semester Therapy'!F88/50","v":0},{"$f":"'Semester Therapy'!G88/50","v":0},{"$f":"'Semester Therapy'!H88/50","v":0},{"$f":"'Semester Therapy'!I88/50","v":0},{"$f":"'Semester Therapy'!J88/50","v":0},{"$f":"'Semester Therapy'!K88/50","v":0},{"$f":"'Semester Therapy'!L88/50","v":0},{"$f":"'Semester Therapy'!M88/50","v":0},{"$f":"'Semester Therapy'!N88/50","v":0}]
[{"$f":"'Semester Therapy'!A89","v":"00:00:00"},{"$f":"'Semester Therapy'!B89","v":0},{"$f":"'Semester Therapy'!C89/50","v":0},{"$f":"'Semester Therapy'!D89/50","v":0},{"$f":"'Semester Therapy'!E89/50","v":0},{"$f":"'Semester Therapy'!F89/50","v":0},{"$f":"'Semester Therapy'!G89/50","v":0},{"$f":"'Semester Therapy'!H89/50","v":0},{"$f":"'Semester Therapy'!I89/50","v":0},{"$f":"'Semester Therapy'!J89/50","v":0},{"$f":"'Semester Therapy'!K89/50","v":0},{"$f":"'Semester Therapy'!L89/50","v":0},{"$f":"'Semester Therapy'!M89/50","v":0},{"$f":"'Semester Therapy'!N89/50","v":0}]
[{"$f":"'Semester Therapy'!A90","v":"00:00:00"},{"$f":"'Semester Therapy'!B90","v":0},{"$f":"'Semester Therapy'!C90/50","v":0},{"$f":"'Semester Therapy'!D90/50","v":0},{"$f":"'Semester Therapy'!E90/50","v":0},{"$f":"'Semester Therapy'!F90/50","v":0},{"$f":"'Semester Therapy'!G90/50","v":0},{"$f":"'Semester Therapy'!H90/50","v":0},{"$f":"'Semester Therapy'!I90/50","v":0},{"$f":"'Semester Therapy'!J90/50","v":0},{"$f":"'Semester Therapy'!K90/50","v":0},{"$f":"'Semester Therapy'!L90/50","v":0},{"$f":"'Semester Therapy'!M90/50","v":0},{"$f":"'Semester Therapy'!N90/50","v":0}]
[{"$f":"'Semester Therapy'!A91","v":"00:00:00"},{"$f":"'Semester Therapy'!B91","v":0},{"$f":"'Semester Therapy'!C91/50","v":0},{"$f":"'Semester Therapy'!D91/50","v":0},{"$f":"'Semester Therapy'!E91/50","v":0},{"$f":"'Semester Therapy'!F91/50","v":0},{"$f":"'Semester Therapy'!G91/50","v":0},{"$f":"'Semester Therapy'!H91/50","v":0},{"$f":"'Semester Therapy'!I91/50","v":0},{"$f":"'Semester Therapy'!J91/50","v":0},{"$f":"'Semester Therapy'!K91/50","v":0},{"$f":"'Semester Therapy'!L91/50","v":0},{"$f":"'Semester Therapy'!M91/50","v":0},{"$f":"'Semester Therapy'!N91/50","v":0}]
[{"$f":"'Semester Therapy'!A92","v":"00:00:00"},{"$f":"'Semester Therapy'!B92","v":0},{"$f":"'Semester Therapy'!C92/50","v":0},{"$f":"'Semester Therapy'!D92/50","v":0},{"$f":"'Semester Therapy'!E92/50","v":0},{"$f":"'Semester Therapy'!F92/50","v":0},{"$f":"'Semester Therapy'!G92/50","v":0},{"$f":"'Semester Therapy'!H92/50","v":0},{"$f":"'Semester Therapy'!I92/50","v":0},{"$f":"'Semester Therapy'!J92/50","v":0},{"$f":"'Semester Therapy'!K92/50","v":0},{"$f":"'Semester Therapy'!L92/50","v":0},{"$f":"'Semester Therapy'!M92/50","v":0},{"$f":"'Semester Therapy'!N92/50","v":0}]
[{"$f":"'Semester Therapy'!A93","v":"00:00:00"},{"$f":"'Semester Therapy'!B93","v":0},{"$f":"'Semester Therapy'!C93/50","v":0},{"$f":"'Semester Therapy'!D93/50","v":0},{"$f":"'Semester Therapy'!E93/50","v":0},{"$f":"'Semester Therapy'!F93/50","v":0},{"$f":"'Semester Therapy'!G93/50","v":0},{"$f":"'Semester Therapy'!H93/50","v":0},{"$f":"'Semester Therapy'!I93/50","v":0},{"$f":"'Semester Therapy'!J93/50","v":0},{"$f":"'Semester Therapy'!K93/50","v":0},{"$f":"'Semester Therapy'!L93/50","v":0},{"$f":"'Semester Therapy'!M93/50","v":0},{"$f":"'Semester Therapy'!N93/50","v":0}]
[{"$f":"'Semester Therapy'!A94","v":"00:00:00"},{"$f":"'Semester Therapy'!B94","v":0},{"$f":"'Semester Therapy'!C94/50","v":0},{"$f":"'Semester Therapy'!D94/50","v":0},{"$f":"'Semester Therapy'!E94/50","v":0},{"$f":"'Semester Therapy'!F94/50","v":0},{"$f":"'Semester Therapy'!G94/50","v":0},{"$f":"'Semester Therapy'!H94/50","v":0},{"$f":"'Semester Therapy'!I94/50","v":0},{"$f":"'Semester Therapy'!J94/50","v":0},{"$f":"'Semester Therapy'!K94/50","v":0},{"$f":"'Semester Therapy'!L94/50","v":0},{"$f":"'Semester Therapy'!M94/50","v":0},{"$f":"'Semester Therapy'!N94/50","v":0}]
[{"$f":"'Semester Therapy'!A95","v":"00:00:00"},{"$f":"'Semester Therapy'!B95","v":0},{"$f":"'Semester Therapy'!C95/50","v":0},{"$f":"'Semester Therapy'!D95/50","v":0},{"$f":"'Semester Therapy'!E95/50","v":0},{"$f":"'Semester Therapy'!F95/50","v":0},{"$f":"'Semester Therapy'!G95/50","v":0},{"$f":"'Semester Therapy'!H95/50","v":0},{"$f":"'Semester Therapy'!I95/50","v":0},{"$f":"'Semester Therapy'!J95/50","v":0},{"$f":"'Semester Therapy'!K95/50","v":0},{"$f":"'Semester Therapy'!L95/50","v":0},{"$f":"'Semester Therapy'!M95/50","v":0},{"$f":"'Semester Therapy'!N95/50","v":0}]
[{"$f":"'Semester Therapy'!A96","v":"00:00:00"},{"$f":"'Semester Therapy'!B96","v":0},{"$f":"'Semester Therapy'!C96/50","v":0},{"$f":"'Semester Therapy'!D96/50","v":0},{"$f":"'Semester Therapy'!E96/50","v":0},{"$f":"'Semester Therapy'!F96/50","v":0},{"$f":"'Semester Therapy'!G96/50","v":0},{"$f":"'Semester Therapy'!H96/50","v":0},{"$f":"'Semester Therapy'!I96/50","v":0},{"$f":"'Semester Therapy'!J96/50","v":0},{"$f":"'Semester Therapy'!K96/50","v":0},{"$f":"'Semester Therapy'!L96/50","v":0},{"$f":"'Semester Therapy'!M96/50","v":0},{"$f":"'Semester Therapy'!N96/50","v":0}]
[{"$f":"'Semester Therapy'!A97","v":"00:00:00"},{"$f":"'Semester Therapy'!B97","v":0},{"$f":"'Semester Therapy'!C97/50","v":0},{"$f":"'Semester Therapy'!D97/50","v":0},{"$f":"'Semester Therapy'!E97/50","v":0},{"$f":"'Semester Therapy'!F97/50","v":0},{"$f":"'Semester Therapy'!G97/50","v":0},{"$f":"'Semester Therapy'!H97/50","v":0},{"$f":"'Semester Therapy'!I97/50","v":0},{"$f":"'Semester Therapy'!J97/50","v":0},{"$f":"'Semester Therapy'!K97/50","v":0},{"$f":"'Semester Therapy'!L97/50","v":0},{"$f":"'Semester Therapy'!M97/50","v":0},{"$f":"'Semester Therapy'!N97/50","v":0}]
[{"$f":"'Semester Therapy'!A98","v":"00:00:00"},{"$f":"'Semester Therapy'!B98","v":0},{"$f":"'Semester Therapy'!C98/50","v":0},{"$f":"'Semester Therapy'!D98/50","v":0},{"$f":"'Semester Therapy'!E98/50","v":0},{"$f":"'Semester Therapy'!F98/50","v":0},{"$f":"'Semester Therapy'!G98/50","v":0},{"$f":"'Semester Therapy'!H98/50","v":0},{"$f":"'Semester Therapy'!I98/50","v":0},{"$f":"'Semester Therapy'!J98/50","v":0},{"$f":"'Semester Therapy'!K98/50","v":0},{"$f":"'Semester Therapy'!L98/50","v":0},{"$f":"'Semester Therapy'!M98/50","v":0},{"$f":"'Semester Therapy'!N98/50","v":0}]
[{"$f":"'Semester Therapy'!A99","v":"00:00:00"},{"$f":"'Semester Therapy'!B99","v":0},{"$f":"'Semester Therapy'!C99/50","v":0},{"$f":"'Semester Therapy'!D99/50","v":0},{"$f":"'Semester Therapy'!E99/50","v":0},{"$f":"'Semester Therapy'!F99/50","v":0},{"$f":"'Semester Therapy'!G99/50","v":0},{"$f":"'Semester Therapy'!H99/50","v":0},{"$f":"'Semester Therapy'!I99/50","v":0},{"$f":"'Semester Therapy'!J99/50","v":0},{"$f":"'Semester Therapy'!K99/50","v":0},{"$f":"'Semester Therapy'!L99/50","v":0},{"$f":"'Semester Therapy'!M99/50","v":0},{"$f":"'Semester Therapy'!N99/50","v":0}]
[{"$f":"'Semester Therapy'!A100","v":"00:00:00"},{"$f":"'Semester Therapy'!B100","v":0},{"$f":"'Semester Therapy'!C100/50","v":0},{"$f":"'Semester Therapy'!D100/50","v":0},{"$f":"'Semester Therapy'!E100/50","v":0},{"$f":"'Semester Therapy'!F100/50","v":0},{"$f":"'Semester Therapy'!G100/50","v":0},{"$f":"'Semester Therapy'!H100/50","v":0},{"$f":"'Semester Therapy'!I100/50","v":0},{"$f":"'Semester Therapy'!J100/50","v":0},{"$f":"'Semester Therapy'!K100/50","v":0},{"$f":"'Semester Therapy'!L100/50","v":0},{"$f":"'Semester Therapy'!M100/50","v":0},{"$f":"'Semester Therapy'!N100/50","v":0}]

{"sheet":"Total Supervision","index":2,"n_rows":100,"n_cols":9,"rows_kept":100,"cut":false,"hidden":false,"merged":[[2,0,2,8],[1,0,1,8],[9,0,9,8],[10,0,10,8],[0,0,0,8],[8,0,8,8],[6,0,7,8],[5,0,5,8],[4,0,4,8],[3,0,3,8]]}
["Reporting for Supervision Hours"]
["Guidelines:"]
["Individual Live - Supervision of your cases by a supervisor directly observing your work."]
["Individual Video - Your case(s) being reviewed by a supervisor using video tape play back with 1 or 2 supervisees present."]
["Group Live - You participate in the supervision of others cases being directly observed by a supervisor."]
["Group Video - Your observe the cases of others as they are being reviewed by a supervisor with 3 to 6 in the group."]
["Individual Case Report/Process Notes and Group Case Report/Process Notes - Discussion of cases with one or two supervisees present, without presentation of video, audio or live case material."]
[]
["Team - You observe and develop treatment interventions as part of a therapeutic team."]
[]
["Hours for Mode of Therapy by System in Therapy"]
["Date","Supervisor","Indiv/ Live","Indiv/ Video","Indiv/Case Report","Group/ Live","Group/ Video","Group/Case Report","Team/ Live"]
[{"$f":"'Semester Supervision'!A13","v":"00:00:00"},{"$f":"'Semester Supervision'!B13","v":0},{"$f":"'Semester Supervision'!C13/50","v":0},{"$f":"'Semester Supervision'!D13/50","v":0},{"$f":"'Semester Supervision'!E13/50","v":0},{"$f":"'Semester Supervision'!F13/50","v":0},{"$f":"'Semester Supervision'!G13/50","v":0},{"$f":"'Semester Supervision'!H13/50","v":0},{"$f":"'Semester Supervision'!I13/50","v":0}]
[{"$f":"'Semester Supervision'!A14","v":"00:00:00"},{"$f":"'Semester Supervision'!B14","v":0},{"$f":"'Semester Supervision'!C14/50","v":0},{"$f":"'Semester Supervision'!D14/50","v":0},{"$f":"'Semester Supervision'!E14/50","v":0},{"$f":"'Semester Supervision'!F14/50","v":0},{"$f":"'Semester Supervision'!G14/50","v":0},{"$f":"'Semester Supervision'!H14/50","v":0},{"$f":"'Semester Supervision'!I14/50","v":0}]
[{"$f":"'Semester Supervision'!A15","v":"00:00:00"},{"$f":"'Semester Supervision'!B15","v":0},{"$f":"'Semester Supervision'!C15/50","v":0},{"$f":"'Semester Supervision'!D15/50","v":0},{"$f":"'Semester Supervision'!E15/50","v":0},{"$f":"'Semester Supervision'!F15/50","v":0},{"$f":"'Semester Supervision'!G15/50","v":0},{"$f":"'Semester Supervision'!H15/50","v":0},{"$f":"'Semester Supervision'!I15/50","v":0}]
[{"$f":"'Semester Supervision'!A16","v":"00:00:00"},{"$f":"'Semester Supervision'!B16","v":0},{"$f":"'Semester Supervision'!C16/50","v":0},{"$f":"'Semester Supervision'!D16/50","v":0},{"$f":"'Semester Supervision'!E16/50","v":0},{"$f":"'Semester Supervision'!F16/50","v":0},{"$f":"'Semester Supervision'!G16/50","v":0},{"$f":"'Semester Supervision'!H16/50","v":0},{"$f":"'Semester Supervision'!I16/50","v":0}]
[{"$f":"'Semester Supervision'!A17","v":"00:00:00"},{"$f":"'Semester Supervision'!B17","v":0},{"$f":"'Semester Supervision'!C17/50","v":0},{"$f":"'Semester Supervision'!D17/50","v":0},{"$f":"'Semester Supervision'!E17/50","v":0},{"$f":"'Semester Supervision'!F17/50","v":0},{"$f":"'Semester Supervision'!G17/50","v":0},{"$f":"'Semester Supervision'!H17/50","v":0},{"$f":"'Semester Supervision'!I17/50","v":0}]
[{"$f":"'Semester Supervision'!A18","v":"00:00:00"},{"$f":"'Semester Supervision'!B18","v":0},{"$f":"'Semester Supervision'!C18/50","v":0},{"$f":"'Semester Supervision'!D18/50","v":0},{"$f":"'Semester Supervision'!E18/50","v":0},{"$f":"'Semester Supervision'!F18/50","v":0},{"$f":"'Semester Supervision'!G18/50","v":0},{"$f":"'Semester Supervision'!H18/50","v":0},{"$f":"'Semester Supervision'!I18/50","v":0}]
[{"$f":"'Semester Supervision'!A19","v":"00:00:00"},{"$f":"'Semester Supervision'!B19","v":0},{"$f":"'Semester Supervision'!C19/50","v":0},{"$f":"'Semester Supervision'!D19/50","v":0},{"$f":"'Semester Supervision'!E19/50","v":0},{"$f":"'Semester Supervision'!F19/50","v":0},{"$f":"'Semester Supervision'!G19/50","v":0},{"$f":"'Semester Supervision'!H19/50","v":0},{"$f":"'Semester Supervision'!I19/50","v":0}]
[{"$f":"'Semester Supervision'!A20","v":"00:00:00"},{"$f":"'Semester Supervision'!B20","v":0},{"$f":"'Semester Supervision'!C20/50","v":0},{"$f":"'Semester Supervision'!D20/50","v":0},{"$f":"'Semester Supervision'!E20/50","v":0},{"$f":"'Semester Supervision'!F20/50","v":0},{"$f":"'Semester Supervision'!G20/50","v":0},{"$f":"'Semester Supervision'!H20/50","v":0},{"$f":"'Semester Supervision'!I20/50","v":0}]
[{"$f":"'Semester Supervision'!A21","v":"00:00:00"},{"$f":"'Semester Supervision'!B21","v":0},{"$f":"'Semester Supervision'!C21/50","v":0},{"$f":"'Semester Supervision'!D21/50","v":0},{"$f":"'Semester Supervision'!E21/50","v":0},{"$f":"'Semester Supervision'!F21/50","v":0},{"$f":"'Semester Supervision'!G21/50","v":0},{"$f":"'Semester Supervision'!H21/50","v":0},{"$f":"'Semester Supervision'!I21/50","v":0}]
[{"$f":"'Semester Supervision'!A22","v":"00:00:00"},{"$f":"'Semester Supervision'!B22","v":0},{"$f":"'Semester Supervision'!C22/50","v":0},{"$f":"'Semester Supervision'!D22/50","v":0},{"$f":"'Semester Supervision'!E22/50","v":0},{"$f":"'Semester Supervision'!F22/50","v":0},{"$f":"'Semester Supervision'!G22/50","v":0},{"$f":"'Semester Supervision'!H22/50","v":0},{"$f":"'Semester Supervision'!I22/50","v":0}]
[{"$f":"'Semester Supervision'!A23","v":"00:00:00"},{"$f":"'Semester Supervision'!B23","v":0},{"$f":"'Semester Supervision'!C23/50","v":0},{"$f":"'Semester Supervision'!D23/50","v":0},{"$f":"'Semester Supervision'!E23/50","v":0},{"$f":"'Semester Supervision'!F23/50","v":0},{"$f":"'Semester Supervision'!G23/50","v":0},{"$f":"'Semester Supervision'!H23/50","v":0},{"$f":"'Semester Supervision'!I23/50","v":0}]
[{"$f":"'Semester Supervision'!A24","v":"00:00:00"},{"$f":"'Semester Supervision'!B24","v":0},{"$f":"'Semester Supervision'!C24/50","v":0},{"$f":"'Semester Supervision'!D24/50","v":0},{"$f":"'Semester Supervision'!E24/50","v":0},{"$f":"'Semester Supervision'!F24/50","v":0},{"$f":"'Semester Supervision'!G24/50","v":0},{"$f":"'Semester Supervision'!H24/50","v":0},{"$f":"'Semester Supervision'!I24/50","v":0}]
[{"$f":"'Semester Supervision'!A25","v":"00:00:00"},{"$f":"'Semester Supervision'!B25","v":0},{"$f":"'Semester Supervision'!C25/50","v":0},{"$f":"'Semester Supervision'!D25/50","v":0},{"$f":"'Semester Supervision'!E25/50","v":0},{"$f":"'Semester Supervision'!F25/50","v":0},{"$f":"'Semester Supervision'!G25/50","v":0},{"$f":"'Semester Supervision'!H25/50","v":0},{"$f":"'Semester Supervision'!I25/50","v":0}]
[{"$f":"'Semester Supervision'!A26","v":"00:00:00"},{"$f":"'Semester Supervision'!B26","v":0},{"$f":"'Semester Supervision'!C26/50","v":0},{"$f":"'Semester Supervision'!D26/50","v":0},{"$f":"'Semester Supervision'!E26/50","v":0},{"$f":"'Semester Supervision'!F26/50","v":0},{"$f":"'Semester Supervision'!G26/50","v":0},{"$f":"'Semester Supervision'!H26/50","v":0},{"$f":"'Semester Supervision'!I26/50","v":0}]
[{"$f":"'Semester Supervision'!A27","v":"00:00:00"},{"$f":"'Semester Supervision'!B27","v":0},{"$f":"'Semester Supervision'!C27/50","v":0},{"$f":"'Semester Supervision'!D27/50","v":0},{"$f":"'Semester Supervision'!E27/50","v":0},{"$f":"'Semester Supervision'!F27/50","v":0},{"$f":"'Semester Supervision'!G27/50","v":0},{"$f":"'Semester Supervision'!H27/50","v":0},{"$f":"'Semester Supervision'!I27/50","v":0}]
[{"$f":"'Semester Supervision'!A28","v":"00:00:00"},{"$f":"'Semester Supervision'!B28","v":0},{"$f":"'Semester Supervision'!C28/50","v":0},{"$f":"'Semester Supervision'!D28/50","v":0},{"$f":"'Semester Supervision'!E28/50","v":0},{"$f":"'Semester Supervision'!F28/50","v":0},{"$f":"'Semester Supervision'!G28/50","v":0},{"$f":"'Semester Supervision'!H28/50","v":0},{"$f":"'Semester Supervision'!I28/50","v":0}]
[{"$f":"'Semester Supervision'!A29","v":"00:00:00"},{"$f":"'Semester Supervision'!B29","v":0},{"$f":"'Semester Supervision'!C29/50","v":0},{"$f":"'Semester Supervision'!D29/50","v":0},{"$f":"'Semester Supervision'!E29/50","v":0},{"$f":"'Semester Supervision'!F29/50","v":0},{"$f":"'Semester Supervision'!G29/50","v":0},{"$f":"'Semester Supervision'!H29/50","v":0},{"$f":"'Semester Supervision'!I29/50","v":0}]
[{"$f":"'Semester Supervision'!A30","v":"00:00:00"},{"$f":"'Semester Supervision'!B30","v":0},{"$f":"'Semester Supervision'!C30/50","v":0},{"$f":"'Semester Supervision'!D30/50","v":0},{"$f":"'Semester Supervision'!E30/50","v":0},{"$f":"'Semester Supervision'!F30/50","v":0},{"$f":"'Semester Supervision'!G30/50","v":0},{"$f":"'Semester Supervision'!H30/50","v":0},{"$f":"'Semester Supervision'!I30/50","v":0}]
[{"$f":"'Semester Supervision'!A31","v":"00:00:00"},{"$f":"'Semester Supervision'!B31","v":0},{"$f":"'Semester Supervision'!C31/50","v":0},{"$f":"'Semester Supervision'!D31/50","v":0},{"$f":"'Semester Supervision'!E31/50","v":0},{"$f":"'Semester Supervision'!F31/50","v":0},{"$f":"'Semester Supervision'!G31/50","v":0},{"$f":"'Semester Supervision'!H31/50","v":0},{"$f":"'Semester Supervision'!I31/50","v":0}]
[{"$f":"'Semester Supervision'!A32","v":"00:00:00"},{"$f":"'Semester Supervision'!B32","v":0},{"$f":"'Semester Supervision'!C32/50","v":0},{"$f":"'Semester Supervision'!D32/50","v":0},{"$f":"'Semester Supervision'!E32/50","v":0},{"$f":"'Semester Supervision'!F32/50","v":0},{"$f":"'Semester Supervision'!G32/50","v":0},{"$f":"'Semester Supervision'!H32/50","v":0},{"$f":"'Semester Supervision'!I32/50","v":0}]
[{"$f":"'Semester Supervision'!A33","v":"00:00:00"},{"$f":"'Semester Supervision'!B33","v":0},{"$f":"'Semester Supervision'!C33/50","v":0},{"$f":"'Semester Supervision'!D33/50","v":0},{"$f":"'Semester Supervision'!E33/50","v":0},{"$f":"'Semester Supervision'!F33/50","v":0},{"$f":"'Semester Supervision'!G33/50","v":0},{"$f":"'Semester Supervision'!H33/50","v":0},{"$f":"'Semester Supervision'!I33/50","v":0}]
[{"$f":"'Semester Supervision'!A34","v":"00:00:00"},{"$f":"'Semester Supervision'!B34","v":0},{"$f":"'Semester Supervision'!C34/50","v":0},{"$f":"'Semester Supervision'!D34/50","v":0},{"$f":"'Semester Supervision'!E34/50","v":0},{"$f":"'Semester Supervision'!F34/50","v":0},{"$f":"'Semester Supervision'!G34/50","v":0},{"$f":"'Semester Supervision'!H34/50","v":0},{"$f":"'Semester Supervision'!I34/50","v":0}]
[{"$f":"'Semester Supervision'!A35","v":"00:00:00"},{"$f":"'Semester Supervision'!B35","v":0},{"$f":"'Semester Supervision'!C35/50","v":0},{"$f":"'Semester Supervision'!D35/50","v":0},{"$f":"'Semester Supervision'!E35/50","v":0},{"$f":"'Semester Supervision'!F35/50","v":0},{"$f":"'Semester Supervision'!G35/50","v":0},{"$f":"'Semester Supervision'!H35/50","v":0},{"$f":"'Semester Supervision'!I35/50","v":0}]
[{"$f":"'Semester Supervision'!A36","v":"00:00:00"},{"$f":"'Semester Supervision'!B36","v":0},{"$f":"'Semester Supervision'!C36/50","v":0},{"$f":"'Semester Supervision'!D36/50","v":0},{"$f":"'Semester Supervision'!E36/50","v":0},{"$f":"'Semester Supervision'!F36/50","v":0},{"$f":"'Semester Supervision'!G36/50","v":0},{"$f":"'Semester Supervision'!H36/50","v":0},{"$f":"'Semester Supervision'!I36/50","v":0}]
[{"$f":"'Semester Supervision'!A37","v":"00:00:00"},{"$f":"'Semester Supervision'!B37","v":0},{"$f":"'Semester Supervision'!C37/50","v":0},{"$f":"'Semester Supervision'!D37/50","v":0},{"$f":"'Semester Supervision'!E37/50","v":0},{"$f":"'Semester Supervision'!F37/50","v":0},{"$f":"'Semester Supervision'!G37/50","v":0},{"$f":"'Semester Supervision'!H37/50","v":0},{"$f":"'Semester Supervision'!I37/50","v":0}]
[{"$f":"'Semester Supervision'!A38","v":"00:00:00"},{"$f":"'Semester Supervision'!B38","v":0},{"$f":"'Semester Supervision'!C38/50","v":0},{"$f":"'Semester Supervision'!D38/50","v":0},{"$f":"'Semester Supervision'!E38/50","v":0},{"$f":"'Semester Supervision'!F38/50","v":0},{"$f":"'Semester Supervision'!G38/50","v":0},{"$f":"'Semester Supervision'!H38/50","v":0},{"$f":"'Semester Supervision'!I38/50","v":0}]
[{"$f":"'Semester Supervision'!A39","v":"00:00:00"},{"$f":"'Semester Supervision'!B39","v":0},{"$f":"'Semester Supervision'!C39/50","v":0},{"$f":"'Semester Supervision'!D39/50","v":0},{"$f":"'Semester Supervision'!E39/50","v":0},{"$f":"'Semester Supervision'!F39/50","v":0},{"$f":"'Semester Supervision'!G39/50","v":0},{"$f":"'Semester Supervision'!H39/50","v":0},{"$f":"'Semester Supervision'!I39/50","v":0}]
[{"$f":"'Semester Supervision'!A40","v":"00:00:00"},{"$f":"'Semester Supervision'!B40","v":0},{"$f":"'Semester Supervision'!C40/50","v":0},{"$f":"'Semester Supervision'!D40/50","v":0},{"$f":"'Semester Supervision'!E40/50","v":0},{"$f":"'Semester Supervision'!F40/50","v":0},{"$f":"'Semester Supervision'!G40/50","v":0},{"$f":"'Semester Supervision'!H40/50","v":0},{"$f":"'Semester Supervision'!I40/50","v":0}]
[{"$f":"'Semester Supervision'!A41","v":"00:00:00"},{"$f":"'Semester Supervision'!B41","v":0},{"$f":"'Semester Supervision'!C41/50","v":0},{"$f":"'Semester Supervision'!D41/50","v":0},{"$f":"'Semester Supervision'!E41/50","v":0},{"$f":"'Semester Supervision'!F41/50","v":0},{"$f":"'Semester Supervision'!G41/50","v":0},{"$f":"'Semester Supervision'!H41/50","v":0},{"$f":"'Semester Supervision'!I41/50","v":0}]
[{"$f":"'Semester Supervision'!A42","v":"00:00:00"},{"$f":"'Semester Supervision'!B42","v":0},{"$f":"'Semester Supervision'!C42/50","v":0},{"$f":"'Semester Supervision'!D42/50","v":0},{"$f":"'Semester Supervision'!E42/50","v":0},{"$f":"'Semester Supervision'!F42/50","v":0},{"$f":"'Semester Supervision'!G42/50","v":0},{"$f":"'Semester Supervision'!H42/50","v":0},{"$f":"'Semester Supervision'!I42/50","v":0}]
[{"$f":"'Semester Supervision'!A43","v":"00:00:00"},{"$f":"'Semester Supervision'!B43","v":0},{"$f":"'Semester Supervision'!C43/50","v":0},{"$f":"'Semester Supervision'!D43/50","v":0},{"$f":"'Semester Supervision'!E43/50","v":0},{"$f":"'Semester Supervision'!F43/50","v":0},{"$f":"'Semester Supervision'!G43/50","v":0},{"$f":"'Semester Supervision'!H43/50","v":0},{"$f":"'Semester Supervision'!I43/50","v":0}]
[{"$f":"'Semester Supervision'!A44","v":"00:00:00"},{"$f":"'Semester Supervision'!B44","v":0},{"$f":"'Semester Supervision'!C44/50","v":0},{"$f":"'Semester Supervision'!D44/50","v":0},{"$f":"'Semester Supervision'!E44/50","v":0},{"$f":"'Semester Supervision'!F44/50","v":0},{"$f":"'Semester Supervision'!G44/50","v":0},{"$f":"'Semester Supervision'!H44/50","v":0},{"$f":"'Semester Supervision'!I44/50","v":0}]
[{"$f":"'Semester Supervision'!A45","v":"00:00:00"},{"$f":"'Semester Supervision'!B45","v":0},{"$f":"'Semester Supervision'!C45/50","v":0},{"$f":"'Semester Supervision'!D45/50","v":0},{"$f":"'Semester Supervision'!E45/50","v":0},{"$f":"'Semester Supervision'!F45/50","v":0},{"$f":"'Semester Supervision'!G45/50","v":0},{"$f":"'Semester Supervision'!H45/50","v":0},{"$f":"'Semester Supervision'!I45/50","v":0}]
[{"$f":"'Semester Supervision'!A46","v":"00:00:00"},{"$f":"'Semester Supervision'!B46","v":0},{"$f":"'Semester Supervision'!C46/50","v":0},{"$f":"'Semester Supervision'!D46/50","v":0},{"$f":"'Semester Supervision'!E46/50","v":0},{"$f":"'Semester Supervision'!F46/50","v":0},{"$f":"'Semester Supervision'!G46/50","v":0},{"$f":"'Semester Supervision'!H46/50","v":0},{"$f":"'Semester Supervision'!I46/50","v":0}]
[{"$f":"'Semester Supervision'!A47","v":"00:00:00"},{"$f":"'Semester Supervision'!B47","v":0},{"$f":"'Semester Supervision'!C47/50","v":0},{"$f":"'Semester Supervision'!D47/50","v":0},{"$f":"'Semester Supervision'!E47/50","v":0},{"$f":"'Semester Supervision'!F47/50","v":0},{"$f":"'Semester Supervision'!G47/50","v":0},{"$f":"'Semester Supervision'!H47/50","v":0},{"$f":"'Semester Supervision'!I47/50","v":0}]
[{"$f":"'Semester Supervision'!A48","v":"00:00:00"},{"$f":"'Semester Supervision'!B48","v":0},{"$f":"'Semester Supervision'!C48/50","v":0},{"$f":"'Semester Supervision'!D48/50","v":0},{"$f":"'Semester Supervision'!E48/50","v":0},{"$f":"'Semester Supervision'!F48/50","v":0},{"$f":"'Semester Supervision'!G48/50","v":0},{"$f":"'Semester Supervision'!H48/50","v":0},{"$f":"'Semester Supervision'!I48/50","v":0}]
[{"$f":"'Semester Supervision'!A49","v":"00:00:00"},{"$f":"'Semester Supervision'!B49","v":0},{"$f":"'Semester Supervision'!C49/50","v":0},{"$f":"'Semester Supervision'!D49/50","v":0},{"$f":"'Semester Supervision'!E49/50","v":0},{"$f":"'Semester Supervision'!F49/50","v":0},{"$f":"'Semester Supervision'!G49/50","v":0},{"$f":"'Semester Supervision'!H49/50","v":0},{"$f":"'Semester Supervision'!I49/50","v":0}]
[{"$f":"'Semester Supervision'!A50","v":"00:00:00"},{"$f":"'Semester Supervision'!B50","v":0},{"$f":"'Semester Supervision'!C50/50","v":0},{"$f":"'Semester Supervision'!D50/50","v":0},{"$f":"'Semester Supervision'!E50/50","v":0},{"$f":"'Semester Supervision'!F50/50","v":0},{"$f":"'Semester Supervision'!G50/50","v":0},{"$f":"'Semester Supervision'!H50/50","v":0},{"$f":"'Semester Supervision'!I50/50","v":0}]
[{"$f":"'Semester Supervision'!A51","v":"00:00:00"},{"$f":"'Semester Supervision'!B51","v":0},{"$f":"'Semester Supervision'!C51/50","v":0},{"$f":"'Semester Supervision'!D51/50","v":0},{"$f":"'Semester Supervision'!E51/50","v":0},{"$f":"'Semester Supervision'!F51/50","v":0},{"$f":"'Semester Supervision'!G51/50","v":0},{"$f":"'Semester Supervision'!H51/50","v":0},{"$f":"'Semester Supervision'!I51/50","v":0}]
[{"$f":"'Semester Supervision'!A52","v":"00:00:00"},{"$f":"'Semester Supervision'!B52","v":0},{"$f":"'Semester Supervision'!C52/50","v":0},{"$f":"'Semester Supervision'!D52/50","v":0},{"$f":"'Semester Supervision'!E52/50","v":0},{"$f":"'Semester Supervision'!F52/50","v":0},{"$f":"'Semester Supervision'!G52/50","v":0},{"$f":"'Semester Supervision'!H52/50","v":0},{"$f":"'Semester Supervision'!I52/50","v":0}]
[{"$f":"'Semester Supervision'!A53","v":"00:00:00"},{"$f":"'Semester Supervision'!B53","v":0},{"$f":"'Semester Supervision'!C53/50","v":0},{"$f":"'Semester Supervision'!D53/50","v":0},{"$f":"'Semester Supervision'!E53/50","v":0},{"$f":"'Semester Supervision'!F53/50","v":0},{"$f":"'Semester Supervision'!G53/50","v":0},{"$f":"'Semester Supervision'!H53/50","v":0},{"$f":"'Semester Supervision'!I53/50","v":0}]
[{"$f":"'Semester Supervision'!A54","v":"00:00:00"},{"$f":"'Semester Supervision'!B54","v":0},{"$f":"'Semester Supervision'!C54/50","v":0},{"$f":"'Semester Supervision'!D54/50","v":0},{"$f":"'Semester Supervision'!E54/50","v":0},{"$f":"'Semester Supervision'!F54/50","v":0},{"$f":"'Semester Supervision'!G54/50","v":0},{"$f":"'Semester Supervision'!H54/50","v":0},{"$f":"'Semester Supervision'!I54/50","v":0}]
[{"$f":"'Semester Supervision'!A55","v":"00:00:00"},{"$f":"'Semester Supervision'!B55","v":0},{"$f":"'Semester Supervision'!C55/50","v":0},{"$f":"'Semester Supervision'!D55/50","v":0},{"$f":"'Semester Supervision'!E55/50","v":0},{"$f":"'Semester Supervision'!F55/50","v":0},{"$f":"'Semester Supervision'!G55/50","v":0},{"$f":"'Semester Supervision'!H55/50","v":0},{"$f":"'Semester Supervision'!I55/50","v":0}]
[{"$f":"'Semester Supervision'!A56","v":"00:00:00"},{"$f":"'Semester Supervision'!B56","v":0},{"$f":"'Semester Supervision'!C56/50","v":0},{"$f":"'Semester Supervision'!D56/50","v":0},{"$f":"'Semester Supervision'!E56/50","v":0},{"$f":"'Semester Supervision'!F56/50","v":0},{"$f":"'Semester Supervision'!G56/50","v":0},{"$f":"'Semester Supervision'!H56/50","v":0},{"$f":"'Semester Supervision'!I56/50","v":0}]
[{"$f":"'Semester Supervision'!A57","v":"00:00:00"},{"$f":"'Semester Supervision'!B57","v":0},{"$f":"'Semester Supervision'!C57/50","v":0},{"$f":"'Semester Supervision'!D57/50","v":0},{"$f":"'Semester Supervision'!E57/50","v":0},{"$f":"'Semester Supervision'!F57/50","v":0},{"$f":"'Semester Supervision'!G57/50","v":0},{"$f":"'Semester Supervision'!H57/50","v":0},{"$f":"'Semester Supervision'!I57/50","v":0}]
[{"$f":"'Semester Supervision'!A58","v":"00:00:00"},{"$f":"'Semester Supervision'!B58","v":0},{"$f":"'Semester Supervision'!C58/50","v":0},{"$f":"'Semester Supervision'!D58/50","v":0},{"$f":"'Semester Supervision'!E58/50","v":0},{"$f":"'Semester Supervision'!F58/50","v":0},{"$f":"'Semester Supervision'!G58/50","v":0},{"$f":"'Semester Supervision'!H58/50","v":0},{"$f":"'Semester Supervision'!I58/50","v":0}]
[{"$f":"'Semester Supervision'!A59","v":"00:00:00"},{"$f":"'Semester Supervision'!B59","v":0},{"$f":"'Semester Supervision'!C59/50","v":0},{"$f":"'Semester Supervision'!D59/50","v":0},{"$f":"'Semester Supervision'!E59/50","v":0},{"$f":"'Semester Supervision'!F59/50","v":0},{"$f":"'Semester Supervision'!G59/50","v":0},{"$f":"'Semester Supervision'!H59/50","v":0},{"$f":"'Semester Supervision'!I59/50","v":0}]
[{"$f":"'Semester Supervision'!A60","v":"00:00:00"},{"$f":"'Semester Supervision'!B60","v":0},{"$f":"'Semester Supervision'!C60/50","v":0},{"$f":"'Semester Supervision'!D60/50","v":0},{"$f":"'Semester Supervision'!E60/50","v":0},{"$f":"'Semester Supervision'!F60/50","v":0},{"$f":"'Semester Supervision'!G60/50","v":0},{"$f":"'Semester Supervision'!H60/50","v":0},{"$f":"'Semester Supervision'!I60/50","v":0}]
[{"$f":"'Semester Supervision'!A61","v":"00:00:00"},{"$f":"'Semester Supervision'!B61","v":0},{"$f":"'Semester Supervision'!C61/50","v":0},{"$f":"'Semester Supervision'!D61/50","v":0},{"$f":"'Semester Supervision'!E61/50","v":0},{"$f":"'Semester Supervision'!F61/50","v":0},{"$f":"'Semester Supervision'!G61/50","v":0},{"$f":"'Semester Supervision'!H61/50","v":0},{"$f":"'Semester Supervision'!I61/50","v":0}]
[{"$f":"'Semester Supervision'!A62","v":"00:00:00"},{"$f":"'Semester Supervision'!B62","v":0},{"$f":"'Semester Supervision'!C62/50","v":0},{"$f":"'Semester Supervision'!D62/50","v":0},{"$f":"'Semester Supervision'!E62/50","v":0},{"$f":"'Semester Supervision'!F62/50","v":0},{"$f":"'Semester Supervision'!G62/50","v":0},{"$f":"'Semester Supervision'!H62/50","v":0},{"$f":"'Semester Supervision'!I62/50","v":0}]
[{"$f":"'Semester Supervision'!A63","v":"00:00:00"},{"$f":"'Semester Supervision'!B63","v":0},{"$f":"'Semester Supervision'!C63/50","v":0},{"$f":"'Semester Supervision'!D63/50","v":0},{"$f":"'Semester Supervision'!E63/50","v":0},{"$f":"'Semester Supervision'!F63/50","v":0},{"$f":"'Semester Supervision'!G63/50","v":0},{"$f":"'Semester Supervision'!H63/50","v":0},{"$f":"'Semester Supervision'!I63/50","v":0}]
[{"$f":"'Semester Supervision'!A64","v":"00:00:00"},{"$f":"'Semester Supervision'!B64","v":0},{"$f":"'Semester Supervision'!C64/50","v":0},{"$f":"'Semester Supervision'!D64/50","v":0},{"$f":"'Semester Supervision'!E64/50","v":0},{"$f":"'Semester Supervision'!F64/50","v":0},{"$f":"'Semester Supervision'!G64/50","v":0},{"$f":"'Semester Supervision'!H64/50","v":0},{"$f":"'Semester Supervision'!I64/50","v":0}]
[{"$f":"'Semester Supervision'!A65","v":"00:00:00"},{"$f":"'Semester Supervision'!B65","v":0},{"$f":"'Semester Supervision'!C65/50","v":0},{"$f":"'Semester Supervision'!D65/50","v":0},{"$f":"'Semester Supervision'!E65/50","v":0},{"$f":"'Semester Supervision'!F65/50","v":0},{"$f":"'Semester Supervision'!G65/50","v":0},{"$f":"'Semester Supervision'!H65/50","v":0},{"$f":"'Semester Supervision'!I65/50","v":0}]
[{"$f":"'Semester Supervision'!A66","v":"00:00:00"},{"$f":"'Semester Supervision'!B66","v":0},{"$f":"'Semester Supervision'!C66/50","v":0},{"$f":"'Semester Supervision'!D66/50","v":0},{"$f":"'Semester Supervision'!E66/50","v":0},{"$f":"'Semester Supervision'!F66/50","v":0},{"$f":"'Semester Supervision'!G66/50","v":0},{"$f":"'Semester Supervision'!H66/50","v":0},{"$f":"'Semester Supervision'!I66/50","v":0}]
[{"$f":"'Semester Supervision'!A67","v":"00:00:00"},{"$f":"'Semester Supervision'!B67","v":0},{"$f":"'Semester Supervision'!C67/50","v":0},{"$f":"'Semester Supervision'!D67/50","v":0},{"$f":"'Semester Supervision'!E67/50","v":0},{"$f":"'Semester Supervision'!F67/50","v":0},{"$f":"'Semester Supervision'!G67/50","v":0},{"$f":"'Semester Supervision'!H67/50","v":0},{"$f":"'Semester Supervision'!I67/50","v":0}]
[{"$f":"'Semester Supervision'!A68","v":"00:00:00"},{"$f":"'Semester Supervision'!B68","v":0},{"$f":"'Semester Supervision'!C68/50","v":0},{"$f":"'Semester Supervision'!D68/50","v":0},{"$f":"'Semester Supervision'!E68/50","v":0},{"$f":"'Semester Supervision'!F68/50","v":0},{"$f":"'Semester Supervision'!G68/50","v":0},{"$f":"'Semester Supervision'!H68/50","v":0},{"$f":"'Semester Supervision'!I68/50","v":0}]
[{"$f":"'Semester Supervision'!A69","v":"00:00:00"},{"$f":"'Semester Supervision'!B69","v":0},{"$f":"'Semester Supervision'!C69/50","v":0},{"$f":"'Semester Supervision'!D69/50","v":0},{"$f":"'Semester Supervision'!E69/50","v":0},{"$f":"'Semester Supervision'!F69/50","v":0},{"$f":"'Semester Supervision'!G69/50","v":0},{"$f":"'Semester Supervision'!H69/50","v":0},{"$f":"'Semester Supervision'!I69/50","v":0}]
[{"$f":"'Semester Supervision'!A70","v":"00:00:00"},{"$f":"'Semester Supervision'!B70","v":0},{"$f":"'Semester Supervision'!C70/50","v":0},{"$f":"'Semester Supervision'!D70/50","v":0},{"$f":"'Semester Supervision'!E70/50","v":0},{"$f":"'Semester Supervision'!F70/50","v":0},{"$f":"'Semester Supervision'!G70/50","v":0},{"$f":"'Semester Supervision'!H70/50","v":0},{"$f":"'Semester Supervision'!I70/50","v":0}]
[{"$f":"'Semester Supervision'!A71","v":"00:00:00"},{"$f":"'Semester Supervision'!B71","v":0},{"$f":"'Semester Supervision'!C71/50","v":0},{"$f":"'Semester Supervision'!D71/50","v":0},{"$f":"'Semester Supervision'!E71/50","v":0},{"$f":"'Semester Supervision'!F71/50","v":0},{"$f":"'Semester Supervision'!G71/50","v":0},{"$f":"'Semester Supervision'!H71/50","v":0},{"$f":"'Semester Supervision'!I71/50","v":0}]
[{"$f":"'Semester Supervision'!A72","v":"00:00:00"},{"$f":"'Semester Supervision'!B72","v":0},{"$f":"'Semester Supervision'!C72/50","v":0},{"$f":"'Semester Supervision'!D72/50","v":0},{"$f":"'Semester Supervision'!E72/50","v":0},{"$f":"'Semester Supervision'!F72/50","v":0},{"$f":"'Semester Supervision'!G72/50","v":0},{"$f":"'Semester Supervision'!H72/50","v":0},{"$f":"'Semester Supervision'!I72/50","v":0}]
[{"$f":"'Semester Supervision'!A73","v":"00:00:00"},{"$f":"'Semester Supervision'!B73","v":0},{"$f":"'Semester Supervision'!C73/50","v":0},{"$f":"'Semester Supervision'!D73/50","v":0},{"$f":"'Semester Supervision'!E73/50","v":0},{"$f":"'Semester Supervision'!F73/50","v":0},{"$f":"'Semester Supervision'!G73/50","v":0},{"$f":"'Semester Supervision'!H73/50","v":0},{"$f":"'Semester Supervision'!I73/50","v":0}]
[{"$f":"'Semester Supervision'!A74","v":"00:00:00"},{"$f":"'Semester Supervision'!B74","v":0},{"$f":"'Semester Supervision'!C74/50","v":0},{"$f":"'Semester Supervision'!D74/50","v":0},{"$f":"'Semester Supervision'!E74/50","v":0},{"$f":"'Semester Supervision'!F74/50","v":0},{"$f":"'Semester Supervision'!G74/50","v":0},{"$f":"'Semester Supervision'!H74/50","v":0},{"$f":"'Semester Supervision'!I74/50","v":0}]
[{"$f":"'Semester Supervision'!A75","v":"00:00:00"},{"$f":"'Semester Supervision'!B75","v":0},{"$f":"'Semester Supervision'!C75/50","v":0},{"$f":"'Semester Supervision'!D75/50","v":0},{"$f":"'Semester Supervision'!E75/50","v":0},{"$f":"'Semester Supervision'!F75/50","v":0},{"$f":"'Semester Supervision'!G75/50","v":0},{"$f":"'Semester Supervision'!H75/50","v":0},{"$f":"'Semester Supervision'!I75/50","v":0}]
[{"$f":"'Semester Supervision'!A76","v":"00:00:00"},{"$f":"'Semester Supervision'!B76","v":0},{"$f":"'Semester Supervision'!C76/50","v":0},{"$f":"'Semester Supervision'!D76/50","v":0},{"$f":"'Semester Supervision'!E76/50","v":0},{"$f":"'Semester Supervision'!F76/50","v":0},{"$f":"'Semester Supervision'!G76/50","v":0},{"$f":"'Semester Supervision'!H76/50","v":0},{"$f":"'Semester Supervision'!I76/50","v":0}]
[{"$f":"'Semester Supervision'!A77","v":"00:00:00"},{"$f":"'Semester Supervision'!B77","v":0},{"$f":"'Semester Supervision'!C77/50","v":0},{"$f":"'Semester Supervision'!D77/50","v":0},{"$f":"'Semester Supervision'!E77/50","v":0},{"$f":"'Semester Supervision'!F77/50","v":0},{"$f":"'Semester Supervision'!G77/50","v":0},{"$f":"'Semester Supervision'!H77/50","v":0},{"$f":"'Semester Supervision'!I77/50","v":0}]
[{"$f":"'Semester Supervision'!A78","v":"00:00:00"},{"$f":"'Semester Supervision'!B78","v":0},{"$f":"'Semester Supervision'!C78/50","v":0},{"$f":"'Semester Supervision'!D78/50","v":0},{"$f":"'Semester Supervision'!E78/50","v":0},{"$f":"'Semester Supervision'!F78/50","v":0},{"$f":"'Semester Supervision'!G78/50","v":0},{"$f":"'Semester Supervision'!H78/50","v":0},{"$f":"'Semester Supervision'!I78/50","v":0}]
[{"$f":"'Semester Supervision'!A79","v":"00:00:00"},{"$f":"'Semester Supervision'!B79","v":0},{"$f":"'Semester Supervision'!C79/50","v":0},{"$f":"'Semester Supervision'!D79/50","v":0},{"$f":"'Semester Supervision'!E79/50","v":0},{"$f":"'Semester Supervision'!F79/50","v":0},{"$f":"'Semester Supervision'!G79/50","v":0},{"$f":"'Semester Supervision'!H79/50","v":0},{"$f":"'Semester Supervision'!I79/50","v":0}]
[{"$f":"'Semester Supervision'!A80","v":"00:00:00"},{"$f":"'Semester Supervision'!B80","v":0},{"$f":"'Semester Supervision'!C80/50","v":0},{"$f":"'Semester Supervision'!D80/50","v":0},{"$f":"'Semester Supervision'!E80/50","v":0},{"$f":"'Semester Supervision'!F80/50","v":0},{"$f":"'Semester Supervision'!G80/50","v":0},{"$f":"'Semester Supervision'!H80/50","v":0},{"$f":"'Semester Supervision'!I80/50","v":0}]
[{"$f":"'Semester Supervision'!A81","v":"00:00:00"},{"$f":"'Semester Supervision'!B81","v":0},{"$f":"'Semester Supervision'!C81/50","v":0},{"$f":"'Semester Supervision'!D81/50","v":0},{"$f":"'Semester Supervision'!E81/50","v":0},{"$f":"'Semester Supervision'!F81/50","v":0},{"$f":"'Semester Supervision'!G81/50","v":0},{"$f":"'Semester Supervision'!H81/50","v":0},{"$f":"'Semester Supervision'!I81/50","v":0}]
[{"$f":"'Semester Supervision'!A82","v":"00:00:00"},{"$f":"'Semester Supervision'!B82","v":0},{"$f":"'Semester Supervision'!C82/50","v":0},{"$f":"'Semester Supervision'!D82/50","v":0},{"$f":"'Semester Supervision'!E82/50","v":0},{"$f":"'Semester Supervision'!F82/50","v":0},{"$f":"'Semester Supervision'!G82/50","v":0},{"$f":"'Semester Supervision'!H82/50","v":0},{"$f":"'Semester Supervision'!I82/50","v":0}]
[{"$f":"'Semester Supervision'!A83","v":"00:00:00"},{"$f":"'Semester Supervision'!B83","v":0},{"$f":"'Semester Supervision'!C83/50","v":0},{"$f":"'Semester Supervision'!D83/50","v":0},{"$f":"'Semester Supervision'!E83/50","v":0},{"$f":"'Semester Supervision'!F83/50","v":0},{"$f":"'Semester Supervision'!G83/50","v":0},{"$f":"'Semester Supervision'!H83/50","v":0},{"$f":"'Semester Supervision'!I83/50","v":0}]
[{"$f":"'Semester Supervision'!A84","v":"00:00:00"},{"$f":"'Semester Supervision'!B84","v":0},{"$f":"'Semester Supervision'!C84/50","v":0},{"$f":"'Semester Supervision'!D84/50","v":0},{"$f":"'Semester Supervision'!E84/50","v":0},{"$f":"'Semester Supervision'!F84/50","v":0},{"$f":"'Semester Supervision'!G84/50","v":0},{"$f":"'Semester Supervision'!H84/50","v":0},{"$f":"'Semester Supervision'!I84/50","v":0}]
[{"$f":"'Semester Supervision'!A85","v":"00:00:00"},{"$f":"'Semester Supervision'!B85","v":0},{"$f":"'Semester Supervision'!C85/50","v":0},{"$f":"'Semester Supervision'!D85/50","v":0},{"$f":"'Semester Supervision'!E85/50","v":0},{"$f":"'Semester Supervision'!F85/50","v":0},{"$f":"'Semester Supervision'!G85/50","v":0},{"$f":"'Semester Supervision'!H85/50","v":0},{"$f":"'Semester Supervision'!I85/50","v":0}]
[{"$f":"'Semester Supervision'!A86","v":"00:00:00"},{"$f":"'Semester Supervision'!B86","v":0},{"$f":"'Semester Supervision'!C86/50","v":0},{"$f":"'Semester Supervision'!D86/50","v":0},{"$f":"'Semester Supervision'!E86/50","v":0},{"$f":"'Semester Supervision'!F86/50","v":0},{"$f":"'Semester Supervision'!G86/50","v":0},{"$f":"'Semester Supervision'!H86/50","v":0},{"$f":"'Semester Supervision'!I86/50","v":0}]
[{"$f":"'Semester Supervision'!A87","v":"00:00:00"},{"$f":"'Semester Supervision'!B87","v":0},{"$f":"'Semester Supervision'!C87/50","v":0},{"$f":"'Semester Supervision'!D87/50","v":0},{"$f":"'Semester Supervision'!E87/50","v":0},{"$f":"'Semester Supervision'!F87/50","v":0},{"$f":"'Semester Supervision'!G87/50","v":0},{"$f":"'Semester Supervision'!H87/50","v":0},{"$f":"'Semester Supervision'!I87/50","v":0}]
[{"$f":"'Semester Supervision'!A88","v":"00:00:00"},{"$f":"'Semester Supervision'!B88","v":0},{"$f":"'Semester Supervision'!C88/50","v":0},{"$f":"'Semester Supervision'!D88/50","v":0},{"$f":"'Semester Supervision'!E88/50","v":0},{"$f":"'Semester Supervision'!F88/50","v":0},{"$f":"'Semester Supervision'!G88/50","v":0},{"$f":"'Semester Supervision'!H88/50","v":0},{"$f":"'Semester Supervision'!I88/50","v":0}]
[{"$f":"'Semester Supervision'!A89","v":"00:00:00"},{"$f":"'Semester Supervision'!B89","v":0},{"$f":"'Semester Supervision'!C89/50","v":0},{"$f":"'Semester Supervision'!D89/50","v":0},{"$f":"'Semester Supervision'!E89/50","v":0},{"$f":"'Semester Supervision'!F89/50","v":0},{"$f":"'Semester Supervision'!G89/50","v":0},{"$f":"'Semester Supervision'!H89/50","v":0},{"$f":"'Semester Supervision'!I89/50","v":0}]
[{"$f":"'Semester Supervision'!A90","v":"00:00:00"},{"$f":"'Semester Supervision'!B90","v":0},{"$f":"'Semester Supervision'!C90/50","v":0},{"$f":"'Semester Supervision'!D90/50","v":0},{"$f":"'Semester Supervision'!E90/50","v":0},{"$f":"'Semester Supervision'!F90/50","v":0},{"$f":"'Semester Supervision'!G90/50","v":0},{"$f":"'Semester Supervision'!H90/50","v":0},{"$f":"'Semester Supervision'!I90/50","v":0}]
[{"$f":"'Semester Supervision'!A91","v":"00:00:00"},{"$f":"'Semester Supervision'!B91","v":0},{"$f":"'Semester Supervision'!C91/50","v":0},{"$f":"'Semester Supervision'!D91/50","v":0},{"$f":"'Semester Supervision'!E91/50","v":0},{"$f":"'Semester Supervision'!F91/50","v":0},{"$f":"'Semester Supervision'!G91/50","v":0},{"$f":"'Semester Supervision'!H91/50","v":0},{"$f":"'Semester Supervision'!I91/50","v":0}]
[{"$f":"'Semester Supervision'!A92","v":"00:00:00"},{"$f":"'Semester Supervision'!B92","v":0},{"$f":"'Semester Supervision'!C92/50","v":0},{"$f":"'Semester Supervision'!D92/50","v":0},{"$f":"'Semester Supervision'!E92/50","v":0},{"$f":"'Semester Supervision'!F92/50","v":0},{"$f":"'Semester Supervision'!G92/50","v":0},{"$f":"'Semester Supervision'!H92/50","v":0},{"$f":"'Semester Supervision'!I92/50","v":0}]
[{"$f":"'Semester Supervision'!A93","v":"00:00:00"},{"$f":"'Semester Supervision'!B93","v":0},{"$f":"'Semester Supervision'!C93/50","v":0},{"$f":"'Semester Supervision'!D93/50","v":0},{"$f":"'Semester Supervision'!E93/50","v":0},{"$f":"'Semester Supervision'!F93/50","v":0},{"$f":"'Semester Supervision'!G93/50","v":0},{"$f":"'Semester Supervision'!H93/50","v":0},{"$f":"'Semester Supervision'!I93/50","v":0}]
[{"$f":"'Semester Supervision'!A94","v":"00:00:00"},{"$f":"'Semester Supervision'!B94","v":0},{"$f":"'Semester Supervision'!C94/50","v":0},{"$f":"'Semester Supervision'!D94/50","v":0},{"$f":"'Semester Supervision'!E94/50","v":0},{"$f":"'Semester Supervision'!F94/50","v":0},{"$f":"'Semester Supervision'!G94/50","v":0},{"$f":"'Semester Supervision'!H94/50","v":0},{"$f":"'Semester Supervision'!I94/50","v":0}]
[{"$f":"'Semester Supervision'!A95","v":"00:00:00"},{"$f":"'Semester Supervision'!B95","v":0},{"$f":"'Semester Supervision'!C95/50","v":0},{"$f":"'Semester Supervision'!D95/50","v":0},{"$f":"'Semester Supervision'!E95/50","v":0},{"$f":"'Semester Supervision'!F95/50","v":0},{"$f":"'Semester Supervision'!G95/50","v":0},{"$f":"'Semester Supervision'!H95/50","v":0},{"$f":"'Semester Supervision'!I95/50","v":0}]
[{"$f":"'Semester Supervision'!A96","v":"00:00:00"},{"$f":"'Semester Supervision'!B96","v":0},{"$f":"'Semester Supervision'!C96/50","v":0},{"$f":"'Semester Supervision'!D96/50","v":0},{"$f":"'Semester Supervision'!E96/50","v":0},{"$f":"'Semester Supervision'!F96/50","v":0},{"$f":"'Semester Supervision'!G96/50","v":0},{"$f":"'Semester Supervision'!H96/50","v":0},{"$f":"'Semester Supervision'!I96/50","v":0}]
[{"$f":"'Semester Supervision'!A97","v":"00:00:00"},{"$f":"'Semester Supervision'!B97","v":0},{"$f":"'Semester Supervision'!C97/50","v":0},{"$f":"'Semester Supervision'!D97/50","v":0},{"$f":"'Semester Supervision'!E97/50","v":0},{"$f":"'Semester Supervision'!F97/50","v":0},{"$f":"'Semester Supervision'!G97/50","v":0},{"$f":"'Semester Supervision'!H97/50","v":0},{"$f":"'Semester Supervision'!I97/50","v":0}]
[{"$f":"'Semester Supervision'!A98","v":"00:00:00"},{"$f":"'Semester Supervision'!B98","v":0},{"$f":"'Semester Supervision'!C98/50","v":0},{"$f":"'Semester Supervision'!D98/50","v":0},{"$f":"'Semester Supervision'!E98/50","v":0},{"$f":"'Semester Supervision'!F98/50","v":0},{"$f":"'Semester Supervision'!G98/50","v":0},{"$f":"'Semester Supervision'!H98/50","v":0},{"$f":"'Semester Supervision'!I98/50","v":0}]
[{"$f":"'Semester Supervision'!A99","v":"00:00:00"},{"$f":"'Semester Supervision'!B99","v":0},{"$f":"'Semester Supervision'!C99/50","v":0},{"$f":"'Semester Supervision'!D99/50","v":0},{"$f":"'Semester Supervision'!E99/50","v":0},{"$f":"'Semester Supervision'!F99/50","v":0},{"$f":"'Semester Supervision'!G99/50","v":0},{"$f":"'Semester Supervision'!H99/50","v":0},{"$f":"'Semester Supervision'!I99/50","v":0}]
[{"$f":"'Semester Supervision'!A100","v":"00:00:00"},{"$f":"'Semester Supervision'!B100","v":0},{"$f":"'Semester Supervision'!C100/50","v":0},{"$f":"'Semester Supervision'!D100/50","v":0},{"$f":"'Semester Supervision'!E100/50","v":0},{"$f":"'Semester Supervision'!F100/50","v":0},{"$f":"'Semester Supervision'!G100/50","v":0},{"$f":"'Semester Supervision'!H100/50","v":0},{"$f":"'Semester Supervision'!I100/50","v":0}]

{"sheet":"Semester Therapy","index":3,"n_rows":13,"n_cols":14,"rows_kept":13,"cut":false,"hidden":false,"merged":[[11,0,11,13],[0,0,0,13],[1,0,1,13],[2,0,2,13],[3,0,3,13],[4,0,4,13],[5,0,5,13],[6,0,6,13],[7,0,7,13],[8,0,8,13],[9,0,9,13],[10,0,10,13]]}
["Reporting for Therapy Hours"]
["Guidelines:"]
["Individual - One client."]
["Couple - Two clients in a therapy room where their relationship is the focus of treatment."]
["Family - Two or more family members in the therapy room."]
["Group Individual - Group therapy with the above definitions."]
["Group Couple - Group therapy with the above definitions."]
["Group Family - Group therapy with the above definitions."]
["Team/Psychoeducation - See MFT policy approved September 24, 2001. Reflecting Team where you are following/assigned to the case. Usually only happens in Angela's practicum."]
["Hour - 50 minutes. Keep track of therapy minutes and at the end of the semester divide by 50."]
[]
["Hours for Mode of Therapy by System in Therapy"]
["Date","Client #","Indiv/ Indiv","Indiv/ Couple","Indiv/ Family","Group/ Indiv.","Group/ Couple","Group/ Family","Psychoed /Indiv.","Psychoed /Couple","Psychoed /Family","Team/ Indiv.","Team/ Couple","Team/ Family"]

{"sheet":"Semester Supervision","index":4,"n_rows":12,"n_cols":9,"rows_kept":12,"cut":false,"hidden":false,"merged":[[10,0,10,8],[0,0,0,8],[1,0,1,8],[2,0,2,8],[3,0,3,8],[4,0,4,8],[5,0,5,8],[6,0,7,8],[8,0,8,8],[9,0,9,8]]}
["Reporting for Supervision Hours"]
["Guidelines:"]
["Individual Live - Supervision of your cases by a supervisor directly observing your work."]
["Individual Video - Your case(s) being reviewed by a supervisor using video tape play back with 1 or 2 supervisees present."]
["Group Live - You participate in the supervision of others cases being directly observed by a supervisor."]
["Group Video - Your observe the cases of others as they are being reviewed by a supervisor with 3 to 6 in the group."]
["Individual Case Report/Process Notes and Group Case Report/Process Notes - Discussion of cases with one or two supervisees present, without presentation of video, audio or live case material."]
[]
["Team - You observe and develop treatment interventions as part of a therapeutic team."]
[]
["Hours for Mode of Therapy by System in Therapy"]
["Date","Supervisor","Indiv/ Live","Indiv/ Video","Indiv/Case Report","Group/ Live","Group/ Video","Group/Case Report","Team/ Live"]

{"sheet":"AmeriCorps","index":5,"n_rows":15,"n_cols":6,"rows_kept":15,"cut":false,"hidden":false,"merged":[]}
["Month","Hours","Grand Total:",{"$f":"SUM(B2:B1048576)","v":0},null,"TERM"]
["September",null,"To Go:",{"$f":"IF(F2=\"300-hour\",300-D1,IF(F2=\"450-hour\",450-D1,IF(F2=\"675-hour\",675-D1,\"\")))","v":300},null,"300-hour"]
["October"]
["November"]
["December"]
["January"]
["February"]
["March"]
["April"]
["May"]
["June"]
["July"]
["August"]
["September"]
["October"]

{"sheet":"Caseload","index":6,"n_rows":27,"n_cols":17,"rows_kept":27,"cut":false,"hidden":false,"merged":[[0,0,0,1]]}
["Today's Date",null,{"$f":"TODAY()","v":"2022-11-28"},"Sessions today",{"$f":"SUM(Q3:Q1048576)","v":0},"Last Edited"]
["Case","Type","Language","Next session scheduled?","When?","Active?","Terminating soon?","Sessions Completed","Price?","Paid? If not, how many owed?","Therapy Model","Treatment Plan Needed?","Treatment plan complete?","In PRN?","Big PRN Next?","Warned about PRN?"]
[null,null,null,{"$f":"IF(E3=\"\", \"\", IF(E3=\"TBD\",\"No\",IF(_xlfn.DAYS(E3,TODAY())<1,\"No\", \"Yes\")))","v":""},null,null,null,null,null,null,null,{"$f":"IF(H3=\"\", \"\", IF(H3>2, \"Yes\", \"No\"))","v":""},null,null,{"$f":"IF(H3=\"\", \"\", IF(OR(C3=\"SP\", C3=\"FR\", C3=\"CH\", C3=\"Other\"), \"No\", IF(OR(H3+1=1, H3+1=4, H3+1=8, H3+1=12, H3+1=16, H3+1=20, H3+1=24, H3+1=32, H3+1=40), \"Yes\", \"No\")))","v":""},null,{"$f":"IF(E3=C1, 1, \"\")","v":""}]
[null,null,null,{"$f":"IF(E4=\"\", \"\", IF(E4=\"TBD\",\"No\",IF(_xlfn.DAYS(E4,TODAY())<1,\"No\", \"Yes\")))","v":""},null,null,null,null,null,null,null,"",null,null,{"$f":"IF(H4=\"\", \"\", IF(OR(C4=\"SP\", C4=\"FR\", C4=\"CH\", C4=\"Other\"), \"No\", IF(OR(H4+1=1, H4+1=4, H4+1=8, H4+1=12, H4+1=16, H4+1=20, H4+1=24, H4+1=32, H4+1=40), \"Yes\", \"No\")))","v":""},null,{"$f":"IF(E4=C1, 1, \"\")","v":""}]
[null,null,null,"",null,null,null,null,null,null,null,"",null,null,"",null,{"$f":"IF(E5=C1, 1, \"\")","v":""}]
[null,null,null,"",null,null,null,null,null,null,null,"",null,null,"",null,{"$f":"IF(E6=C1, 1, \"\")","v":""}]
[null,null,null,"",null,null,null,null,null,null,null,"",null,null,"",null,{"$f":"IF(E7=C1, 1, \"\")","v":""}]
[null,null,null,"",null,null,null,null,null,null,null,"",null,null,"",null,{"$f":"IF(E8=C1, 1, \"\")","v":""}]
[null,null,null,"",null,null,null,null,null,null,null,"",null,null,"",null,{"$f":"IF(E9=C1, 1, \"\")","v":""}]
[null,null,null,"",null,null,null,null,null,null,null,"",null,null,"",null,{"$f":"IF(E10=C1, 1, \"\")","v":""}]
[null,null,null,"",null,null,null,null,null,null,null,"",null,null,"",null,{"$f":"IF(E11=C1, 1, \"\")","v":""}]
[null,null,null,"",null,null,null,null,null,null,null,"",null,null,"",null,{"$f":"IF(E12=C1, 1, \"\")","v":""}]
[null,null,null,"",null,null,null,null,null,null,null,"",null,null,"",null,{"$f":"IF(E13=C1, 1, \"\")","v":""}]
[null,null,null,"",null,null,null,null,null,null,null,"",null,null,"",null,{"$f":"IF(E14=C1, 1, \"\")","v":""}]
[null,null,null,"",null,null,null,null,null,null,null,"",null,null,"",null,{"$f":"IF(E15=C1, 1, \"\")","v":""}]
[null,null,null,"",null,null,null,null,null,null,null,"",null,null,"",null,{"$f":"IF(E16=C1, 1, \"\")","v":""}]
[null,null,null,"",null,null,null,null,null,null,null,"",null,null,"",null,{"$f":"IF(E17=C1, 1, \"\")","v":""}]
[null,null,null,"",null,null,null,null,null,null,null,"",null,null,"",null,{"$f":"IF(E18=C1, 1, \"\")","v":""}]
[null,null,null,"",null,null,null,null,null,null,null,"",null,null,"",null,{"$f":"IF(E19=C1, 1, \"\")","v":""}]
[null,null,null,{"$f":"IF(E20=\"\", \"\", IF(E20=\"TBD\",\"No\",IF(_xlfn.DAYS(E20,TODAY())<1,\"No\", \"Yes\")))","v":""},null,null,null,null,null,null,null,"",null,null,"",null,{"$f":"IF(E20=C1, 1, \"\")","v":""}]
[null,null,null,"",null,null,null,null,null,null,null,"",null,null,"",null,{"$f":"IF(E21=C1, 1, \"\")","v":""}]
[null,null,null,"",null,null,null,null,null,null,null,"",null,null,"",null,{"$f":"IF(E22=C1, 1, \"\")","v":""}]
[null,null,null,"",null,null,null,null,null,null,null,"",null,null,""]
[null,null,null,"",null,null,null,null,null,null,null,"",null,null,""]
[null,null,null,"",null,null,null,null,null,null,null,"",null,null,""]
[null,null,null,"",null,null,null,null,null,null,null,"",null,null,""]
[null,null,null,"",null,null,null,null,null,null,null,"",null,null,""]

{"sheet":"Formula Info","index":7,"n_rows":8,"n_cols":8,"rows_kept":8,"cut":false,"hidden":false,"merged":[[0,2,0,7]]}
["Today's Date",null,"Expected Graduation Info"]
[{"$f":"TODAY()","v":"2022-11-28"},null,"Graduation","Date","Days Between Today and Grad","Weeks Between Today and Grad","Clients/Week","Clients per week message"]
[null,null,"Aug '23","2023-07-01",{"$f":"NETWORKDAYS(A2,D3)","v":155},{"$f":"E3/5","v":31},{"$f":"ROUNDUP(Summary!L12/'Formula Info'!F3, 1)","v":0},{"$f":"_xlfn.CONCAT(G3, \" clients per week\")","v":"0 clients per week"}]
[null,null,"Aug '24","2024-07-01",{"$f":"NETWORKDAYS(A2,D4)","v":416},83.2,{"$f":"ROUNDUP(Summary!L12/'Formula Info'!F4, 1)","v":0},"0 clients per week"]
[null,null,"Aug '25","2025-07-01",{"$f":"NETWORKDAYS(A2,D5)","v":677},{"$f":"E5/5","v":135.4},{"$f":"ROUNDUP(Summary!L16/'Formula Info'!F5, 1)","v":3.7},{"$f":"_xlfn.CONCAT(G5, \" clients per week\")","v":"3.7 clients per week"}]
[null,null,"Aug '26","2026-07-01",{"$f":"NETWORKDAYS(A2,D6)","v":938},187.6,{"$f":"ROUNDUP(Summary!L16/'Formula Info'!F6, 1)","v":2.7},"2.7 clients per week"]
[null,null,"Aug '27","2027-07-01",{"$f":"NETWORKDAYS(A2,D7)","v":1199},239.8,{"$f":"ROUNDUP(Summary!L16/'Formula Info'!F7, 1)","v":2.1},"2.1 clients per week"]
[null,null,"Aug '28","2028-07-01",{"$f":"NETWORKDAYS(A2,D8)","v":1460},292,{"$f":"ROUNDUP(Summary!L16/'Formula Info'!F8, 1)","v":1.8},"1.8 clients per week"]